Win32-GUI v1.14 Perl 5 v5.27.11 MSWin32-x86-multi-thread-64int
- Status
- Pass
- From
- Alexandr Ciornii (CHORNY)
- Dist
-
Win32-GUI v1.14
- Platform
- Perl 5 v5.27.11 MSWin32-x86-multi-thread-64int
- Date
- 2018-05-13 00:09:11
- ID
- f6b9cb7a-6c1f-1014-8c04-117c3d6665f9
This distribution has been tested as part of the CPAN Testers
project, supporting the Perl programming language. See
http://wiki.cpantesters.org/ for more information or email
questions to cpan-testers-discuss@perl.org
--
Dear kmx,
This is a computer-generated report for Win32-GUI-1.14
on perl 5.27.11, created by CPAN-Reporter-1.2018.
Thank you for uploading your work to CPAN. Congratulations!
All tests were successful.
Sections of this report:
* Tester comments
* Program output
* Prerequisites
* Environment and other context
------------------------------
TESTER COMMENTS
------------------------------
Additional comments from tester:
this report is from an automated smoke testing program
and was not reviewed by a human for accuracy
------------------------------
PROGRAM OUTPUT
------------------------------
Output from 'C:\STRAWB~1\c\bin\gmake.exe test':
"C:\Strawberry2711\perl\bin\perl.exe" -MExtUtils::Command::MM -e cp_nonempty -- GUI.bs blib\arch\auto\Win32\GUI\GUI.bs 644
gmake[1]: Entering directory 'C:/STRAWB~1/cpan/build/Win32-GUI-1.14-0/Win32-GUI_AxWindow'
gmake[1]: Nothing to be done for 'all'.
gmake[1]: Leaving directory 'C:/STRAWB~1/cpan/build/Win32-GUI-1.14-0/Win32-GUI_AxWindow'
gmake[1]: Entering directory 'C:/STRAWB~1/cpan/build/Win32-GUI-1.14-0/Win32-GUI_BitmapInline'
gmake[1]: Leaving directory 'C:/STRAWB~1/cpan/build/Win32-GUI-1.14-0/Win32-GUI_BitmapInline'
gmake[1]: Entering directory 'C:/STRAWB~1/cpan/build/Win32-GUI-1.14-0/Win32-GUI_Constants'
gmake[2]: Entering directory 'C:/STRAWB~1/cpan/build/Win32-GUI-1.14-0/Win32-GUI_Constants/hash'
gmake[2]: Nothing to be done for 'all'.
gmake[2]: Leaving directory 'C:/STRAWB~1/cpan/build/Win32-GUI-1.14-0/Win32-GUI_Constants/hash'
"C:\Strawberry2711\perl\bin\perl.exe" -MExtUtils::Command::MM -e cp_nonempty -- Constants.bs ..\blib\arch\auto\Win32\GUI\Constants\Constants.bs 644
gmake[1]: Leaving directory 'C:/STRAWB~1/cpan/build/Win32-GUI-1.14-0/Win32-GUI_Constants'
gmake[1]: Entering directory 'C:/STRAWB~1/cpan/build/Win32-GUI-1.14-0/Win32-GUI_DIBitmap'
gmake[1]: Nothing to be done for 'all'.
gmake[1]: Leaving directory 'C:/STRAWB~1/cpan/build/Win32-GUI-1.14-0/Win32-GUI_DIBitmap'
gmake[1]: Entering directory 'C:/STRAWB~1/cpan/build/Win32-GUI-1.14-0/Win32-GUI_DropFiles'
"C:\Strawberry2711\perl\bin\perl.exe" -MExtUtils::Command::MM -e cp_nonempty -- DropFiles.bs ..\blib\arch\auto\Win32\GUI\DropFiles\DropFiles.bs 644
gmake[1]: Leaving directory 'C:/STRAWB~1/cpan/build/Win32-GUI-1.14-0/Win32-GUI_DropFiles'
gmake[1]: Entering directory 'C:/STRAWB~1/cpan/build/Win32-GUI-1.14-0/Win32-GUI_Grid'
gmake[1]: Nothing to be done for 'all'.
gmake[1]: Leaving directory 'C:/STRAWB~1/cpan/build/Win32-GUI-1.14-0/Win32-GUI_Grid'
gmake[1]: Entering directory 'C:/STRAWB~1/cpan/build/Win32-GUI-1.14-0/Win32-GUI_ReleaseNotes'
gmake[1]: Leaving directory 'C:/STRAWB~1/cpan/build/Win32-GUI-1.14-0/Win32-GUI_ReleaseNotes'
gmake[1]: Entering directory 'C:/STRAWB~1/cpan/build/Win32-GUI-1.14-0/Win32-GUI_Scintilla'
"C:\Strawberry2711\perl\bin\perl.exe" -MExtUtils::Command::MM -e cp_nonempty -- Scintilla.bs ..\blib\arch\auto\Win32\GUI\Scintilla\Scintilla.bs 644
gmake[1]: Leaving directory 'C:/STRAWB~1/cpan/build/Win32-GUI-1.14-0/Win32-GUI_Scintilla'
gmake[1]: Entering directory 'C:/STRAWB~1/cpan/build/Win32-GUI-1.14-0/Win32-GUI_AxWindow'
gmake[1]: Nothing to be done for 'test_dynamic'.
gmake[1]: Leaving directory 'C:/STRAWB~1/cpan/build/Win32-GUI-1.14-0/Win32-GUI_AxWindow'
gmake[1]: Entering directory 'C:/STRAWB~1/cpan/build/Win32-GUI-1.14-0/Win32-GUI_BitmapInline'
"C:\Strawberry2711\perl\bin\perl.exe" "-MExtUtils::Command::MM" "-MTest::Harness" "-e" "undef *Test::Harness::Switches; test_harness(0, '..\blib\lib', '..\blib\arch')" t/*.t
t/01_load.t .......... ok
t/02_public_api.t .... ok
t/03_inline.t ........ ok
t/04_new.t ........... ok
t/05_newCursor.t ..... ok
t/06_newIcon.t ....... ok
t/98_pod.t ........... skipped: Pod tests for Win32::GUI::BitmapInline done by core
t/99_pod_coverage.t .. skipped: Pod Coverage tests for Win32::GUI::BitmapInline done by core
All tests successful.
Files=8, Tests=30, 4 wallclock secs ( 0.07 usr + 0.12 sys = 0.19 CPU)
Result: PASS
gmake[1]: Leaving directory 'C:/STRAWB~1/cpan/build/Win32-GUI-1.14-0/Win32-GUI_BitmapInline'
gmake[1]: Entering directory 'C:/STRAWB~1/cpan/build/Win32-GUI-1.14-0/Win32-GUI_Constants'
"C:\Strawberry2711\perl\bin\perl.exe" -MExtUtils::Command::MM -e cp_nonempty -- Constants.bs ..\blib\arch\auto\Win32\GUI\Constants\Constants.bs 644
gmake[2]: Entering directory 'C:/STRAWB~1/cpan/build/Win32-GUI-1.14-0/Win32-GUI_Constants/hash'
gmake[2]: Nothing to be done for 'all'.
gmake[2]: Leaving directory 'C:/STRAWB~1/cpan/build/Win32-GUI-1.14-0/Win32-GUI_Constants/hash'
gmake[2]: Entering directory 'C:/STRAWB~1/cpan/build/Win32-GUI-1.14-0/Win32-GUI_Constants/hash'
gmake[2]: Nothing to be done for 'test_dynamic'.
gmake[2]: Leaving directory 'C:/STRAWB~1/cpan/build/Win32-GUI-1.14-0/Win32-GUI_Constants/hash'
"C:\Strawberry2711\perl\bin\perl.exe" "-MExtUtils::Command::MM" "-MTest::Harness" "-e" "undef *Test::Harness::Switches; test_harness(0, '..\blib\lib', '..\blib\arch')" t/*.t
t/01_load.t .......................... ok
t/02_default.t ....................... ok
t/03_inline.t ........................ ok
t/04_noexport.t ...................... ok
t/05_export_byname.t ................. ok
t/06_export_bytag.t .................. ok
t/07_nothing.t ....................... ok
t/08_exportpkg.t ..................... ok
t/09_autoload.t ...................... ok
t/10_inherit.t ....................... ok
t/50_tags_compatability_win32_gui.t .. ok
t/51_tags_all.t ...................... ok
t/52_tags.t .......................... ok
t/70_values.t ........................ ok
t/71_invalid_values.t ................ ok
t/97_Version.t ....................... ok
t/98_pod.t ........................... skipped: Pod tests for Win32::GUI::Constants done by core
t/99_pod_coverage.t .................. skipped: Pod Coverage tests for Win32::GUI::Constants done by core
All tests successful.
Files=18, Tests=2182, 15 wallclock secs ( 0.14 usr + 0.53 sys = 0.67 CPU)
Result: PASS
gmake[1]: Leaving directory 'C:/STRAWB~1/cpan/build/Win32-GUI-1.14-0/Win32-GUI_Constants'
gmake[1]: Entering directory 'C:/STRAWB~1/cpan/build/Win32-GUI-1.14-0/Win32-GUI_DIBitmap'
gmake[1]: Nothing to be done for 'test_dynamic'.
gmake[1]: Leaving directory 'C:/STRAWB~1/cpan/build/Win32-GUI-1.14-0/Win32-GUI_DIBitmap'
gmake[1]: Entering directory 'C:/STRAWB~1/cpan/build/Win32-GUI-1.14-0/Win32-GUI_DropFiles'
"C:\Strawberry2711\perl\bin\perl.exe" -MExtUtils::Command::MM -e cp_nonempty -- DropFiles.bs ..\blib\arch\auto\Win32\GUI\DropFiles\DropFiles.bs 644
"C:\Strawberry2711\perl\bin\perl.exe" "-MExtUtils::Command::MM" "-MTest::Harness" "-e" "undef *Test::Harness::Switches; test_harness(0, '..\blib\lib', '..\blib\arch')" t/*.t
t/01_load.t ............. ok
t/02_old_callback.t ..... ok
t/03_new_callback.t ..... ok
t/04_GetDroppedFiles.t .. ok
t/05_GetDroppedFile.t ... ok
t/06_GetDropPos.t ....... ok
t/07_DragQueryFile.t .... ok
t/08_DragQueryPoint.t ... ok
t/09_DragFinish.t ....... ok
t/10_Unicode.t .......... skipped: Unicode::String required for testing Unicode Support
t/11_invalid_handles.t .. ok
t/97_Version.t .......... ok
t/98_pod.t .............. skipped: Pod tests for Win32::GUI::DropFiles done by core
t/99_pod_coverage.t ..... skipped: Pod Coverage tests for Win32::GUI::DropFiles done by core
All tests successful.
Files=14, Tests=112, 6 wallclock secs ( 0.16 usr + 0.11 sys = 0.27 CPU)
Result: PASS
gmake[1]: Leaving directory 'C:/STRAWB~1/cpan/build/Win32-GUI-1.14-0/Win32-GUI_DropFiles'
gmake[1]: Entering directory 'C:/STRAWB~1/cpan/build/Win32-GUI-1.14-0/Win32-GUI_Grid'
gmake[1]: Nothing to be done for 'test_dynamic'.
gmake[1]: Leaving directory 'C:/STRAWB~1/cpan/build/Win32-GUI-1.14-0/Win32-GUI_Grid'
gmake[1]: Entering directory 'C:/STRAWB~1/cpan/build/Win32-GUI-1.14-0/Win32-GUI_ReleaseNotes'
"C:\Strawberry2711\perl\bin\perl.exe" "-MExtUtils::Command::MM" "-MTest::Harness" "-e" "undef *Test::Harness::Switches; test_harness(0, '..\blib\lib', '..\blib\arch')" t/*.t
t/98_pod.t .. skipped: Pod tests for Win32::GUI::ReleaseNotes done by core
Files=1, Tests=0, 0 wallclock secs ( 0.07 usr + 0.03 sys = 0.10 CPU)
Result: NOTESTS
gmake[1]: Leaving directory 'C:/STRAWB~1/cpan/build/Win32-GUI-1.14-0/Win32-GUI_ReleaseNotes'
gmake[1]: Entering directory 'C:/STRAWB~1/cpan/build/Win32-GUI-1.14-0/Win32-GUI_Scintilla'
"C:\Strawberry2711\perl\bin\perl.exe" -MExtUtils::Command::MM -e cp_nonempty -- Scintilla.bs ..\blib\arch\auto\Win32\GUI\Scintilla\Scintilla.bs 644
"C:\Strawberry2711\perl\bin\perl.exe" "-MExtUtils::Command::MM" "-MTest::Harness" "-e" "undef *Test::Harness::Switches; test_harness(0, '..\blib\lib', '..\blib\arch')" t/*.t
t/01_load.t .......... ok
t/02_new.t ........... ok
t/03_LoadFile.t ...... ok
t/55_crash.t ......... ok
t/97_Version.t ....... ok
t/98_pod.t ........... skipped: Pod tests for Win32::GUI::Scintilla done by core
t/99_pod_coverage.t .. skipped: Pod Coverage tests for Win32::GUI::Scintilla done by core
All tests successful.
Files=7, Tests=19, 5 wallclock secs ( 0.12 usr + 0.09 sys = 0.21 CPU)
Result: PASS
gmake[1]: Leaving directory 'C:/STRAWB~1/cpan/build/Win32-GUI-1.14-0/Win32-GUI_Scintilla'
"C:\Strawberry2711\perl\bin\perl.exe" "-MExtUtils::Command::MM" "-MTest::Harness" "-e" "undef *Test::Harness::Switches; test_harness(0, 'blib\lib', 'blib\arch')" t/*.t
t/01_basic.t ....................... ok
Use of uninitialized value in subroutine entry at t/02_background.t line 85.
t/02_background.t .................. ok
t/02_constants.t ................... ok
t/02_window.t ...................... ok
t/03_button.t ...................... ok
t/04_cov.t ......................... ok
t/05_AcceleratorTable.t ............ ok
t/05_Menu.t ........................ ok
t/05_NotifyIcon_01_Constructor.t ... ok
t/05_NotifyIcon_02_Change.t ........ ok
t/05_NotifyIcon_03_OtherMethods.t .. ok
t/05_NotifyIcon_04_Remove.t ........ ok
t/05_NotifyIcon_05_DESTROY.t ....... ok
t/05_Timer_01_OEM.t ................ ok
t/05_Timer_02_NEM.t ................ ok
t/05_Timer_03_Interval.t ........... ok
t/05_Timer_04_Kill.t ............... ok
t/05_Timer_05_DESTROY.t ............ ok
t/06_Cursor.t ...................... ok
t/06_Icon.t ........................ ok
t/50_Font_GetMetrics.t ............. ok
t/50_Richedit_GetCharFormat.t ...... ok
t/97_Version.t ..................... ok
t/98_Pod.t ......................... skipped: set TEST_POD to enable this test
t/99_pod_coverage.t ................ skipped: set TEST_POD to enable this test
All tests successful.
Files=25, Tests=335, 22 wallclock secs ( 0.13 usr + 0.22 sys = 0.35 CPU)
Result: PASS
------------------------------
PREREQUISITES
------------------------------
Prerequisite modules loaded:
requires:
Module Need Have
------------------- ---- --------
Test::More 0 1.302136
build_requires:
Module Need Have
------------------- ---- --------
ExtUtils::MakeMaker 0 7.34
configure_requires:
Module Need Have
------------------- ---- --------
ExtUtils::MakeMaker 0 7.34
------------------------------
ENVIRONMENT AND OTHER CONTEXT
------------------------------
Environment variables:
AUTOMATED_TESTING = 1
COMSPEC = C:\WINDOWS\system32\cmd.exe
NUMBER_OF_PROCESSORS = 1
PATH = C:\WINDOWS\system32;C:\WINDOWS;C:\WINDOWS\System32\Wbem;C:\Git\cmd;C:\Strawberry2711\c\bin;C:\Strawberry2711\perl\site\bin;C:\Strawberry2711\perl\bin
PERL5LIB =
PERL5OPT =
PERL5_CPANPLUS_IS_RUNNING = 1896
PERL5_CPAN_IS_RUNNING = 1896
PERL5_CPAN_IS_RUNNING_IN_RECURSION = 1304,1896
PERL_CR_SMOKER_CURRENT = Win32-GUI-1.14
PERL_CR_SMOKER_RUNONCE = 1
PERL_EXTUTILS_AUTOINSTALL = --defaultdeps
PERL_HASH_SEED = 0x11111111
PERL_MM_USE_DEFAULT = 1
PERL_USE_UNSAFE_INC = 1
PROCESSOR_IDENTIFIER = x86 Family 16 Model 5 Stepping 3, AuthenticAMD
TEMP = C:\DOCUME~1\a\LOCALS~1\Temp
Perl special variables (and OS-specific diagnostics, for MSWin32):
$^X = C:\Strawberry2711\perl\bin\perl.exe
$UID/$EUID = 0 / 0
$GID = 0
$EGID = 0
Win32::GetOSName = WinXP/.Net
Win32::GetOSVersion = Service Pack 3, 5, 1, 2600, 2, 3, 0, 256, 1
Win32::FsType = NTFS
Win32::IsAdminUser = 1
Perl module toolchain versions installed:
Module Have
------------------- --------
CPAN 2.20
CPAN::Meta 2.150010
Cwd 3.74
ExtUtils::CBuilder 0.280230
ExtUtils::Command 7.34
ExtUtils::Install 2.14
ExtUtils::MakeMaker 7.34
ExtUtils::Manifest 1.70
ExtUtils::ParseXS 3.39
File::Spec 3.74
JSON 2.97001
JSON::PP 2.97001
Module::Build 0.4224
Module::Signature 0.81
Parse::CPAN::Meta 2.150010
Test::Harness 3.42
Test::More 1.302136
YAML 1.24
YAML::Syck 1.30
version 0.9924
--
Summary of my perl5 (revision 5 version 27 subversion 11) configuration:
Platform:
osname=MSWin32
osvers=5.1.2600
archname=MSWin32-x86-multi-thread-64int
uname='Win32 strawberry-perl 5.27.11.1-beta1 #1 Sat Apr 21 21:04:44 2018 i386'
config_args='undef'
hint=recommended
useposix=true
d_sigaction=undef
useithreads=define
usemultiplicity=define
use64bitint=define
use64bitall=undef
uselongdouble=undef
usemymalloc=n
default_inc_excludes_dot=define
bincompat5005=undef
Compiler:
cc='gcc'
ccflags =' -s -O2 -DWIN32 -D__USE_MINGW_ANSI_STDIO -DPERL_TEXTMODE_SCRIPTS -DPERL_IMPLICIT_CONTEXT -DPERL_IMPLICIT_SYS -DUSE_PERLIO -fwrapv -fno-strict-aliasing -mms-bitfields'
optimize='-s -O2'
cppflags='-DWIN32'
ccversion=''
gccversion='7.1.0'
gccosandvers=''
intsize=4
longsize=4
ptrsize=4
doublesize=8
byteorder=12345678
doublekind=3
d_longlong=define
longlongsize=8
d_longdbl=define
longdblsize=12
longdblkind=3
ivtype='long long'
ivsize=8
nvtype='double'
nvsize=8
Off_t='long long'
lseeksize=8
alignbytes=8
prototype=define
Linker and Libraries:
ld='g++'
ldflags ='-s -L"C:\STRAWB~1\perl\lib\CORE" -L"C:\STRAWB~1\c\lib"'
libpth=C:\STRAWB~1\c\lib C:\STRAWB~1\c\i686-w64-mingw32\lib C:\STRAWB~1\c\lib\gcc\i686-w64-mingw32\7.1.0
libs= -lmoldname -lkernel32 -luser32 -lgdi32 -lwinspool -lcomdlg32 -ladvapi32 -lshell32 -lole32 -loleaut32 -lnetapi32 -luuid -lws2_32 -lmpr -lwinmm -lversion -lodbc32 -lodbccp32 -lcomctl32
perllibs= -lmoldname -lkernel32 -luser32 -lgdi32 -lwinspool -lcomdlg32 -ladvapi32 -lshell32 -lole32 -loleaut32 -lnetapi32 -luuid -lws2_32 -lmpr -lwinmm -lversion -lodbc32 -lodbccp32 -lcomctl32
libc=
so=dll
useshrplib=true
libperl=libperl527.a
gnulibc_version=''
Dynamic Linking:
dlsrc=dl_win32.xs
dlext=xs.dll
d_dlsymun=undef
ccdlflags=' '
cccdlflags=' '
lddlflags='-mdll -s -L"C:\STRAWB~1\perl\lib\CORE" -L"C:\STRAWB~1\c\lib"'
Characteristics of this binary (from libperl):
Compile-time options:
HAS_TIMES
HAVE_INTERP_INTERN
MULTIPLICITY
PERLIO_LAYERS
PERL_COPY_ON_WRITE
PERL_DONT_CREATE_GVSV
PERL_IMPLICIT_CONTEXT
PERL_IMPLICIT_SYS
PERL_MALLOC_WRAP
PERL_OP_PARENT
PERL_PRESERVE_IVUV
USE_64_BIT_INT
USE_ITHREADS
USE_LARGE_FILES
USE_LOCALE
USE_LOCALE_COLLATE
USE_LOCALE_CTYPE
USE_LOCALE_NUMERIC
USE_LOCALE_TIME
USE_PERLIO
USE_PERL_ATOF
Built under MSWin32
Compiled at Apr 21 2018 21:15:44
%ENV:
PERL5_CPANPLUS_IS_RUNNING="1896"
PERL5_CPAN_IS_RUNNING="1896"
PERL5_CPAN_IS_RUNNING_IN_RECURSION="1304,1896"
PERL_CR_SMOKER_CURRENT="Win32-GUI-1.14"
PERL_CR_SMOKER_RUNONCE="1"
PERL_EXTUTILS_AUTOINSTALL="--defaultdeps"
PERL_HASH_SEED="0x11111111"
PERL_MM_USE_DEFAULT="1"
PERL_USE_UNSAFE_INC="1"
@INC:
C:/Strawberry2711/perl/site/lib/MSWin32-x86-multi-thread-64int
C:/Strawberry2711/perl/site/lib
C:/Strawberry2711/perl/vendor/lib
C:/Strawberry2711/perl/lib
.