IO-Stringy v2.113 Perl 5 v5.35.9 darwin-2level

Status
Pass
From
Nigel Horne
Dist
IO-Stringy v2.113
Platform
Perl 5 v5.35.9 darwin-2level
Date
2022-03-15 19:34:43
ID
f6c49e18-a496-11ec-b07d-946f31e81449
This distribution has been tested as part of the CPAN Testers
project, supporting the Perl programming language.  See
http://wiki.cpantesters.org/ for more information or email
questions to cpan-testers-discuss@perl.org


--
Dear Chase Whitener,

This is a computer-generated report for IO-Stringy-2.113
on perl 5.35.9, created by CPAN-Reporter-1.2018.

Thank you for uploading your work to CPAN.  Congratulations!
All tests were successful.

Sections of this report:

    * Tester comments
    * Program output
    * Prerequisites
    * Environment and other context

------------------------------
TESTER COMMENTS
------------------------------

Additional comments from tester:

this report is from an automated smoke testing program
and was not reviewed by a human for accuracy

------------------------------
PROGRAM OUTPUT
------------------------------

Output from '/usr/bin/make test':

PERL_DL_NONLAZY=1 "/Users/nhorne/perl5/perlbrew/perls/perl-5.35.9/bin/perl5.35.9" "-MExtUtils::Command::MM" "-MTest::Harness" "-e" "undef *Test::Harness::Switches; test_harness(0, 'blib/lib', 'blib/arch')" t/*.t
t/IO_Lines.t ........... ok
t/IO_InnerFile.t ....... ok
t/IO_WrapTie.t ......... ok
t/IO_Scalar.t .......... ok
t/IO_ScalarArray.t ..... ok
t/two.t ................ ok
t/simple.t ............. ok
# 
# Versions for all modules listed in MYMETA.json (including optional ones):
# 
# === Configure Requires ===
# 
#     Module              Want Have
#     ------------------- ---- ----
#     ExtUtils::MakeMaker  any 7.64
# 
# === Build Requires ===
# 
#     Module              Want Have
#     ------------------- ---- ----
#     ExtUtils::MakeMaker  any 7.64
# 
# === Test Requires ===
# 
#     Module              Want     Have
#     ------------------- ---- --------
#     ExtUtils::MakeMaker  any     7.64
#     File::Basename       any     2.85
#     File::Spec           any     3.83
#     File::Temp           any   0.2311
#     FileHandle           any     2.03
#     IO::File             any     1.48
#     IO::Handle           any     1.48
#     Symbol               any     1.09
#     Test::More          0.88 1.302190
#     Test::Tester         any 1.302190
#     strict               any     1.12
#     warnings             any     1.57
# 
# === Test Recommends ===
# 
#     Module         Want     Have
#     ---------- -------- --------
#     CPAN::Meta 2.120900 2.150010
# 
# === Runtime Requires ===
# 
#     Module     Want  Have
#     ---------- ---- -----
#     Carp        any  1.52
#     Exporter   5.57  5.77
#     File::Spec  any  3.83
#     FileHandle  any  2.03
#     IO::File    any  1.48
#     IO::Handle  any  1.48
#     Symbol      any  1.09
#     overload    any  1.35
#     parent      any 0.238
#     strict      any  1.12
#     warnings    any  1.57
# 
t/00-report-prereqs.t .. ok
All tests successful.
Files=8, Tests=127,  0 wallclock secs ( 0.03 usr  0.01 sys +  0.56 cusr  0.14 csys =  0.74 CPU)
Result: PASS

------------------------------
PREREQUISITES
------------------------------

Prerequisite modules loaded:

requires:

    Module              Need     Have    
    ------------------- -------- --------
    Carp                0        1.52    
    Exporter            5.57     5.77    
    File::Spec          0        3.83    
    FileHandle          0        2.03    
    IO::File            0        1.48    
    IO::Handle          0        1.48    
    overload            0        1.35    
    parent              0        0.238   
    strict              0        1.12    
    Symbol              0        1.09    
    warnings            0        1.57    

build_requires:

    Module              Need     Have    
    ------------------- -------- --------
    ExtUtils::MakeMaker 0        7.64    
    File::Basename      0        2.85    
    File::Spec          0        3.83    
    File::Temp          0        0.2311  
    FileHandle          0        2.03    
    IO::File            0        1.48    
    IO::Handle          0        1.48    
    strict              0        1.12    
    Symbol              0        1.09    
    Test::More          0.88     1.302190
    Test::Tester        0        1.302190
    warnings            0        1.57    

configure_requires:

    Module              Need     Have    
    ------------------- -------- --------
    ExtUtils::MakeMaker 0        7.64    

opt_build_requires:

    Module              Need     Have    
    ------------------- -------- --------
    CPAN::Meta          2.120900 2.150010


------------------------------
ENVIRONMENT AND OTHER CONTEXT
------------------------------

Environment variables:

    AUTOMATED_TESTING = 1
    HARNESS_OPTIONS = j6:c
    LANG = en_US.UTF-8
    LC_TERMINAL = iTerm2
    LC_TERMINAL_VERSION = 3.4.15
    LDFLAGS = -L/usr/local/opt/openssl@1.1/lib:/usr/local/opt/python@3.8/lib
    NONINTERACTIVE_TESTING = 1
    PATH = /Users/nhorne/perl5/perlbrew/bin:/Users/nhorne/perl5/perlbrew/perls/perl-5.35.9/bin:/Users/nhorne/perl5/perlbrew/bin:/Users/nhorne/perl5/perlbrew/perls/perl-5.34.1/bin:/Users/nhorne/bin:/usr/local/opt/openssl@1.1/bin:/usr/local/opt/python@3.8/bin:/usr/local/bin:/usr/bin:/bin:/usr/sbin:/sbin:/Library/Apple/usr/bin
    PERL5LIB = 
    PERL5OPT = 
    PERL5_CPANPLUS_IS_RUNNING = 5021
    PERL5_CPAN_IS_RUNNING = 5021
    PERLBREW_HOME = /Users/nhorne/.perlbrew
    PERLBREW_LIB = 
    PERLBREW_MANPATH = /Users/nhorne/perl5/perlbrew/perls/perl-5.35.9/man
    PERLBREW_PATH = /Users/nhorne/perl5/perlbrew/bin:/Users/nhorne/perl5/perlbrew/perls/perl-5.35.9/bin
    PERLBREW_PERL = perl-5.35.9
    PERLBREW_ROOT = /Users/nhorne/perl5/perlbrew
    PERLBREW_SHELLRC_VERSION = 0.92
    PERLBREW_VERSION = 0.92
    PERL_LOCAL_LIB_ROOT = 
    PERL_MM_USE_DEFAULT = 1
    PERL_USE_UNSAFE_INC = 1
    SHELL = /bin/bash
    TERM = xterm-256color
    TMPDIR = /var/folders/rb/cnysxwf16zq1n94dyy56v2q00000gp/T/

Perl special variables (and OS-specific diagnostics, for MSWin32):

    $^X = /Users/nhorne/perl5/perlbrew/perls/perl-5.35.9/bin/perl5.35.9
    $UID/$EUID = 502 / 502
    $GID = 20 20 12 61 79 80 81 98 702 701 33 100 204 250 395 398 399
    $EGID = 20 20 12 61 79 80 81 98 702 701 33 100 204 250 395 398 399

Perl module toolchain versions installed:

    Module              Have    
    ------------------- --------
    CPAN                2.33    
    CPAN::Meta          2.150010
    Cwd                 3.83    
    ExtUtils::CBuilder  0.280236
    ExtUtils::Command   7.64    
    ExtUtils::Install   2.20    
    ExtUtils::MakeMaker 7.64    
    ExtUtils::Manifest  1.73    
    ExtUtils::ParseXS   3.44    
    File::Spec          3.83    
    JSON                4.05    
    JSON::PP            4.07    
    Module::Build       0.4231  
    Module::Signature   n/a     
    Parse::CPAN::Meta   2.150010
    Test::Harness       3.43    
    Test::More          1.302190
    YAML                1.30    
    YAML::Syck          1.34    
    version             0.9929  


--

Summary of my perl5 (revision 5 version 35 subversion 9) configuration:
   
  Platform:
    osname=darwin
    osvers=20.6.0
    archname=darwin-2level
    uname='darwin gslal0320030003 20.6.0 darwin kernel version 20.6.0: wed jan 12 22:22:42 pst 2022; root:xnu-7195.141.19~2release_x86_64 x86_64 '
    config_args='-de -Dprefix=/Users/nhorne/perl5/perlbrew/perls/perl-5.35.9 -Dusedevel -Aeval:scriptdir=/Users/nhorne/perl5/perlbrew/perls/perl-5.35.9/bin'
    hint=recommended
    useposix=true
    d_sigaction=define
    useithreads=undef
    usemultiplicity=undef
    use64bitint=define
    use64bitall=define
    uselongdouble=undef
    usemymalloc=n
    default_inc_excludes_dot=define
  Compiler:
    cc='cc'
    ccflags ='-fno-common -DPERL_DARWIN -mmacosx-version-min=11.6 -fno-strict-aliasing -pipe -fstack-protector-strong -I/usr/local/include -DPERL_USE_SAFE_PUTENV'
    optimize='-O3'
    cppflags='-fno-common -DPERL_DARWIN -mmacosx-version-min=11.6 -fno-strict-aliasing -pipe -fstack-protector-strong -I/usr/local/include'
    ccversion=''
    gccversion='Apple LLVM 12.0.0 (clang-1200.0.32.27)'
    gccosandvers=''
    intsize=4
    longsize=8
    ptrsize=8
    doublesize=8
    byteorder=12345678
    doublekind=3
    d_longlong=define
    longlongsize=8
    d_longdbl=define
    longdblsize=16
    longdblkind=3
    ivtype='long'
    ivsize=8
    nvtype='double'
    nvsize=8
    Off_t='off_t'
    lseeksize=8
    alignbytes=8
    prototype=define
  Linker and Libraries:
    ld='cc'
    ldflags =' -mmacosx-version-min=11.6 -fstack-protector-strong -L/usr/local/lib'
    libpth=/usr/local/lib /Library/Developer/CommandLineTools/usr/lib/clang/12.0.0/lib /Library/Developer/CommandLineTools/SDKs/MacOSX.sdk/usr/lib /Library/Developer/CommandLineTools/usr/lib /usr/lib
    libs=-lgdbm
    perllibs=
    libc=
    so=dylib
    useshrplib=false
    libperl=libperl.a
    gnulibc_version=''
  Dynamic Linking:
    dlsrc=dl_dlopen.xs
    dlext=bundle
    d_dlsymun=undef
    ccdlflags=' '
    cccdlflags=' '
    lddlflags=' -mmacosx-version-min=11.6 -bundle -undefined dynamic_lookup -L/usr/local/lib -fstack-protector-strong'


Characteristics of this binary (from libperl): 
  Compile-time options:
    HAS_TIMES
    PERLIO_LAYERS
    PERL_COPY_ON_WRITE
    PERL_DONT_CREATE_GVSV
    PERL_MALLOC_WRAP
    PERL_OP_PARENT
    PERL_PRESERVE_IVUV
    PERL_USE_DEVEL
    PERL_USE_SAFE_PUTENV
    USE_64_BIT_ALL
    USE_64_BIT_INT
    USE_LARGE_FILES
    USE_LOCALE
    USE_LOCALE_COLLATE
    USE_LOCALE_CTYPE
    USE_LOCALE_NUMERIC
    USE_LOCALE_TIME
    USE_PERLIO
    USE_PERL_ATOF
  Built under darwin
  Compiled at Mar 14 2022 09:32:26
  %ENV:
    PERL5LIB=""
    PERL5OPT=""
    PERL5_CPANPLUS_IS_RUNNING="5021"
    PERL5_CPAN_IS_RUNNING="5021"
    PERLBREW_HOME="/Users/nhorne/.perlbrew"
    PERLBREW_LIB=""
    PERLBREW_MANPATH="/Users/nhorne/perl5/perlbrew/perls/perl-5.35.9/man"
    PERLBREW_PATH="/Users/nhorne/perl5/perlbrew/bin:/Users/nhorne/perl5/perlbrew/perls/perl-5.35.9/bin"
    PERLBREW_PERL="perl-5.35.9"
    PERLBREW_ROOT="/Users/nhorne/perl5/perlbrew"
    PERLBREW_SHELLRC_VERSION="0.92"
    PERLBREW_VERSION="0.92"
    PERL_LOCAL_LIB_ROOT=""
    PERL_MM_USE_DEFAULT="1"
    PERL_USE_UNSAFE_INC="1"
  @INC:
    /Users/nhorne/perl5/perlbrew/perls/perl-5.35.9/lib/site_perl/5.35.9/darwin-2level
    /Users/nhorne/perl5/perlbrew/perls/perl-5.35.9/lib/site_perl/5.35.9
    /Users/nhorne/perl5/perlbrew/perls/perl-5.35.9/lib/5.35.9/darwin-2level
    /Users/nhorne/perl5/perlbrew/perls/perl-5.35.9/lib/5.35.9
    .