HTTP-AnyUA v0.904 Perl 5 v5.22.1 i386-freebsd-thread-multi-64int

Status
Pass
From
Chris Williams (BINGOS)
Dist
HTTP-AnyUA v0.904
Platform
Perl 5 v5.22.1 i386-freebsd-thread-multi-64int
Date
2025-01-15 21:02:00
ID
f6d82734-d383-11ef-98b0-b3c3213a625c
This distribution has been tested as part of the CPAN Testers
project, supporting the Perl programming language.  See
http://wiki.cpantesters.org/ for more information or email
questions to cpan-testers-discuss@perl.org


--

Dear Charles McGarvey,

This is a computer-generated error report created automatically by
CPANPLUS, version 0.9914. Testers personal comments may appear
at the end of this report.


Thank you for uploading your work to CPAN.  Congratulations!
All tests were successful.

TEST RESULTS:

Below is the error stack from stage 'make test':

PERL_DL_NONLAZY=1 "/usr/home/cpan/pit/rel/perl-5.22.1/bin/perl" "-MExtUtils::Command::MM" "-MTest::Harness" "-e" "undef *Test::Harness::Switches; test_harness(0, 'blib/lib', 'blib/arch')" t/*.t
t/00-compile.t ..................... ok
# 
# Versions for all modules listed in MYMETA.json (including optional ones):
# 
# === Configure Requires ===
# 
#     Module              Want Have
#     ------------------- ---- ----
#     ExtUtils::MakeMaker  any 7.70
# 
# === Build Requires ===
# 
#     Module              Want Have
#     ------------------- ---- ----
#     ExtUtils::MakeMaker  any 7.70
# 
# === Test Requires ===
# 
#     Module              Want     Have
#     ------------------- ---- --------
#     ExtUtils::MakeMaker  any     7.70
#     File::Spec           any     3.75
#     IO::Handle           any     1.35
#     IPC::Open3           any     1.18
#     Test2::API           any 1.302207
#     Test::Exception      any     0.43
#     Test::More           any 1.302207
#     lib                  any     0.63
#     namespace::clean     any     0.27
# 
# === Test Recommends ===
# 
#     Module         Want     Have
#     ---------- -------- --------
#     CPAN::Meta 2.120900 2.150010
# 
# === Test Suggests ===
# 
#     Module          Want    Have
#     --------------- ---- -------
#     AnyEvent::HTTP   any missing
#     Furl             any missing
#     HTTP::Tiny       any   0.054
#     JSON             any missing
#     LWP::UserAgent   any missing
#     Mojo::UserAgent  any missing
#     Net::Curl::Easy  any missing
#     Plack::Runner    any missing
#     Starman          any missing
# 
# === Runtime Requires ===
# 
#     Module         Want   Have
#     -------------- ---- ------
#     Carp            any   1.36
#     Exporter        any   5.72
#     Fcntl           any   1.13
#     Future          any   0.51
#     MIME::Base64    any   3.15
#     Module::Loader  any   0.04
#     Scalar::Util    any   1.41
#     Time::HiRes     any 1.9726
#     Time::Local     any 1.2300
#     bytes           any   1.04
#     parent          any  0.232
#     strict          any   1.09
#     warnings        any   1.34
# 
# === Runtime Recommends ===
# 
#     Module     Want  Have
#     ---------- ---- -----
#     HTTP::Tiny  any 0.054
# 
t/00-report-prereqs.t .............. ok
t/01-new.t ......................... ok
t/02-shortcuts.t ................... ok
t/03-post_form.t ................... ok
    # Can't locate AnyEvent/HTTP.pm in @INC (you may need to install the AnyEvent::HTTP module) (@INC contains: t/lib /usr/home/cpan/pit/rel/conf/perl-5.22.1/.cpanplus/5.22.1/build/_L0MTwyDyc/HTTP-AnyUA-0.904/blib/lib /usr/home/cpan/pit/rel/conf/perl-5.22.1/.cpanplus/5.22.1/build/_L0MTwyDyc/HTTP-AnyUA-0.904/blib/arch /usr/home/cpan/pit/jail/kOpyZXGK9t/lib/perl5/5.22.1/i386-freebsd-thread-multi-64int /usr/home/cpan/pit/jail/kOpyZXGK9t/lib/perl5/5.22.1 /usr/home/cpan/pit/jail/kOpyZXGK9t/lib/perl5/i386-freebsd-thread-multi-64int /usr/home/cpan/pit/jail/kOpyZXGK9t/lib/perl5 /usr/home/cpan/pit/rel/perl-5.22.1/lib/site_perl/5.22.1/i386-freebsd-thread-multi-64int /usr/home/cpan/pit/rel/perl-5.22.1/lib/site_perl/5.22.1 /usr/home/cpan/pit/rel/perl-5.22.1/lib/5.22.1/i386-freebsd-thread-multi-64int /usr/home/cpan/pit/rel/perl-5.22.1/lib/5.22.1 .) at (eval 42) line 2.
    # Can't locate Furl.pm in @INC (you may need to install the Furl module) (@INC contains: t/lib /usr/home/cpan/pit/rel/conf/perl-5.22.1/.cpanplus/5.22.1/build/_L0MTwyDyc/HTTP-AnyUA-0.904/blib/lib /usr/home/cpan/pit/rel/conf/perl-5.22.1/.cpanplus/5.22.1/build/_L0MTwyDyc/HTTP-AnyUA-0.904/blib/arch /usr/home/cpan/pit/jail/kOpyZXGK9t/lib/perl5/5.22.1/i386-freebsd-thread-multi-64int /usr/home/cpan/pit/jail/kOpyZXGK9t/lib/perl5/5.22.1 /usr/home/cpan/pit/jail/kOpyZXGK9t/lib/perl5/i386-freebsd-thread-multi-64int /usr/home/cpan/pit/jail/kOpyZXGK9t/lib/perl5 /usr/home/cpan/pit/rel/perl-5.22.1/lib/site_perl/5.22.1/i386-freebsd-thread-multi-64int /usr/home/cpan/pit/rel/perl-5.22.1/lib/site_perl/5.22.1 /usr/home/cpan/pit/rel/perl-5.22.1/lib/5.22.1/i386-freebsd-thread-multi-64int /usr/home/cpan/pit/rel/perl-5.22.1/lib/5.22.1 .) at (eval 43) line 2.
Use of uninitialized value in numeric eq (==) at /usr/home/cpan/pit/rel/perl-5.22.1/lib/5.22.1/HTTP/Tiny.pm line 490.
Use of uninitialized value $port in numeric eq (==) at /usr/home/cpan/pit/rel/perl-5.22.1/lib/5.22.1/HTTP/Tiny.pm line 490.
    # Can't locate LWP/UserAgent.pm in @INC (you may need to install the LWP::UserAgent module) (@INC contains: t/lib /usr/home/cpan/pit/rel/conf/perl-5.22.1/.cpanplus/5.22.1/build/_L0MTwyDyc/HTTP-AnyUA-0.904/blib/lib /usr/home/cpan/pit/rel/conf/perl-5.22.1/.cpanplus/5.22.1/build/_L0MTwyDyc/HTTP-AnyUA-0.904/blib/arch /usr/home/cpan/pit/jail/kOpyZXGK9t/lib/perl5/5.22.1/i386-freebsd-thread-multi-64int /usr/home/cpan/pit/jail/kOpyZXGK9t/lib/perl5/5.22.1 /usr/home/cpan/pit/jail/kOpyZXGK9t/lib/perl5/i386-freebsd-thread-multi-64int /usr/home/cpan/pit/jail/kOpyZXGK9t/lib/perl5 /usr/home/cpan/pit/rel/perl-5.22.1/lib/site_perl/5.22.1/i386-freebsd-thread-multi-64int /usr/home/cpan/pit/rel/perl-5.22.1/lib/site_perl/5.22.1 /usr/home/cpan/pit/rel/perl-5.22.1/lib/5.22.1/i386-freebsd-thread-multi-64int /usr/home/cpan/pit/rel/perl-5.22.1/lib/5.22.1 .) at (eval 59) line 2.
    # Can't locate Mojo/UserAgent.pm in @INC (you may need to install the Mojo::UserAgent module) (@INC contains: t/lib /usr/home/cpan/pit/rel/conf/perl-5.22.1/.cpanplus/5.22.1/build/_L0MTwyDyc/HTTP-AnyUA-0.904/blib/lib /usr/home/cpan/pit/rel/conf/perl-5.22.1/.cpanplus/5.22.1/build/_L0MTwyDyc/HTTP-AnyUA-0.904/blib/arch /usr/home/cpan/pit/jail/kOpyZXGK9t/lib/perl5/5.22.1/i386-freebsd-thread-multi-64int /usr/home/cpan/pit/jail/kOpyZXGK9t/lib/perl5/5.22.1 /usr/home/cpan/pit/jail/kOpyZXGK9t/lib/perl5/i386-freebsd-thread-multi-64int /usr/home/cpan/pit/jail/kOpyZXGK9t/lib/perl5 /usr/home/cpan/pit/rel/perl-5.22.1/lib/site_perl/5.22.1/i386-freebsd-thread-multi-64int /usr/home/cpan/pit/rel/perl-5.22.1/lib/site_perl/5.22.1 /usr/home/cpan/pit/rel/perl-5.22.1/lib/5.22.1/i386-freebsd-thread-multi-64int /usr/home/cpan/pit/rel/perl-5.22.1/lib/5.22.1 .) at (eval 60) line 2.
    # Can't locate Net/Curl/Easy.pm in @INC (you may need to install the Net::Curl::Easy module) (@INC contains: t/lib /usr/home/cpan/pit/rel/conf/perl-5.22.1/.cpanplus/5.22.1/build/_L0MTwyDyc/HTTP-AnyUA-0.904/blib/lib /usr/home/cpan/pit/rel/conf/perl-5.22.1/.cpanplus/5.22.1/build/_L0MTwyDyc/HTTP-AnyUA-0.904/blib/arch /usr/home/cpan/pit/jail/kOpyZXGK9t/lib/perl5/5.22.1/i386-freebsd-thread-multi-64int /usr/home/cpan/pit/jail/kOpyZXGK9t/lib/perl5/5.22.1 /usr/home/cpan/pit/jail/kOpyZXGK9t/lib/perl5/i386-freebsd-thread-multi-64int /usr/home/cpan/pit/jail/kOpyZXGK9t/lib/perl5 /usr/home/cpan/pit/rel/perl-5.22.1/lib/site_perl/5.22.1/i386-freebsd-thread-multi-64int /usr/home/cpan/pit/rel/perl-5.22.1/lib/site_perl/5.22.1 /usr/home/cpan/pit/rel/perl-5.22.1/lib/5.22.1/i386-freebsd-thread-multi-64int /usr/home/cpan/pit/rel/perl-5.22.1/lib/5.22.1 .) at (eval 61) line 2.
t/04-internal-exception.t .......... ok
# Can't locate Plack/Runner.pm in @INC (you may need to install the Plack::Runner module) (@INC contains: t/lib /usr/home/cpan/pit/rel/conf/perl-5.22.1/.cpanplus/5.22.1/build/_L0MTwyDyc/HTTP-AnyUA-0.904/blib/lib /usr/home/cpan/pit/rel/conf/perl-5.22.1/.cpanplus/5.22.1/build/_L0MTwyDyc/HTTP-AnyUA-0.904/blib/arch /usr/home/cpan/pit/jail/kOpyZXGK9t/lib/perl5/5.22.1/i386-freebsd-thread-multi-64int /usr/home/cpan/pit/jail/kOpyZXGK9t/lib/perl5/5.22.1 /usr/home/cpan/pit/jail/kOpyZXGK9t/lib/perl5/i386-freebsd-thread-multi-64int /usr/home/cpan/pit/jail/kOpyZXGK9t/lib/perl5 /usr/home/cpan/pit/rel/perl-5.22.1/lib/site_perl/5.22.1/i386-freebsd-thread-multi-64int /usr/home/cpan/pit/rel/perl-5.22.1/lib/site_perl/5.22.1 /usr/home/cpan/pit/rel/perl-5.22.1/lib/5.22.1/i386-freebsd-thread-multi-64int /usr/home/cpan/pit/rel/perl-5.22.1/lib/5.22.1 .) at t/lib/Server.pm line 20.
# BEGIN failed--compilation aborted at t/lib/Server.pm line 20.
# Compilation failed in require at (eval 42) line 2.
# BEGIN failed--compilation aborted at (eval 42) line 2.
t/10-get.t ......................... skipped: Could not compile test server runner.
# Can't locate Plack/Runner.pm in @INC (you may need to install the Plack::Runner module) (@INC contains: t/lib /usr/home/cpan/pit/rel/conf/perl-5.22.1/.cpanplus/5.22.1/build/_L0MTwyDyc/HTTP-AnyUA-0.904/blib/lib /usr/home/cpan/pit/rel/conf/perl-5.22.1/.cpanplus/5.22.1/build/_L0MTwyDyc/HTTP-AnyUA-0.904/blib/arch /usr/home/cpan/pit/jail/kOpyZXGK9t/lib/perl5/5.22.1/i386-freebsd-thread-multi-64int /usr/home/cpan/pit/jail/kOpyZXGK9t/lib/perl5/5.22.1 /usr/home/cpan/pit/jail/kOpyZXGK9t/lib/perl5/i386-freebsd-thread-multi-64int /usr/home/cpan/pit/jail/kOpyZXGK9t/lib/perl5 /usr/home/cpan/pit/rel/perl-5.22.1/lib/site_perl/5.22.1/i386-freebsd-thread-multi-64int /usr/home/cpan/pit/rel/perl-5.22.1/lib/site_perl/5.22.1 /usr/home/cpan/pit/rel/perl-5.22.1/lib/5.22.1/i386-freebsd-thread-multi-64int /usr/home/cpan/pit/rel/perl-5.22.1/lib/5.22.1 .) at t/lib/Server.pm line 20.
# BEGIN failed--compilation aborted at t/lib/Server.pm line 20.
# Compilation failed in require at (eval 42) line 2.
# BEGIN failed--compilation aborted at (eval 42) line 2.
t/11-post.t ........................ skipped: Could not compile test server runner.
# Can't locate Plack/Runner.pm in @INC (you may need to install the Plack::Runner module) (@INC contains: t/lib /usr/home/cpan/pit/rel/conf/perl-5.22.1/.cpanplus/5.22.1/build/_L0MTwyDyc/HTTP-AnyUA-0.904/blib/lib /usr/home/cpan/pit/rel/conf/perl-5.22.1/.cpanplus/5.22.1/build/_L0MTwyDyc/HTTP-AnyUA-0.904/blib/arch /usr/home/cpan/pit/jail/kOpyZXGK9t/lib/perl5/5.22.1/i386-freebsd-thread-multi-64int /usr/home/cpan/pit/jail/kOpyZXGK9t/lib/perl5/5.22.1 /usr/home/cpan/pit/jail/kOpyZXGK9t/lib/perl5/i386-freebsd-thread-multi-64int /usr/home/cpan/pit/jail/kOpyZXGK9t/lib/perl5 /usr/home/cpan/pit/rel/perl-5.22.1/lib/site_perl/5.22.1/i386-freebsd-thread-multi-64int /usr/home/cpan/pit/rel/perl-5.22.1/lib/site_perl/5.22.1 /usr/home/cpan/pit/rel/perl-5.22.1/lib/5.22.1/i386-freebsd-thread-multi-64int /usr/home/cpan/pit/rel/perl-5.22.1/lib/5.22.1 .) at t/lib/Server.pm line 20.
# BEGIN failed--compilation aborted at t/lib/Server.pm line 20.
# Compilation failed in require at (eval 42) line 2.
# BEGIN failed--compilation aborted at (eval 42) line 2.
t/12-put.t ......................... skipped: Could not compile test server runner.
# Can't locate Plack/Runner.pm in @INC (you may need to install the Plack::Runner module) (@INC contains: t/lib /usr/home/cpan/pit/rel/conf/perl-5.22.1/.cpanplus/5.22.1/build/_L0MTwyDyc/HTTP-AnyUA-0.904/blib/lib /usr/home/cpan/pit/rel/conf/perl-5.22.1/.cpanplus/5.22.1/build/_L0MTwyDyc/HTTP-AnyUA-0.904/blib/arch /usr/home/cpan/pit/jail/kOpyZXGK9t/lib/perl5/5.22.1/i386-freebsd-thread-multi-64int /usr/home/cpan/pit/jail/kOpyZXGK9t/lib/perl5/5.22.1 /usr/home/cpan/pit/jail/kOpyZXGK9t/lib/perl5/i386-freebsd-thread-multi-64int /usr/home/cpan/pit/jail/kOpyZXGK9t/lib/perl5 /usr/home/cpan/pit/rel/perl-5.22.1/lib/site_perl/5.22.1/i386-freebsd-thread-multi-64int /usr/home/cpan/pit/rel/perl-5.22.1/lib/site_perl/5.22.1 /usr/home/cpan/pit/rel/perl-5.22.1/lib/5.22.1/i386-freebsd-thread-multi-64int /usr/home/cpan/pit/rel/perl-5.22.1/lib/5.22.1 .) at t/lib/Server.pm line 20.
# BEGIN failed--compilation aborted at t/lib/Server.pm line 20.
# Compilation failed in require at (eval 42) line 2.
# BEGIN failed--compilation aborted at (eval 42) line 2.
t/13-head.t ........................ skipped: Could not compile test server runner.
# Can't locate Plack/Runner.pm in @INC (you may need to install the Plack::Runner module) (@INC contains: t/lib /usr/home/cpan/pit/rel/conf/perl-5.22.1/.cpanplus/5.22.1/build/_L0MTwyDyc/HTTP-AnyUA-0.904/blib/lib /usr/home/cpan/pit/rel/conf/perl-5.22.1/.cpanplus/5.22.1/build/_L0MTwyDyc/HTTP-AnyUA-0.904/blib/arch /usr/home/cpan/pit/jail/kOpyZXGK9t/lib/perl5/5.22.1/i386-freebsd-thread-multi-64int /usr/home/cpan/pit/jail/kOpyZXGK9t/lib/perl5/5.22.1 /usr/home/cpan/pit/jail/kOpyZXGK9t/lib/perl5/i386-freebsd-thread-multi-64int /usr/home/cpan/pit/jail/kOpyZXGK9t/lib/perl5 /usr/home/cpan/pit/rel/perl-5.22.1/lib/site_perl/5.22.1/i386-freebsd-thread-multi-64int /usr/home/cpan/pit/rel/perl-5.22.1/lib/site_perl/5.22.1 /usr/home/cpan/pit/rel/perl-5.22.1/lib/5.22.1/i386-freebsd-thread-multi-64int /usr/home/cpan/pit/rel/perl-5.22.1/lib/5.22.1 .) at t/lib/Server.pm line 20.
# BEGIN failed--compilation aborted at t/lib/Server.pm line 20.
# Compilation failed in require at (eval 42) line 2.
# BEGIN failed--compilation aborted at (eval 42) line 2.
t/14-delete.t ...................... skipped: Could not compile test server runner.
# Can't locate Plack/Runner.pm in @INC (you may need to install the Plack::Runner module) (@INC contains: t/lib /usr/home/cpan/pit/rel/conf/perl-5.22.1/.cpanplus/5.22.1/build/_L0MTwyDyc/HTTP-AnyUA-0.904/blib/lib /usr/home/cpan/pit/rel/conf/perl-5.22.1/.cpanplus/5.22.1/build/_L0MTwyDyc/HTTP-AnyUA-0.904/blib/arch /usr/home/cpan/pit/jail/kOpyZXGK9t/lib/perl5/5.22.1/i386-freebsd-thread-multi-64int /usr/home/cpan/pit/jail/kOpyZXGK9t/lib/perl5/5.22.1 /usr/home/cpan/pit/jail/kOpyZXGK9t/lib/perl5/i386-freebsd-thread-multi-64int /usr/home/cpan/pit/jail/kOpyZXGK9t/lib/perl5 /usr/home/cpan/pit/rel/perl-5.22.1/lib/site_perl/5.22.1/i386-freebsd-thread-multi-64int /usr/home/cpan/pit/rel/perl-5.22.1/lib/site_perl/5.22.1 /usr/home/cpan/pit/rel/perl-5.22.1/lib/5.22.1/i386-freebsd-thread-multi-64int /usr/home/cpan/pit/rel/perl-5.22.1/lib/5.22.1 .) at t/lib/Server.pm line 20.
# BEGIN failed--compilation aborted at t/lib/Server.pm line 20.
# Compilation failed in require at (eval 42) line 2.
# BEGIN failed--compilation aborted at (eval 42) line 2.
t/15-custom-method.t ............... skipped: Could not compile test server runner.
# Can't locate Plack/Runner.pm in @INC (you may need to install the Plack::Runner module) (@INC contains: t/lib /usr/home/cpan/pit/rel/conf/perl-5.22.1/.cpanplus/5.22.1/build/_L0MTwyDyc/HTTP-AnyUA-0.904/blib/lib /usr/home/cpan/pit/rel/conf/perl-5.22.1/.cpanplus/5.22.1/build/_L0MTwyDyc/HTTP-AnyUA-0.904/blib/arch /usr/home/cpan/pit/jail/kOpyZXGK9t/lib/perl5/5.22.1/i386-freebsd-thread-multi-64int /usr/home/cpan/pit/jail/kOpyZXGK9t/lib/perl5/5.22.1 /usr/home/cpan/pit/jail/kOpyZXGK9t/lib/perl5/i386-freebsd-thread-multi-64int /usr/home/cpan/pit/jail/kOpyZXGK9t/lib/perl5 /usr/home/cpan/pit/rel/perl-5.22.1/lib/site_perl/5.22.1/i386-freebsd-thread-multi-64int /usr/home/cpan/pit/rel/perl-5.22.1/lib/site_perl/5.22.1 /usr/home/cpan/pit/rel/perl-5.22.1/lib/5.22.1/i386-freebsd-thread-multi-64int /usr/home/cpan/pit/rel/perl-5.22.1/lib/5.22.1 .) at t/lib/Server.pm line 20.
# BEGIN failed--compilation aborted at t/lib/Server.pm line 20.
# Compilation failed in require at (eval 42) line 2.
# BEGIN failed--compilation aborted at (eval 42) line 2.
t/20-data_callback.t ............... skipped: Could not compile test server runner.
# Can't locate Plack/Runner.pm in @INC (you may need to install the Plack::Runner module) (@INC contains: t/lib /usr/home/cpan/pit/rel/conf/perl-5.22.1/.cpanplus/5.22.1/build/_L0MTwyDyc/HTTP-AnyUA-0.904/blib/lib /usr/home/cpan/pit/rel/conf/perl-5.22.1/.cpanplus/5.22.1/build/_L0MTwyDyc/HTTP-AnyUA-0.904/blib/arch /usr/home/cpan/pit/jail/kOpyZXGK9t/lib/perl5/5.22.1/i386-freebsd-thread-multi-64int /usr/home/cpan/pit/jail/kOpyZXGK9t/lib/perl5/5.22.1 /usr/home/cpan/pit/jail/kOpyZXGK9t/lib/perl5/i386-freebsd-thread-multi-64int /usr/home/cpan/pit/jail/kOpyZXGK9t/lib/perl5 /usr/home/cpan/pit/rel/perl-5.22.1/lib/site_perl/5.22.1/i386-freebsd-thread-multi-64int /usr/home/cpan/pit/rel/perl-5.22.1/lib/site_perl/5.22.1 /usr/home/cpan/pit/rel/perl-5.22.1/lib/5.22.1/i386-freebsd-thread-multi-64int /usr/home/cpan/pit/rel/perl-5.22.1/lib/5.22.1 .) at t/lib/Server.pm line 20.
# BEGIN failed--compilation aborted at t/lib/Server.pm line 20.
# Compilation failed in require at (eval 42) line 2.
# BEGIN failed--compilation aborted at (eval 42) line 2.
t/21-basic-auth.t .................. skipped: Could not compile test server runner.
# Can't locate Plack/Runner.pm in @INC (you may need to install the Plack::Runner module) (@INC contains: t/lib /usr/home/cpan/pit/rel/conf/perl-5.22.1/.cpanplus/5.22.1/build/_L0MTwyDyc/HTTP-AnyUA-0.904/blib/lib /usr/home/cpan/pit/rel/conf/perl-5.22.1/.cpanplus/5.22.1/build/_L0MTwyDyc/HTTP-AnyUA-0.904/blib/arch /usr/home/cpan/pit/jail/kOpyZXGK9t/lib/perl5/5.22.1/i386-freebsd-thread-multi-64int /usr/home/cpan/pit/jail/kOpyZXGK9t/lib/perl5/5.22.1 /usr/home/cpan/pit/jail/kOpyZXGK9t/lib/perl5/i386-freebsd-thread-multi-64int /usr/home/cpan/pit/jail/kOpyZXGK9t/lib/perl5 /usr/home/cpan/pit/rel/perl-5.22.1/lib/site_perl/5.22.1/i386-freebsd-thread-multi-64int /usr/home/cpan/pit/rel/perl-5.22.1/lib/site_perl/5.22.1 /usr/home/cpan/pit/rel/perl-5.22.1/lib/5.22.1/i386-freebsd-thread-multi-64int /usr/home/cpan/pit/rel/perl-5.22.1/lib/5.22.1 .) at t/lib/Server.pm line 20.
# BEGIN failed--compilation aborted at t/lib/Server.pm line 20.
# Compilation failed in require at (eval 42) line 2.
# BEGIN failed--compilation aborted at (eval 42) line 2.
t/22-redirects.t ................... skipped: Could not compile test server runner.
# Can't locate Plack/Runner.pm in @INC (you may need to install the Plack::Runner module) (@INC contains: t/lib /usr/home/cpan/pit/rel/conf/perl-5.22.1/.cpanplus/5.22.1/build/_L0MTwyDyc/HTTP-AnyUA-0.904/blib/lib /usr/home/cpan/pit/rel/conf/perl-5.22.1/.cpanplus/5.22.1/build/_L0MTwyDyc/HTTP-AnyUA-0.904/blib/arch /usr/home/cpan/pit/jail/kOpyZXGK9t/lib/perl5/5.22.1/i386-freebsd-thread-multi-64int /usr/home/cpan/pit/jail/kOpyZXGK9t/lib/perl5/5.22.1 /usr/home/cpan/pit/jail/kOpyZXGK9t/lib/perl5/i386-freebsd-thread-multi-64int /usr/home/cpan/pit/jail/kOpyZXGK9t/lib/perl5 /usr/home/cpan/pit/rel/perl-5.22.1/lib/site_perl/5.22.1/i386-freebsd-thread-multi-64int /usr/home/cpan/pit/rel/perl-5.22.1/lib/site_perl/5.22.1 /usr/home/cpan/pit/rel/perl-5.22.1/lib/5.22.1/i386-freebsd-thread-multi-64int /usr/home/cpan/pit/rel/perl-5.22.1/lib/5.22.1 .) at t/lib/Server.pm line 20.
# BEGIN failed--compilation aborted at t/lib/Server.pm line 20.
# Compilation failed in require at (eval 42) line 2.
# BEGIN failed--compilation aborted at (eval 42) line 2.
t/23-content-coderef.t ............. skipped: Could not compile test server runner.
t/40-middleware-content-length.t ... ok
t/40-middleware-request-headers.t .. ok
t/40-middleware-runtime.t .......... ok
    # Can't locate Mojo/UserAgent.pm in @INC (you may need to install the Mojo::UserAgent module) (@INC contains: t/lib /usr/home/cpan/pit/rel/conf/perl-5.22.1/.cpanplus/5.22.1/build/_L0MTwyDyc/HTTP-AnyUA-0.904/blib/lib /usr/home/cpan/pit/rel/conf/perl-5.22.1/.cpanplus/5.22.1/build/_L0MTwyDyc/HTTP-AnyUA-0.904/blib/arch /usr/home/cpan/pit/jail/kOpyZXGK9t/lib/perl5/5.22.1/i386-freebsd-thread-multi-64int /usr/home/cpan/pit/jail/kOpyZXGK9t/lib/perl5/5.22.1 /usr/home/cpan/pit/jail/kOpyZXGK9t/lib/perl5/i386-freebsd-thread-multi-64int /usr/home/cpan/pit/jail/kOpyZXGK9t/lib/perl5 /usr/home/cpan/pit/rel/perl-5.22.1/lib/site_perl/5.22.1/i386-freebsd-thread-multi-64int /usr/home/cpan/pit/rel/perl-5.22.1/lib/site_perl/5.22.1 /usr/home/cpan/pit/rel/perl-5.22.1/lib/5.22.1/i386-freebsd-thread-multi-64int /usr/home/cpan/pit/rel/perl-5.22.1/lib/5.22.1 .) at (eval 42) line 2.
    # Can't locate AnyEvent/HTTP.pm in @INC (you may need to install the AnyEvent::HTTP module) (@INC contains: t/lib /usr/home/cpan/pit/rel/conf/perl-5.22.1/.cpanplus/5.22.1/build/_L0MTwyDyc/HTTP-AnyUA-0.904/blib/lib /usr/home/cpan/pit/rel/conf/perl-5.22.1/.cpanplus/5.22.1/build/_L0MTwyDyc/HTTP-AnyUA-0.904/blib/arch /usr/home/cpan/pit/jail/kOpyZXGK9t/lib/perl5/5.22.1/i386-freebsd-thread-multi-64int /usr/home/cpan/pit/jail/kOpyZXGK9t/lib/perl5/5.22.1 /usr/home/cpan/pit/jail/kOpyZXGK9t/lib/perl5/i386-freebsd-thread-multi-64int /usr/home/cpan/pit/jail/kOpyZXGK9t/lib/perl5 /usr/home/cpan/pit/rel/perl-5.22.1/lib/site_perl/5.22.1/i386-freebsd-thread-multi-64int /usr/home/cpan/pit/rel/perl-5.22.1/lib/site_perl/5.22.1 /usr/home/cpan/pit/rel/perl-5.22.1/lib/5.22.1/i386-freebsd-thread-multi-64int /usr/home/cpan/pit/rel/perl-5.22.1/lib/5.22.1 .) at (eval 43) line 2.
t/50-future-subclass.t ............. ok
All tests successful.
Files=20, Tests=50,  7 wallclock secs ( 0.09 usr  0.09 sys +  4.27 cusr  2.00 csys =  6.45 CPU)
Result: PASS


PREREQUISITES:

Here is a list of prerequisites you specified and versions we
managed to load:

	  Module Name                        Have     Want
	  Carp                               1.36        0
	  Exporter                           5.72        0
	  ExtUtils::MakeMaker                7.70        0
	  Fcntl                              1.13        0
	  File::Spec                         3.75        0
	  Future                             0.51        0
	  IO::Handle                         1.35        0
	  IPC::Open3                         1.18        0
	  MIME::Base64                       3.15        0
	  Module::Loader                     0.04        0
	  Scalar::Util                       1.41        0
	  Test2::API                     1.302207        0
	  Test::Exception                    0.43        0
	  Test::More                     1.302207        0
	  Time::HiRes                      1.9726        0
	  Time::Local                      1.2300        0
	  bytes                              1.04        0
	  lib                                0.63        0
	  namespace::clean                   0.27        0
	  parent                            0.232        0
	  strict                             1.09        0
	  warnings                           1.34        0

Perl module toolchain versions installed:
	Module Name                        Have
	CPANPLUS                         0.9914
	CPANPLUS::Dist::Build              0.90
	Cwd                                3.75
	ExtUtils::CBuilder             0.280236
	ExtUtils::Command                  7.70
	ExtUtils::Install                  2.22
	ExtUtils::MakeMaker                7.70
	ExtUtils::Manifest                 1.75
	ExtUtils::ParseXS                  3.51
	File::Spec                         3.75
	Module::Build                    0.4234
	Pod::Parser                        1.63
	Pod::Simple                        3.29
	Test2                          1.302207
	Test::Harness                      3.48
	Test::More                     1.302207
	version                          0.9930

******************************** NOTE ********************************
The comments above are created mechanically, possibly without manual
checking by the sender.  As there are many people performing automatic
tests on each upload to CPAN, it is likely that you will receive
identical messages about the same problem.

If you believe that the message is mistaken, please reply to the first
one with correction and/or additional informations, and do not take
it personally.  We appreciate your patience. :)
**********************************************************************

Additional comments:


This report was machine-generated by CPANPLUS::Dist::YACSmoke 1.08.
Powered by minismokebox version 0.68

CPANPLUS is prefering Build.PL

------------------------------
ENVIRONMENT AND OTHER CONTEXT
------------------------------

Environment variables:

    AUTOMATED_TESTING = 1
    NONINTERACTIVE_TESTING = 1
    PATH = /sbin:/bin:/usr/sbin:/usr/bin:/usr/local/sbin:/usr/local/bin:/home/cpan/bin
    PERL5LIB = /usr/home/cpan/pit/jail/kOpyZXGK9t/lib/perl5:/usr/home/cpan/pit/rel/conf/perl-5.22.1/.cpanplus/5.22.1/build/_L0MTwyDyc/HTTP-AnyUA-0.904/blib/lib:/usr/home/cpan/pit/rel/conf/perl-5.22.1/.cpanplus/5.22.1/build/_L0MTwyDyc/HTTP-AnyUA-0.904/blib/arch
    PERL5_CPANPLUS_IS_RUNNING = 69831
    PERL5_CPANPLUS_IS_VERSION = 0.9914
    PERL5_MINISMOKEBOX = 0.68
    PERL5_YACSMOKE_BASE = /usr/home/cpan/pit/rel/conf/perl-5.22.1
    PERL_EXTUTILS_AUTOINSTALL = --defaultdeps
    PERL_LOCAL_LIB_ROOT = /usr/home/cpan/pit/jail/kOpyZXGK9t
    PERL_MB_OPT = --install_base "/usr/home/cpan/pit/jail/kOpyZXGK9t"
    PERL_MM_OPT = INSTALL_BASE=/usr/home/cpan/pit/jail/kOpyZXGK9t
    PERL_MM_USE_DEFAULT = 1
    PERL_USE_UNSAFE_INC = 0
    SHELL = /usr/local/bin/bash
    TERM = screen

Perl special variables (and OS-specific diagnostics, for MSWin32):

    Perl: $^X = /usr/home/cpan/pit/rel/perl-5.22.1/bin/perl
    UID:  $<  = 1002
    EUID: $>  = 1002
    GID:  $(  = 1002 1002
    EGID: $)  = 1002 1002


-------------------------------


--

Summary of my perl5 (revision 5 version 22 subversion 1) configuration:
   
  Platform:
    osname=freebsd, osvers=12.4-release, archname=i386-freebsd-thread-multi-64int
    uname='freebsd ffyrc 12.4-release freebsd 12.4-release r372781 generic i386 '
    config_args='-des -Dprefix=/usr/home/cpan/pit/rel/perl-5.22.1 -Dusethreads -Duse64bitint'
    hint=recommended, useposix=true, d_sigaction=define
    useithreads=define, usemultiplicity=define
    use64bitint=define, use64bitall=undef, uselongdouble=undef
    usemymalloc=n, bincompat5005=undef
  Compiler:
    cc='cc', ccflags ='-DHAS_FPSETMASK -DHAS_FLOATINGPOINT_H -fno-strict-aliasing -pipe -fstack-protector-strong -I/usr/local/include',
    optimize='-O2',
    cppflags='-DHAS_FPSETMASK -DHAS_FLOATINGPOINT_H -fno-strict-aliasing -pipe -fstack-protector-strong -I/usr/local/include'
    ccversion='', gccversion='FreeBSD Clang 13.0.0 (git@github.com:llvm/llvm-project.git llvmorg-13.0.0-0-gd7b669b3a303)', gccosandvers=''
    intsize=4, longsize=4, ptrsize=4, doublesize=8, byteorder=12345678, doublekind=3
    d_longlong=define, longlongsize=8, d_longdbl=define, longdblsize=12, longdblkind=3
    ivtype='long long', ivsize=8, nvtype='double', nvsize=8, Off_t='off_t', lseeksize=8
    alignbytes=4, prototype=define
  Linker and Libraries:
    ld='cc', ldflags ='-pthread -Wl,-E  -fstack-protector-strong -L/usr/local/lib'
    libpth=/usr/lib /usr/local/lib /usr/lib/clang/13.0.0/lib /usr/lib
    libs=-lpthread -lgdbm -ldl -lm -lcrypt -lutil
    perllibs=-lpthread -ldl -lm -lcrypt -lutil
    libc=, so=so, useshrplib=false, libperl=libperl.a
    gnulibc_version=''
  Dynamic Linking:
    dlsrc=dl_dlopen.xs, dlext=so, d_dlsymun=undef, ccdlflags=' '
    cccdlflags='-DPIC -fPIC', lddlflags='-shared  -L/usr/local/lib -fstack-protector-strong'


Characteristics of this binary (from libperl): 
  Compile-time options: HAS_TIMES MULTIPLICITY PERLIO_LAYERS
                        PERL_DONT_CREATE_GVSV
                        PERL_HASH_FUNC_ONE_AT_A_TIME_HARD
                        PERL_IMPLICIT_CONTEXT PERL_MALLOC_WRAP
                        PERL_NEW_COPY_ON_WRITE PERL_PRESERVE_IVUV
                        USE_64_BIT_INT USE_ITHREADS USE_LARGE_FILES
                        USE_LOCALE USE_LOCALE_COLLATE USE_LOCALE_CTYPE
                        USE_LOCALE_NUMERIC USE_LOCALE_TIME USE_PERLIO
                        USE_PERL_ATOF USE_REENTRANT_API
  Locally applied patches:
	Devel::PatchPerl 2.08
  Built under freebsd
  Compiled at Apr  5 2023 14:24:25
  %ENV:
    PERL5LIB="/usr/home/cpan/pit/jail/kOpyZXGK9t/lib/perl5:/usr/home/cpan/pit/rel/conf/perl-5.22.1/.cpanplus/5.22.1/build/_L0MTwyDyc/HTTP-AnyUA-0.904/blib/lib:/usr/home/cpan/pit/rel/conf/perl-5.22.1/.cpanplus/5.22.1/build/_L0MTwyDyc/HTTP-AnyUA-0.904/blib/arch"
    PERL5_CPANPLUS_IS_RUNNING="69831"
    PERL5_CPANPLUS_IS_VERSION="0.9914"
    PERL5_MINISMOKEBOX="0.68"
    PERL5_YACSMOKE_BASE="/usr/home/cpan/pit/rel/conf/perl-5.22.1"
    PERL_EXTUTILS_AUTOINSTALL="--defaultdeps"
    PERL_LOCAL_LIB_ROOT="/usr/home/cpan/pit/jail/kOpyZXGK9t"
    PERL_MB_OPT="--install_base "/usr/home/cpan/pit/jail/kOpyZXGK9t""
    PERL_MM_OPT="INSTALL_BASE=/usr/home/cpan/pit/jail/kOpyZXGK9t"
    PERL_MM_USE_DEFAULT="1"
    PERL_USE_UNSAFE_INC="0"
  @INC:
    /usr/home/cpan/pit/jail/kOpyZXGK9t/lib/perl5/5.22.1/i386-freebsd-thread-multi-64int
    /usr/home/cpan/pit/jail/kOpyZXGK9t/lib/perl5/5.22.1
    /usr/home/cpan/pit/jail/kOpyZXGK9t/lib/perl5/i386-freebsd-thread-multi-64int
    /usr/home/cpan/pit/jail/kOpyZXGK9t/lib/perl5
    /usr/home/cpan/pit/rel/conf/perl-5.22.1/.cpanplus/5.22.1/build/_L0MTwyDyc/HTTP-AnyUA-0.904/blib/lib
    /usr/home/cpan/pit/rel/conf/perl-5.22.1/.cpanplus/5.22.1/build/_L0MTwyDyc/HTTP-AnyUA-0.904/blib/arch
    /usr/home/cpan/pit/rel/perl-5.22.1/lib/site_perl/5.22.1/i386-freebsd-thread-multi-64int
    /usr/home/cpan/pit/rel/perl-5.22.1/lib/site_perl/5.22.1
    /usr/home/cpan/pit/rel/perl-5.22.1/lib/5.22.1/i386-freebsd-thread-multi-64int
    /usr/home/cpan/pit/rel/perl-5.22.1/lib/5.22.1
    .