Back
From: metabase:user:314402c4-2aae-11df-837a-5e0a49663a4f
Subject: PASS HTML-Scrubber-0.16-TRIAL v5.20.3 GNU/Linux
Date: 2017-06-25T20:14:59Z
This distribution has been tested as part of the CPAN Testers
project, supporting the Perl programming language. See
http://wiki.cpantesters.org/ for more information or email
questions to cpan-testers-discuss@perl.org
--
Dear Nigel Metheringham,
This is a computer-generated report for HTML-Scrubber-0.16-TRIAL
on perl 5.20.3, created by CPAN-Reporter-1.2018.
Thank you for uploading your work to CPAN. Congratulations!
All tests were successful.
Sections of this report:
* Tester comments
* Program output
* Prerequisites
* Environment and other context
------------------------------
TESTER COMMENTS
------------------------------
Additional comments from tester:
none provided
------------------------------
PROGRAM OUTPUT
------------------------------
Output from '/usr/bin/make test':
PERL_DL_NONLAZY=1 "/opt/perl-5.20.3/bin/perl5.20.3" "-MExtUtils::Command::MM" "-MTest::Harness" "-e" "undef *Test::Harness::Switches; test_harness(0, 'blib/lib', 'blib/arch')" t/*.t
#
# Versions for all modules listed in MYMETA.json (including optional ones):
#
# === Configure Requires ===
#
# Module Want Have
# ------------------- ---- ----
# ExtUtils::MakeMaker any 7.30
#
# === Build Requires ===
#
# Module Want Have
# ------------------- ---- ----
# ExtUtils::MakeMaker any 7.30
#
# === Test Requires ===
#
# Module Want Have
# ------------------------ ---- --------
# ExtUtils::MakeMaker any 7.30
# File::Spec any 3.48_01
# File::Temp any 0.2304
# Pod::Coverage::TrustPod any 0.100003
# Test any 1.26
# Test::CPAN::Meta any 0.25
# Test::Differences any 0.64
# Test::EOL any 2.00
# Test::Kwalitee 1.21 1.26
# Test::Memory::Cycle any 1.06
# Test::More 0.88 1.302085
# Test::NoTabs any 2.00
# Test::PAUSE::Permissions any 0.06
# Test::Pod 1.41 1.51
# Test::Pod::Coverage 1.08 1.10
# utf8 any 1.13_01
#
# === Test Recommends ===
#
# Module Want Have
# ---------- -------- --------
# CPAN::Meta 2.120900 2.150010
#
# === Runtime Requires ===
#
# Module Want Have
# -------------- ---- ----
# HTML::Entities any 3.69
# HTML::Parser 3.47 3.72
# List::Util any 1.47
# Scalar::Util any 1.47
# strict any 1.08
# warnings any 1.23
#
t/00-report-prereqs.t ........... ok
# Testing HTML::Scrubber 0.16, Perl 5.020003, /opt/perl-5.20.3/bin/perl5.20.3
t/01_use.t ...................... ok
t/02_basic.t .................... ok
t/03_more.t ..................... ok
t/04_style_script.t ............. ok
t/05_pi_comment.t ............... ok
t/06_scrub_file.t ............... ok
t/07_booleans.t ................. ok
t/08_cb_attrs.t ................. ok
t/09_memory_cycle.t ............. ok
t/09_no_scrub_warnings.t ........ ok
t/jvn53973084.t ................. ok
t/rt120384_remove_false_tags.t .. ok
t/rt19063_xhtml.t ............... ok
t/rt25477_self_closing.t ........ ok
t/rt72659_utf8.t ................ ok
t/rt79044_multiple.t ............ ok
All tests successful.
Files=17, Tests=172, 0 wallclock secs ( 0.03 usr 0.05 sys + 0.47 cusr 0.08 csys = 0.63 CPU)
Result: PASS
------------------------------
PREREQUISITES
------------------------------
Prerequisite modules loaded:
requires:
Module Need Have
------------------------ -------- --------
HTML::Entities 0 3.69
HTML::Parser 3.47 3.72
List::Util 0 1.47
perl 5.008 5.020003
Scalar::Util 0 1.47
strict 0 1.08
warnings 0 1.23
build_requires:
Module Need Have
------------------------ -------- --------
ExtUtils::MakeMaker 0 7.30
File::Spec 0 3.48_01
File::Temp 0 0.2304
Pod::Coverage::TrustPod 0 0.100003
Test 0 1.26
Test::CPAN::Meta 0 0.25
Test::Differences 0 0.64
Test::EOL 0 2.00
Test::Kwalitee 1.21 1.26
Test::Memory::Cycle 0 1.06
Test::More 0.88 1.302085
Test::NoTabs 0 2.00
Test::PAUSE::Permissions 0 0.06
Test::Pod 1.41 1.51
Test::Pod::Coverage 1.08 1.10
utf8 0 1.13_01
configure_requires:
Module Need Have
------------------------ -------- --------
ExtUtils::MakeMaker 0 7.30
opt_build_requires:
Module Need Have
------------------------ -------- --------
CPAN::Meta 2.120900 2.150010
------------------------------
ENVIRONMENT AND OTHER CONTEXT
------------------------------
Environment variables:
LANG = C
PATH = /usr/local/bin:/usr/bin:/bin:/usr/local/sbin:/usr/sbin:/sbin:/home/cpansand/bin/linux-gnu:/home/cpansand/bin/sh:/home/cpansand/bin:/usr/games:/home/cpansand/devel:/home/eserte/src/srezic-misc/scripts
PERL5LIB = /home/cpansand/.cpan/build/2017062518/Test-NoTabs-2.00-0/blib/arch:/home/cpansand/.cpan/build/2017062518/Test-NoTabs-2.00-0/blib/lib
PERL5OPT =
PERL5_CPANPLUS_IS_RUNNING = 2079
PERL5_CPAN_IS_RUNNING = 2079
PERL5_CPAN_IS_RUNNING_IN_RECURSION = 2024,2079
PERLDOC = -MPod::Perldoc::ToTextOverstrike
PERL_BATCH = yes
PERL_CANARY_STABILITY_NOPROMPT = 1
PERL_CPAN_REPORTER_CONFIG = /var/tmp/cpansmoker-1023/2017062518/cpanreporter_000_config.ini
PERL_EXTUTILS_AUTOINSTALL = --defaultdeps
PERL_USE_UNSAFE_INC = 1
SHELL = /usr/bin/zsh
TERM = screen
TMPDIR = /var/tmp/cpansmoker-1023/2017062518
Perl special variables (and OS-specific diagnostics, for MSWin32):
$^X = /opt/perl-5.20.3/bin/perl5.20.3
$UID/$EUID = 1023 / 1023
$GID = 1023 1023
$EGID = 1023 1023
Perl module toolchain versions installed:
Module Have
------------------- --------
CPAN 2.16
CPAN::Meta 2.150010
Cwd 3.48_01
ExtUtils::CBuilder 0.280224
ExtUtils::Command 7.30
ExtUtils::Install 2.06
ExtUtils::MakeMaker 7.30
ExtUtils::Manifest 1.70
ExtUtils::ParseXS 3.24
File::Spec 3.48_01
JSON 2.94
JSON::PP 2.94
Module::Build 0.4224
Module::Signature 0.81
Parse::CPAN::Meta 2.150010
Test::Harness 3.39
Test::More 1.302085
YAML 1.23
YAML::Syck 1.30
version 0.9909
--
Summary of my perl5 (revision 5 version 20 subversion 3) configuration:
Platform:
osname=linux, osvers=3.16.0-4-amd64, archname=x86_64-linux
uname='linux debian8 3.16.0-4-amd64 #1 smp debian 3.16.43-2+deb8u1 (2017-06-18) x86_64 gnulinux '
config_args='-ds -e -Dprefix=/opt/perl-5.20.3 -Dcf_email=srezic@cpan.org'
hint=recommended, useposix=true, d_sigaction=define
useithreads=undef, usemultiplicity=undef
use64bitint=define, use64bitall=define, uselongdouble=undef
usemymalloc=n, bincompat5005=undef
Compiler:
cc='cc', ccflags ='-fwrapv -fno-strict-aliasing -pipe -fstack-protector -I/usr/local/include -D_LARGEFILE_SOURCE -D_FILE_OFFSET_BITS=64',
optimize='-O2',
cppflags='-fwrapv -fno-strict-aliasing -pipe -fstack-protector -I/usr/local/include'
ccversion='', gccversion='4.9.2', gccosandvers=''
intsize=4, longsize=8, ptrsize=8, doublesize=8, byteorder=12345678
d_longlong=define, longlongsize=8, d_longdbl=define, longdblsize=16
ivtype='long', ivsize=8, nvtype='double', nvsize=8, Off_t='off_t', lseeksize=8
alignbytes=8, prototype=define
Linker and Libraries:
ld='cc', ldflags =' -fstack-protector -L/usr/local/lib'
libpth=/usr/local/lib /usr/lib/gcc/x86_64-linux-gnu/4.9/include-fixed /usr/include/x86_64-linux-gnu /usr/lib /lib/x86_64-linux-gnu /lib/../lib /usr/lib/x86_64-linux-gnu /usr/lib/../lib /lib
libs=-lpthread -lnsl -lgdbm -ldb -ldl -lm -lcrypt -lutil -lc -lgdbm_compat
perllibs=-lpthread -lnsl -ldl -lm -lcrypt -lutil -lc
libc=libc-2.19.so, so=so, useshrplib=false, libperl=libperl.a
gnulibc_version='2.19'
Dynamic Linking:
dlsrc=dl_dlopen.xs, dlext=so, d_dlsymun=undef, ccdlflags='-Wl,-E'
cccdlflags='-fPIC', lddlflags='-shared -O2 -L/usr/local/lib -fstack-protector'
Characteristics of this binary (from libperl):
Compile-time options: HAS_TIMES PERLIO_LAYERS PERL_DONT_CREATE_GVSV
PERL_HASH_FUNC_ONE_AT_A_TIME_HARD PERL_MALLOC_WRAP
PERL_NEW_COPY_ON_WRITE PERL_PRESERVE_IVUV
USE_64_BIT_ALL USE_64_BIT_INT USE_LARGE_FILES
USE_LOCALE USE_LOCALE_COLLATE USE_LOCALE_CTYPE
USE_LOCALE_NUMERIC USE_PERLIO USE_PERL_ATOF
Built under linux
Compiled at Jun 20 2017 18:04:57
%ENV:
PERL5LIB="/home/cpansand/.cpan/build/2017062518/Test-NoTabs-2.00-0/blib/arch:/home/cpansand/.cpan/build/2017062518/Test-NoTabs-2.00-0/blib/lib"
PERL5OPT=""
PERL5_CPANPLUS_IS_RUNNING="2079"
PERL5_CPAN_IS_RUNNING="2079"
PERL5_CPAN_IS_RUNNING_IN_RECURSION="2024,2079"
PERLDOC="-MPod::Perldoc::ToTextOverstrike"
PERL_BATCH="yes"
PERL_CANARY_STABILITY_NOPROMPT="1"
PERL_CPAN_REPORTER_CONFIG="/var/tmp/cpansmoker-1023/2017062518/cpanreporter_000_config.ini"
PERL_EXTUTILS_AUTOINSTALL="--defaultdeps"
PERL_USE_UNSAFE_INC="1"
@INC:
/home/cpansand/.cpan/build/2017062518/Test-NoTabs-2.00-0/blib/arch
/home/cpansand/.cpan/build/2017062518/Test-NoTabs-2.00-0/blib/lib
/opt/perl-5.20.3/lib/site_perl/5.20.3/x86_64-linux
/opt/perl-5.20.3/lib/site_perl/5.20.3
/opt/perl-5.20.3/lib/5.20.3/x86_64-linux
/opt/perl-5.20.3/lib/5.20.3
.