Dist-Zilla-Plugin-Test-Version v1.09 Perl 5 v5.29.1 x86_64-linux
- Status
- Pass
- From
- Serguei Trouchelle (STRO)
- Dist
-
Dist-Zilla-Plugin-Test-Version v1.09
- Platform
- Perl 5 v5.29.1 x86_64-linux
- Date
- 2018-08-24 00:45:14
- ID
- f6f0fe74-a736-11e8-ab81-a57af8766df6
This distribution has been tested as part of the CPAN Testers
project, supporting the Perl programming language. See
http://wiki.cpantesters.org/ for more information or email
questions to cpan-testers-discuss@perl.org
--
Dear Graham Ollis,
This is a computer-generated report for Dist-Zilla-Plugin-Test-Version-1.09
on perl 5.29.1, created by CPAN-Reporter-1.2018.
Thank you for uploading your work to CPAN. Congratulations!
All tests were successful.
Sections of this report:
* Tester comments
* Program output
* Prerequisites
* Environment and other context
------------------------------
TESTER COMMENTS
------------------------------
Additional comments from tester:
none provided
------------------------------
PROGRAM OUTPUT
------------------------------
Output from '/usr/bin/make test':
PERL_DL_NONLAZY=1 "/home/stro/perl/5.29.1/bin/perl" "-MExtUtils::Command::MM" "-MTest::Harness" "-e" "undef *Test::Harness::Switches; test_harness(0, 'blib/lib', 'blib/arch')" t/*.t
t/00-compile.t ......... ok
#
# Versions for all modules listed in MYMETA.json (including optional ones):
#
# === Configure Requires ===
#
# Module Want Have
# ------------------- ---- ----
# ExtUtils::MakeMaker any 7.34
#
# === Build Requires ===
#
# Module Want Have
# ------------------- ---- ----
# ExtUtils::MakeMaker any 7.34
#
# === Test Requires ===
#
# Module Want Have
# ------------------- ----- --------
# Dist::Zilla 5.036 6.012
# ExtUtils::MakeMaker any 7.34
# File::Spec any 3.74
# File::chdir any 0.1010
# IO::Handle any 1.39
# IPC::Open3 any 1.20
# Path::Tiny any 0.108
# Test::DZil any 6.012
# Test::EOL any 2.00
# Test::More any 1.302138
# Test::NoTabs any 2.02
# Test::Script 1.12 1.23
# Test::Version 1 2.09
# blib 1.01 1.07
# strict any 1.11
# warnings any 1.42
#
# === Test Recommends ===
#
# Module Want Have
# ---------- -------- --------
# CPAN::Meta 2.120900 2.150010
#
# === Runtime Requires ===
#
# Module Want Have
# --------------------------------- ----- --------
# Data::Section 0.004 0.200007
# Dist::Zilla::File::InMemory any 6.012
# Dist::Zilla::Role::FileFinderUser any 6.012
# Dist::Zilla::Role::FileGatherer any 6.012
# Dist::Zilla::Role::FileMunger any 6.012
# Dist::Zilla::Role::PrereqSource any 6.012
# Dist::Zilla::Role::TextTemplate any 6.012
# Moose any 2.2011
# Moose::Util::TypeConstraints any 2.2011
# Sub::Exporter::ForMethods any 0.100052
# Test::Version 1 2.09
# namespace::autoclean any 0.28
#
t/00-report-prereqs.t .. ok
t/adaptive.t ........... ok
t/file.t ............... ok
t/filename_match.t ..... ok
t/finder.t ............. ok
All tests successful.
Files=6, Tests=22, 7 wallclock secs ( 0.02 usr 0.00 sys + 3.30 cusr 0.14 csys = 3.46 CPU)
Result: PASS
------------------------------
PREREQUISITES
------------------------------
Prerequisite modules loaded:
requires:
Module Need Have
--------------------------------- ----- --------
Data::Section 0.004 0.200007
Dist::Zilla::File::InMemory 0 6.012
Dist::Zilla::Role::FileFinderUser 0 6.012
Dist::Zilla::Role::FileGatherer 0 6.012
Dist::Zilla::Role::FileMunger 0 6.012
Dist::Zilla::Role::PrereqSource 0 6.012
Dist::Zilla::Role::TextTemplate 0 6.012
Moose 0 2.2011
Moose::Util::TypeConstraints 0 2.2011
namespace::autoclean 0 0.28
perl 5.006 5.029001
Sub::Exporter::ForMethods 0 0.100052
Test::Version 1 2.09
build_requires:
Module Need Have
--------------------------------- ----- --------
blib 1.01 1.07
Dist::Zilla 5.036 6.012
ExtUtils::MakeMaker 0 7.34
File::chdir 0 0.1010
File::Spec 0 3.74
IO::Handle 0 1.39
IPC::Open3 0 1.20
Path::Tiny 0 0.108
strict 0 1.11
Test::DZil 0 6.012
Test::EOL 0 2.00
Test::More 0 1.302138
Test::NoTabs 0 2.02
Test::Script 1.12 1.23
Test::Version 1 2.09
warnings 0 1.42
configure_requires:
Module Need Have
--------------------------------- ----- --------
ExtUtils::MakeMaker 0 7.34
------------------------------
ENVIRONMENT AND OTHER CONTEXT
------------------------------
Environment variables:
LANG = en_US.UTF-8
NONINTERACTIVE_TESTING = 1
PATH = /usr/local/bin:/usr/bin:/bin:/usr/local/games:/usr/games
PERL5LIB =
PERL5OPT =
PERL5_CPANPLUS_IS_RUNNING = 2270
PERL5_CPAN_IS_RUNNING = 2270
PERL_MM_USE_DEFAULT = 1
PERL_USE_UNSAFE_INC = 1
SHELL = /bin/bash
TERM = xterm
Perl special variables (and OS-specific diagnostics, for MSWin32):
$^X = /home/stro/perl/5.29.1/bin/perl
$UID/$EUID = 1000 / 1000
$GID = 1000 24 25 29 30 44 46 108 114 1000
$EGID = 1000 24 25 29 30 44 46 108 114 1000
Perl module toolchain versions installed:
Module Have
------------------- --------
CPAN 2.20
CPAN::Meta 2.150010
Cwd 3.74
ExtUtils::CBuilder 0.280230
ExtUtils::Command 7.34
ExtUtils::Install 2.14
ExtUtils::MakeMaker 7.34
ExtUtils::Manifest 1.71
ExtUtils::ParseXS 3.39
File::Spec 3.74
JSON 2.97001
JSON::PP 2.97001
Module::Build 0.4224
Module::Signature n/a
Parse::CPAN::Meta 2.150010
Test::Harness 3.42
Test::More 1.302138
YAML 1.26
YAML::Syck 1.30
version 0.9924
--
Summary of my perl5 (revision 5 version 29 subversion 1) configuration:
Platform:
osname=linux
osvers=3.16.0-4-amd64
archname=x86_64-linux
uname='linux vm-debian-001 3.16.0-4-amd64 #1 smp debian 3.16.7-ckt11-1 (2015-05-24) x86_64 gnulinux '
config_args=''
hint=recommended
useposix=true
d_sigaction=define
useithreads=undef
usemultiplicity=undef
use64bitint=define
use64bitall=define
uselongdouble=undef
usemymalloc=n
default_inc_excludes_dot=define
bincompat5005=undef
Compiler:
cc='cc'
ccflags ='-fwrapv -fno-strict-aliasing -pipe -fstack-protector-strong -I/usr/local/include -D_LARGEFILE_SOURCE -D_FILE_OFFSET_BITS=64 -D_FORTIFY_SOURCE=2'
optimize='-O2'
cppflags='-fwrapv -fno-strict-aliasing -pipe -fstack-protector-strong -I/usr/local/include'
ccversion=''
gccversion='4.9.2'
gccosandvers=''
intsize=4
longsize=8
ptrsize=8
doublesize=8
byteorder=12345678
doublekind=3
d_longlong=define
longlongsize=8
d_longdbl=define
longdblsize=16
longdblkind=3
ivtype='long'
ivsize=8
nvtype='double'
nvsize=8
Off_t='off_t'
lseeksize=8
alignbytes=8
prototype=define
Linker and Libraries:
ld='cc'
ldflags =' -fstack-protector-strong -L/usr/local/lib'
libpth=/usr/local/lib /usr/lib/gcc/x86_64-linux-gnu/4.9/include-fixed /usr/include/x86_64-linux-gnu /usr/lib /lib/x86_64-linux-gnu /lib/../lib /usr/lib/x86_64-linux-gnu /usr/lib/../lib /lib
libs=-lpthread -lnsl -ldl -lm -lcrypt -lutil -lc
perllibs=-lpthread -lnsl -ldl -lm -lcrypt -lutil -lc
libc=libc-2.19.so
so=so
useshrplib=false
libperl=libperl.a
gnulibc_version='2.19'
Dynamic Linking:
dlsrc=dl_dlopen.xs
dlext=so
d_dlsymun=undef
ccdlflags='-Wl,-E'
cccdlflags='-fPIC'
lddlflags='-shared -O2 -L/usr/local/lib -fstack-protector-strong'
Characteristics of this binary (from libperl):
Compile-time options:
HAS_TIMES
PERLIO_LAYERS
PERL_COPY_ON_WRITE
PERL_DONT_CREATE_GVSV
PERL_MALLOC_WRAP
PERL_OP_PARENT
PERL_PRESERVE_IVUV
USE_64_BIT_ALL
USE_64_BIT_INT
USE_LARGE_FILES
USE_LOCALE
USE_LOCALE_COLLATE
USE_LOCALE_CTYPE
USE_LOCALE_NUMERIC
USE_LOCALE_TIME
USE_PERLIO
USE_PERL_ATOF
Built under linux
Compiled at Aug 13 2018 12:42:20
%ENV:
PERL5LIB=""
PERL5OPT=""
PERL5_CPANPLUS_IS_RUNNING="2270"
PERL5_CPAN_IS_RUNNING="2270"
PERL_MM_USE_DEFAULT="1"
PERL_USE_UNSAFE_INC="1"
@INC:
/home/stro/perl/5.29.1/lib/site_perl/5.29.1/x86_64-linux
/home/stro/perl/5.29.1/lib/site_perl/5.29.1
/home/stro/perl/5.29.1/lib/5.29.1/x86_64-linux
/home/stro/perl/5.29.1/lib/5.29.1
.