Dist-Zilla-Plugin-ChangelogFromGit-CPAN-Changes v0.230680 Perl 5 v5.28.2 i686-linux-thread-multi-64int

Status
Pass
From
Chris Williams (BINGOS)
Dist
Dist-Zilla-Plugin-ChangelogFromGit-CPAN-Changes v0.230680
Platform
Perl 5 v5.28.2 i686-linux-thread-multi-64int
Date
2023-03-13 07:59:22
ID
f6f1e9d0-c174-11ed-aba6-9a79f339625c
This distribution has been tested as part of the CPAN Testers
project, supporting the Perl programming language.  See
http://wiki.cpantesters.org/ for more information or email
questions to cpan-testers-discuss@perl.org


--

Dear IOANR,

This is a computer-generated error report created automatically by
CPANPLUS, version 0.9914. Testers personal comments may appear
at the end of this report.


Thank you for uploading your work to CPAN.  Congratulations!
All tests were successful.

TEST RESULTS:

Below is the error stack from stage 'make test':

t/00-check-deps.t ...... ok
t/00-compile.t ......... ok
# 
# Versions for all modules listed in MYMETA.json (including optional ones):
# 
# === Configure Requires ===
# 
#     Module               Want  Have
#     ------------------- ----- -----
#     Module::Build::Tiny 0.034 0.039
# 
# === Test Requires ===
# 
#     Module                       Want     Have
#     --------------------------- ----- --------
#     Archive::Tar                  any     2.40
#     Dist::Zilla::File::InMemory   any    6.030
#     ExtUtils::MakeMaker           any     7.64
#     File::Spec                    any     3.75
#     File::chdir                   any   0.1011
#     IO::Handle                    any     1.39
#     IPC::Open3                    any     1.20
#     Path::Tiny                    any    0.144
#     Test::CPAN::Changes           any 0.400002
#     Test::CheckDeps             0.010    0.010
#     Test::DZil                    any    6.030
#     Test::More                   0.94 1.302191
#     Test::Roo                     any    1.004
#     Test::Roo::Role               any    1.004
#     Test::TempDir::Tiny           any    0.018
#     lib                           any     0.64
#     strict                        any     1.11
#     warnings                      any     1.42
# 
# === Test Recommends ===
# 
#     Module         Want     Have
#     ---------- -------- --------
#     CPAN::Meta 2.120900 2.150010
# 
# === Runtime Requires ===
# 
#     Module                              Want     Have
#     ------------------------------- -------- --------
#     CPAN::Changes                   0.400002 0.400002
#     CPAN::Changes::Release               any    undef
#     Class::Load                          any     0.25
#     DateTime                             any     1.59
#     Dist::Zilla                        6.005    6.030
#     Dist::Zilla::Role::AfterBuild        any    6.030
#     Dist::Zilla::Role::FileGatherer      any    6.030
#     Dist::Zilla::Role::Git::Repo         any    2.048
#     Encode                               any     3.19
#     Git::Wrapper                         any    0.048
#     Moose                                any   2.2203
#     Moose::Util::TypeConstraints         any   2.2203
#     perl                             v5.24.0 5.028002
# 
# === Runtime Recommends ===
# 
#     Module             Want    Have
#     ------------------ ---- -------
#     Proc::InvokeEditor  any missing
# 
t/00-report-prereqs.t .. ok
        # Extracting /home/cpan/pit/rel/conf/perl-5.28.2/.cpanplus/5.28.2/build/A_bTFoDSrB/Dist-Zilla-Plugin-ChangelogFromGit-CPAN-Changes-0.230680/t/data/repos/test_repo.tar.gz to /home/cpan/pit/rel/conf/perl-5.28.2/.cpanplus/5.28.2/build/A_bTFoDSrB/Dist-Zilla-Plugin-ChangelogFromGit-CPAN-Changes-0.230680/tmp/t_changes_t/default_1
        # Comparing /home/cpan/pit/rel/conf/perl-5.28.2/.cpanplus/5.28.2/build/A_bTFoDSrB/Dist-Zilla-Plugin-ChangelogFromGit-CPAN-Changes-0.230680/tmp/2s_ZuSeHc1/build/Changes to t/data/changes/v1_defaults
        # Comparing /home/cpan/pit/rel/conf/perl-5.28.2/.cpanplus/5.28.2/build/A_bTFoDSrB/Dist-Zilla-Plugin-ChangelogFromGit-CPAN-Changes-0.230680/tmp/c9f5CDZj5h/build/Changes to t/data/changes/v1_no_author
        # Comparing /home/cpan/pit/rel/conf/perl-5.28.2/.cpanplus/5.28.2/build/A_bTFoDSrB/Dist-Zilla-Plugin-ChangelogFromGit-CPAN-Changes-0.230680/tmp/rQxM6rUKrY/build/Changes to t/data/changes/v1_email
        # Comparing /home/cpan/pit/rel/conf/perl-5.28.2/.cpanplus/5.28.2/build/A_bTFoDSrB/Dist-Zilla-Plugin-ChangelogFromGit-CPAN-Changes-0.230680/tmp/nGItrdcUgy/build/Changes to t/data/changes/v1_group_author
        # Comparing /home/cpan/pit/rel/conf/perl-5.28.2/.cpanplus/5.28.2/build/A_bTFoDSrB/Dist-Zilla-Plugin-ChangelogFromGit-CPAN-Changes-0.230680/tmp/sdErG_KMPy/build/Changes to t/data/changes/v1_group_author_email
t/changes.t ............ ok
        # Extracting /home/cpan/pit/rel/conf/perl-5.28.2/.cpanplus/5.28.2/build/A_bTFoDSrB/Dist-Zilla-Plugin-ChangelogFromGit-CPAN-Changes-0.230680/t/data/repos/first_release.tar.gz to /home/cpan/pit/rel/conf/perl-5.28.2/.cpanplus/5.28.2/build/A_bTFoDSrB/Dist-Zilla-Plugin-ChangelogFromGit-CPAN-Changes-0.230680/tmp/t_first_release_t/default_1
        # Comparing /home/cpan/pit/rel/conf/perl-5.28.2/.cpanplus/5.28.2/build/A_bTFoDSrB/Dist-Zilla-Plugin-ChangelogFromGit-CPAN-Changes-0.230680/tmp/JPuW9vGOdU/build/Changes to t/data/changes/first_release
t/first_release.t ...... ok
All tests successful.
Files=5, Tests=36,  4 wallclock secs ( 0.04 usr  0.01 sys +  2.78 cusr  0.38 csys =  3.21 CPU)
Result: PASS


PREREQUISITES:

Here is a list of prerequisites you specified and versions we
managed to load:

	  Module Name                        Have     Want
	  Archive::Tar                       2.40        0
	  CPAN::Changes                  0.400002 0.400002
	  CPAN::Changes::Release                0        0
	  Class::Load                        0.25        0
	  DateTime                           1.59        0
	  Dist::Zilla                       6.030    6.005
	  Dist::Zilla::File::InMemory       6.030        0
	  Dist::Zilla::Role::AfterBuild     6.030        0
	  Dist::Zilla::Role::FileGatherer    6.030        0
	  Dist::Zilla::Role::Git::Repo      2.048        0
	  Encode                             3.19        0
	  ExtUtils::MakeMaker                7.64        0
	  File::Spec                         3.75        0
	  File::chdir                      0.1011        0
	  Git::Wrapper                      0.048        0
	  IO::Handle                         1.39        0
	  IPC::Open3                         1.20        0
	  Moose                            2.2203        0
	  Moose::Util::TypeConstraints     2.2203        0
	  Path::Tiny                        0.144        0
	  Test::CPAN::Changes            0.400002        0
	  Test::CheckDeps                   0.010    0.010
	  Test::DZil                        6.030        0
	  Test::More                     1.302191     0.94
	  Test::Roo                         1.004        0
	  Test::Roo::Role                   1.004        0
	  Test::TempDir::Tiny               0.018        0
	  lib                                0.64        0
	  strict                             1.11        0
	  warnings                           1.42        0

Perl module toolchain versions installed:
	Module Name                        Have
	CPANPLUS                         0.9914
	CPANPLUS::Dist::Build              0.90
	Cwd                                3.75
	ExtUtils::CBuilder             0.280236
	ExtUtils::Command                  7.64
	ExtUtils::Install                  2.20
	ExtUtils::MakeMaker                7.64
	ExtUtils::Manifest                 1.73
	ExtUtils::ParseXS                  3.44
	File::Spec                         3.75
	Module::Build                    0.4231
	Pod::Parser                        1.63
	Pod::Simple                        3.35
	Test2                          1.302191
	Test::Harness                      3.44
	Test::More                     1.302191
	version                          0.9929

******************************** NOTE ********************************
The comments above are created mechanically, possibly without manual
checking by the sender.  As there are many people performing automatic
tests on each upload to CPAN, it is likely that you will receive
identical messages about the same problem.

If you believe that the message is mistaken, please reply to the first
one with correction and/or additional informations, and do not take
it personally.  We appreciate your patience. :)
**********************************************************************

Additional comments:


This report was machine-generated by CPANPLUS::Dist::YACSmoke 1.08.
Powered by minismokebox version 0.68

CPANPLUS is prefering Build.PL

------------------------------
ENVIRONMENT AND OTHER CONTEXT
------------------------------

Environment variables:

    AUTOMATED_TESTING = 1
    LANG = en_GB.UTF-8
    LANGUAGE = en_GB:en
    NONINTERACTIVE_TESTING = 1
    PATH = /usr/local/bin:/usr/bin:/bin:/usr/local/games:/usr/games
    PERL5LIB = /home/cpan/pit/jail/8LUI1ffBCY/lib/perl5:/home/cpan/pit/rel/conf/perl-5.28.2/.cpanplus/5.28.2/build/A_bTFoDSrB/Dist-Zilla-Plugin-ChangelogFromGit-CPAN-Changes-0.230680/blib/lib:/home/cpan/pit/rel/conf/perl-5.28.2/.cpanplus/5.28.2/build/A_bTFoDSrB/Dist-Zilla-Plugin-ChangelogFromGit-CPAN-Changes-0.230680/blib/arch
    PERL5_CPANPLUS_IS_RUNNING = 8055
    PERL5_CPANPLUS_IS_VERSION = 0.9914
    PERL5_MINISMOKEBOX = 0.68
    PERL5_YACSMOKE_BASE = /home/cpan/pit/rel/conf/perl-5.28.2
    PERL_EXTUTILS_AUTOINSTALL = --defaultdeps
    PERL_LOCAL_LIB_ROOT = /home/cpan/pit/jail/8LUI1ffBCY
    PERL_MB_OPT = --install_base "/home/cpan/pit/jail/8LUI1ffBCY"
    PERL_MM_OPT = INSTALL_BASE=/home/cpan/pit/jail/8LUI1ffBCY
    PERL_MM_USE_DEFAULT = 1
    SHELL = /bin/bash
    TERM = screen.xterm-256color

Perl special variables (and OS-specific diagnostics, for MSWin32):

    Perl: $^X = /home/cpan/pit/rel/perl-5.28.2/bin/perl
    UID:  $<  = 1001
    EUID: $>  = 1001
    GID:  $(  = 1001 1001
    EGID: $)  = 1001 1001


-------------------------------


--

Summary of my perl5 (revision 5 version 28 subversion 2) configuration:
   
  Platform:
    osname=linux
    osvers=5.10.0-12-686
    archname=i686-linux-thread-multi-64int
    uname='linux dagobah 5.10.0-12-686 #1 smp debian 5.10.103-1 (2022-03-07) i686 gnulinux '
    config_args='-des -Dprefix=/home/cpan/pit/rel/perl-5.28.2 -Dusethreads -Duse64bitint'
    hint=recommended
    useposix=true
    d_sigaction=define
    useithreads=define
    usemultiplicity=define
    use64bitint=define
    use64bitall=undef
    uselongdouble=undef
    usemymalloc=n
    default_inc_excludes_dot=define
    bincompat5005=undef
  Compiler:
    cc='cc'
    ccflags ='-D_REENTRANT -D_GNU_SOURCE -fwrapv -fno-strict-aliasing -pipe -fstack-protector-strong -I/usr/local/include -D_LARGEFILE_SOURCE -D_FILE_OFFSET_BITS=64 -D_FORTIFY_SOURCE=2'
    optimize='-O2'
    cppflags='-D_REENTRANT -D_GNU_SOURCE -fwrapv -fno-strict-aliasing -pipe -fstack-protector-strong -I/usr/local/include'
    ccversion=''
    gccversion='10.2.1 20210110'
    gccosandvers=''
    intsize=4
    longsize=4
    ptrsize=4
    doublesize=8
    byteorder=12345678
    doublekind=3
    d_longlong=define
    longlongsize=8
    d_longdbl=define
    longdblsize=12
    longdblkind=3
    ivtype='long long'
    ivsize=8
    nvtype='double'
    nvsize=8
    Off_t='off_t'
    lseeksize=8
    alignbytes=4
    prototype=define
  Linker and Libraries:
    ld='cc'
    ldflags =' -fstack-protector-strong -L/usr/local/lib'
    libpth=/usr/local/lib /usr/include/i386-linux-gnu /usr/lib /lib/i386-linux-gnu /lib/../lib /usr/lib/i386-linux-gnu /usr/lib/../lib /lib /lib64 /usr/lib64
    libs=-lpthread -lnsl -lgdbm -ldl -lm -lcrypt -lutil -lc
    perllibs=-lpthread -lnsl -ldl -lm -lcrypt -lutil -lc
    libc=libc-2.31.so
    so=so
    useshrplib=false
    libperl=libperl.a
    gnulibc_version='2.31'
  Dynamic Linking:
    dlsrc=dl_dlopen.xs
    dlext=so
    d_dlsymun=undef
    ccdlflags='-Wl,-E'
    cccdlflags='-fPIC'
    lddlflags='-shared -O2 -L/usr/local/lib -fstack-protector-strong'


Characteristics of this binary (from libperl): 
  Compile-time options:
    HAS_TIMES
    MULTIPLICITY
    PERLIO_LAYERS
    PERL_COPY_ON_WRITE
    PERL_DONT_CREATE_GVSV
    PERL_IMPLICIT_CONTEXT
    PERL_MALLOC_WRAP
    PERL_OP_PARENT
    PERL_PRESERVE_IVUV
    USE_64_BIT_INT
    USE_ITHREADS
    USE_LARGE_FILES
    USE_LOCALE
    USE_LOCALE_COLLATE
    USE_LOCALE_CTYPE
    USE_LOCALE_NUMERIC
    USE_LOCALE_TIME
    USE_PERLIO
    USE_PERL_ATOF
    USE_REENTRANT_API
  Locally applied patches:
    Devel::PatchPerl 2.08
  Built under linux
  Compiled at Mar 18 2022 15:35:50
  %ENV:
    PERL5LIB="/home/cpan/pit/jail/8LUI1ffBCY/lib/perl5:/home/cpan/pit/rel/conf/perl-5.28.2/.cpanplus/5.28.2/build/A_bTFoDSrB/Dist-Zilla-Plugin-ChangelogFromGit-CPAN-Changes-0.230680/blib/lib:/home/cpan/pit/rel/conf/perl-5.28.2/.cpanplus/5.28.2/build/A_bTFoDSrB/Dist-Zilla-Plugin-ChangelogFromGit-CPAN-Changes-0.230680/blib/arch"
    PERL5_CPANPLUS_IS_RUNNING="8055"
    PERL5_CPANPLUS_IS_VERSION="0.9914"
    PERL5_MINISMOKEBOX="0.68"
    PERL5_YACSMOKE_BASE="/home/cpan/pit/rel/conf/perl-5.28.2"
    PERL_EXTUTILS_AUTOINSTALL="--defaultdeps"
    PERL_LOCAL_LIB_ROOT="/home/cpan/pit/jail/8LUI1ffBCY"
    PERL_MB_OPT="--install_base "/home/cpan/pit/jail/8LUI1ffBCY""
    PERL_MM_OPT="INSTALL_BASE=/home/cpan/pit/jail/8LUI1ffBCY"
    PERL_MM_USE_DEFAULT="1"
  @INC:
    /home/cpan/pit/jail/8LUI1ffBCY/lib/perl5/5.28.2/i686-linux-thread-multi-64int
    /home/cpan/pit/jail/8LUI1ffBCY/lib/perl5/5.28.2
    /home/cpan/pit/jail/8LUI1ffBCY/lib/perl5/i686-linux-thread-multi-64int
    /home/cpan/pit/jail/8LUI1ffBCY/lib/perl5
    /home/cpan/pit/rel/conf/perl-5.28.2/.cpanplus/5.28.2/build/A_bTFoDSrB/Dist-Zilla-Plugin-ChangelogFromGit-CPAN-Changes-0.230680/blib/lib
    /home/cpan/pit/rel/conf/perl-5.28.2/.cpanplus/5.28.2/build/A_bTFoDSrB/Dist-Zilla-Plugin-ChangelogFromGit-CPAN-Changes-0.230680/blib/arch
    /home/cpan/pit/rel/perl-5.28.2/lib/site_perl/5.28.2/i686-linux-thread-multi-64int
    /home/cpan/pit/rel/perl-5.28.2/lib/site_perl/5.28.2
    /home/cpan/pit/rel/perl-5.28.2/lib/5.28.2/i686-linux-thread-multi-64int
    /home/cpan/pit/rel/perl-5.28.2/lib/5.28.2