Report for HTML-Mason-1.53

Back
From: metabase:user:6f0cc372-4c19-11e2-91ab-d83883dc70e1
Subject: PASS HTML-Mason-1.53 v5.18.2 SunOS/Solaris
Date: 2014-01-19T07:40:27Z

This distribution has been tested as part of the CPAN Testers
project, supporting the Perl programming language.  See
http://wiki.cpantesters.org/ for more information or email
questions to cpan-testers-discuss@perl.org


--
Dear Jonathan Swartz,

This is a computer-generated report for HTML-Mason-1.53
on perl 5.18.2, created by CPAN-Reporter-1.2010.

Thank you for uploading your work to CPAN.  Congratulations!
All tests were successful.

Sections of this report:

    * Tester comments
    * Program output
    * Prerequisites
    * Environment and other context

------------------------------
TESTER COMMENTS
------------------------------

Additional comments from tester:

this report is from an automated smoke testing program
and was not reviewed by a human for accuracy

------------------------------
PROGRAM OUTPUT
------------------------------

Output from '/usr/bin/make test':

PERL_DL_NONLAZY=1 /home/dana/perl5/perlbrew/perls/perl-5.18.2/bin/perl "-MExtUtils::Command::MM" "-MTest::Harness" "-e" "undef *Test::Harness::Switches; test_harness(0, 'blib/lib', 'blib/arch')" t/*.t t/author-live/*.t
t/01-syntax.t ............................. ok
t/01a-comp-calls.t ........................ ok
t/02-sections.t ........................... ok
t/02a-filter.t ............................ ok
t/04-misc.t ............................... ok
t/05-request.t ............................ ok
t/05a-stack-corruption.t .................. ok
t/06-compiler.t ........................... ok
t/06a-compiler_obj.t ...................... ok
t/06b-compiler-named-subs.t ............... ok
t/06c-compiler-spaces-path.t .............. ok
t/07-interp.t ............................. ok
t/07a-interp-mcr.t ........................ ok
t/07b-interp-static-source.t .............. ok
t/09-component.t .......................... ok
t/09a-comp_content.t ...................... ok
t/10-cache.t .............................. ok
t/10a-cache-1.0x.t ........................ ok
t/10b-cache-chi.t ......................... skipped: CHI 0.21+ is not installed
t/11-inherit.t ............................ ok
t/12-taint.t .............................. ok
t/13-errors.t ............................. ok
t/14-cgi.t ................................ ok
t/14a-fake_apache.t ....................... ok
t/15-subclass.t ........................... ok
t/17-print.t .............................. ok
t/18-leak.t ............................... ok
t/19-subrequest.t ......................... ok
t/20-plugins.t ............................ ok
t/21-escapes.t ............................ ok
t/22-path-security.t ...................... ok
t/23-leak2.t .............................. skipped: These tests require Test::Memory::Cycle to run.
t/24-tools.t .............................. ok
t/25-flush-in-content.t ................... ok
t/25-log.t ................................ ok
t/99-pod.t ................................ ok
t/author-live/apache-filter.t ............. skipped: these tests are for testing by the author
t/author-live/cgi-no-handler.t ............ skipped: these tests are for testing by the author
t/author-live/cgi-with-handler.t .......... skipped: these tests are for testing by the author
t/author-live/CGIHandler.t ................ skipped: these tests are for testing by the author
t/author-live/libapreq-no-handler.t ....... skipped: these tests are for testing by the author
t/author-live/libapreq-with-handler.t ..... skipped: these tests are for testing by the author
t/author-live/multi-conf.t ................ skipped: these tests are for testing by the author
t/author-live/no-config.t ................. skipped: these tests are for testing by the author
t/author-live/set-content-type.t .......... skipped: these tests are for testing by the author
t/author-live/single-level-server-root.t .. skipped: these tests are for testing by the author
t/author-live/taint.t ..................... skipped: these tests are for testing by the author
All tests successful.
Files=47, Tests=550, 28 wallclock secs ( 0.27 usr  0.14 sys +  6.50 cusr  2.53 csys =  9.44 CPU)
Result: PASS

------------------------------
PREREQUISITES
------------------------------

Prerequisite modules loaded:

requires:

    Module              Need Have 
    ------------------- ---- -----
    Cache::Cache        1.00 1.06 
    CGI                 2.46 3.63 
    Class::Container    0.07 0.12 
    Exception::Class    1.15 1.37 
    File::Spec          0.8  3.40 
    HTML::Entities      0    3.69 
    Log::Any            0.08 0.15 
    Params::Validate    0.70 1.08 
    Scalar::Util        1.01 1.35 

build_requires:

    Module              Need Have 
    ------------------- ---- -----
    Test::Deep          0    0.112

configure_requires:

    Module              Need Have 
    ------------------- ---- -----
    ExtUtils::MakeMaker 6.30 6.86 


------------------------------
ENVIRONMENT AND OTHER CONTEXT
------------------------------

Environment variables:

    AUTOMATED_TESTING = 1
    LANG = C
    PATH = /home/dana/perl5/perlbrew/bin:/home/dana/perl5/perlbrew/perls/perl-5.18.2/bin:/usr/bin:/usr/sbin
    PERL5LIB = /home/dana/.cpan/build/Class-Container-0.12-npeR_N/blib/arch:/home/dana/.cpan/build/Class-Container-0.12-npeR_N/blib/lib:/home/dana/.cpan/build/Log-Any-0.15-kmlxOk/blib/arch:/home/dana/.cpan/build/Log-Any-0.15-kmlxOk/blib/lib:/home/dana/.cpan/build/Cache-Cache-1.06-176LKT/blib/arch:/home/dana/.cpan/build/Cache-Cache-1.06-176LKT/blib/lib:/home/dana/.cpan/build/Error-0.17021-FKPMq2/blib/arch:/home/dana/.cpan/build/Error-0.17021-FKPMq2/blib/lib:/home/dana/.cpan/build/Digest-SHA1-2.13-tN8FIU/blib/arch:/home/dana/.cpan/build/Digest-SHA1-2.13-tN8FIU/blib/lib
    PERL5OPT = 
    PERL5_CPANPLUS_IS_RUNNING = 17977
    PERL5_CPAN_IS_RUNNING = 17977
    PERL5_CPAN_IS_RUNNING_IN_RECURSION = 8406,17977
    PERLBREW_BASHRC_VERSION = 0.58
    PERLBREW_HOME = /home/dana/.perlbrew
    PERLBREW_MANPATH = /home/dana/perl5/perlbrew/perls/perl-5.18.2/man
    PERLBREW_PATH = /home/dana/perl5/perlbrew/bin:/home/dana/perl5/perlbrew/perls/perl-5.18.2/bin
    PERLBREW_PERL = perl-5.18.2
    PERLBREW_ROOT = /home/dana/perl5/perlbrew
    PERLBREW_VERSION = 0.58
    PERL_CR_SMOKER_CURRENT = HTML-Mason-1.53
    PERL_EXTUTILS_AUTOINSTALL = --defaultdeps
    PERL_MM_USE_DEFAULT = 1
    SHELL = /usr/bin/bash
    TERM = xterm

Perl special variables (and OS-specific diagnostics, for MSWin32):

    $^X = /home/dana/perl5/perlbrew/perls/perl-5.18.2/bin/perl
    $UID/$EUID = 60004 / 60004
    $GID = 10 10
    $EGID = 10 10

Perl module toolchain versions installed:

    Module              Have    
    ------------------- --------
    CPAN                2.00    
    CPAN::Meta          2.133380
    Cwd                 3.40    
    ExtUtils::CBuilder  0.280210
    ExtUtils::Command   1.17    
    ExtUtils::Install   1.59    
    ExtUtils::MakeMaker 6.86    
    ExtUtils::Manifest  1.63    
    ExtUtils::ParseXS   3.22    
    File::Spec          3.40    
    JSON                2.90    
    JSON::PP            2.27203 
    Module::Build       0.4204  
    Module::Signature   n/a     
    Parse::CPAN::Meta   1.4405  
    Test::Harness       3.30    
    Test::More          1.001002
    YAML                0.88    
    YAML::Syck          1.27    
    version             0.9902  


--

Summary of my perl5 (revision 5 version 18 subversion 2) configuration:
   
  Platform:
    osname=solaris, osvers=2.11, archname=i86pc-solaris
    uname='sunos solaris 5.11 11.0 i86pc i386 i86pc '
    config_args='-de -Dprefix=/home/dana/perl5/perlbrew/perls/perl-5.18.2 -Dcc=gcc -Aeval:scriptdir=/home/dana/perl5/perlbrew/perls/perl-5.18.2/bin'
    hint=recommended, useposix=true, d_sigaction=define
    useithreads=undef, usemultiplicity=undef
    useperlio=define, d_sfio=undef, uselargefiles=define, usesocks=undef
    use64bitint=undef, use64bitall=undef, uselongdouble=undef
    usemymalloc=n, bincompat5005=undef
  Compiler:
    cc='gcc', ccflags ='-fno-strict-aliasing -pipe -fstack-protector -D_LARGEFILE_SOURCE -D_FILE_OFFSET_BITS=64 -DPERL_USE_SAFE_PUTENV -DPERL_USE_SAFE_PUTENV -DPERL_USE_SAFE_PUTENV',
    optimize='-O',
    cppflags='-fno-strict-aliasing -pipe -fstack-protector'
    ccversion='', gccversion='4.5.2', gccosandvers=''
    intsize=4, longsize=4, ptrsize=4, doublesize=8, byteorder=1234
    d_longlong=define, longlongsize=8, d_longdbl=define, longdblsize=12
    ivtype='long', ivsize=4, nvtype='double', nvsize=8, Off_t='off_t', lseeksize=8
    alignbytes=4, prototype=define
  Linker and Libraries:
    ld='gcc', ldflags =' -fstack-protector -L/usr/gnu/lib '
    libpth=/usr/gnu/lib /usr/lib /usr/ccs/lib
    libs=-lsocket -lnsl -lgdbm -ldb -ldl -lm -lc
    perllibs=-lsocket -lnsl -ldl -lm -lc
    libc=/lib/libc.so, so=so, useshrplib=false, libperl=libperl.a
    gnulibc_version=''
  Dynamic Linking:
    dlsrc=dl_dlopen.xs, dlext=so, d_dlsymun=undef, ccdlflags=' '
    cccdlflags='-fPIC', lddlflags='-shared -L/usr/gnu/lib -fstack-protector'


Characteristics of this binary (from libperl): 
  Compile-time options: HAS_TIMES PERLIO_LAYERS PERL_DONT_CREATE_GVSV
                        PERL_HASH_FUNC_ONE_AT_A_TIME_HARD PERL_MALLOC_WRAP
                        PERL_PRESERVE_IVUV PERL_SAWAMPERSAND
                        PERL_USE_SAFE_PUTENV USE_LARGE_FILES USE_LOCALE
                        USE_LOCALE_COLLATE USE_LOCALE_CTYPE
                        USE_LOCALE_NUMERIC USE_PERLIO USE_PERL_ATOF
  Built under solaris
  Compiled at Jan 15 2014 09:23:36
  %ENV:
    PERL5LIB="/home/dana/.cpan/build/Class-Container-0.12-npeR_N/blib/arch:/home/dana/.cpan/build/Class-Container-0.12-npeR_N/blib/lib:/home/dana/.cpan/build/Log-Any-0.15-kmlxOk/blib/arch:/home/dana/.cpan/build/Log-Any-0.15-kmlxOk/blib/lib:/home/dana/.cpan/build/Cache-Cache-1.06-176LKT/blib/arch:/home/dana/.cpan/build/Cache-Cache-1.06-176LKT/blib/lib:/home/dana/.cpan/build/Error-0.17021-FKPMq2/blib/arch:/home/dana/.cpan/build/Error-0.17021-FKPMq2/blib/lib:/home/dana/.cpan/build/Digest-SHA1-2.13-tN8FIU/blib/arch:/home/dana/.cpan/build/Digest-SHA1-2.13-tN8FIU/blib/lib"
    PERL5OPT=""
    PERL5_CPANPLUS_IS_RUNNING="17977"
    PERL5_CPAN_IS_RUNNING="17977"
    PERL5_CPAN_IS_RUNNING_IN_RECURSION="8406,17977"
    PERLBREW_BASHRC_VERSION="0.58"
    PERLBREW_HOME="/home/dana/.perlbrew"
    PERLBREW_MANPATH="/home/dana/perl5/perlbrew/perls/perl-5.18.2/man"
    PERLBREW_PATH="/home/dana/perl5/perlbrew/bin:/home/dana/perl5/perlbrew/perls/perl-5.18.2/bin"
    PERLBREW_PERL="perl-5.18.2"
    PERLBREW_ROOT="/home/dana/perl5/perlbrew"
    PERLBREW_VERSION="0.58"
    PERL_CR_SMOKER_CURRENT="HTML-Mason-1.53"
    PERL_EXTUTILS_AUTOINSTALL="--defaultdeps"
    PERL_MM_USE_DEFAULT="1"
  @INC:
    /home/dana/.cpan/build/Class-Container-0.12-npeR_N/blib/arch
    /home/dana/.cpan/build/Class-Container-0.12-npeR_N/blib/lib
    /home/dana/.cpan/build/Log-Any-0.15-kmlxOk/blib/arch
    /home/dana/.cpan/build/Log-Any-0.15-kmlxOk/blib/lib
    /home/dana/.cpan/build/Cache-Cache-1.06-176LKT/blib/arch
    /home/dana/.cpan/build/Cache-Cache-1.06-176LKT/blib/lib
    /home/dana/.cpan/build/Error-0.17021-FKPMq2/blib/arch
    /home/dana/.cpan/build/Error-0.17021-FKPMq2/blib/lib
    /home/dana/.cpan/build/Digest-SHA1-2.13-tN8FIU/blib/arch
    /home/dana/.cpan/build/Digest-SHA1-2.13-tN8FIU/blib/lib
    /home/dana/perl5/perlbrew/perls/perl-5.18.2/lib/site_perl/5.18.2/i86pc-solaris
    /home/dana/perl5/perlbrew/perls/perl-5.18.2/lib/site_perl/5.18.2
    /home/dana/perl5/perlbrew/perls/perl-5.18.2/lib/5.18.2/i86pc-solaris
    /home/dana/perl5/perlbrew/perls/perl-5.18.2/lib/5.18.2
    .