Dancer2-Plugin-GraphQL v0.09 Perl 5 v5.37.3 x86_64-linux-thread-multi

Status
Pass
From
Andreas J. König (ANDK)
Dist
Dancer2-Plugin-GraphQL v0.09
Platform
Perl 5 v5.37.3 x86_64-linux-thread-multi
Date
2023-02-14 02:04:50
ID
f71d9932-ac0b-11ed-979c-3d8a4697951c
This distribution has been tested as part of the CPAN Testers
project, supporting the Perl programming language.  See
http://wiki.cpantesters.org/ for more information or email
questions to cpan-testers-discuss@perl.org


--
Dear Ed J,

This is a computer-generated report for Dancer2-Plugin-GraphQL-0.09
on perl 5.37.3, created by CPAN-Reporter-1.2018.

Thank you for uploading your work to CPAN.  Congratulations!
All tests were successful.

Sections of this report:

    * Tester comments
    * Program output
    * Prerequisites
    * Environment and other context

------------------------------
TESTER COMMENTS
------------------------------

Additional comments from tester:

this report is from an automated smoke testing program
and was not reviewed by a human for accuracy

------------------------------
PROGRAM OUTPUT
------------------------------

Output from '/usr/bin/make test':

PERL_DL_NONLAZY=1 "/home/sand/src/perl/repoperls/installed-perls/host/k93msid/v5.37.3/29fb/bin/perl" "-MExtUtils::Command::MM" "-MTest::Harness" "-e" "undef *Test::Harness::Switches; test_harness(0, 'blib/lib', 'blib/arch')" t/*.t
t/00-compile.t ......... ok
# 
# Versions for all modules listed in MYMETA.json (including optional ones):
# 
# === Configure Requires ===
# 
#     Module                 Want Have Where                                                                              Howbig
#     ------------------- ------- ---- ---------------------------------------------------------------------------------- ------
#     ExtUtils::MakeMaker 6.63_03 7.64 /home/sand/src/perl/repoperls/installed-perls/host/k93msid/v5.37.3/29fb/lib/5.37.3 109482
# 
# === Build Requires ===
# 
#     Module              Want Have Where                                                                              Howbig
#     ------------------- ---- ---- ---------------------------------------------------------------------------------- ------
#     ExtUtils::MakeMaker  any 7.64 /home/sand/src/perl/repoperls/installed-perls/host/k93msid/v5.37.3/29fb/lib/5.37.3 109482
# 
# === Test Requires ===
# 
#     Module                    Want     Have Where                                                                                                        Howbig
#     --------------------- -------- -------- ------------------------------------------------------------------------------------------------------------ ------
#     Dancer2               0.200000 0.400000 /home/sand/src/perl/repoperls/installed-perls/host/k93msid/v5.37.3/29fb/lib/site_perl/5.37.3                   9533
#     ExtUtils::MakeMaker        any     7.64 /home/sand/src/perl/repoperls/installed-perls/host/k93msid/v5.37.3/29fb/lib/5.37.3                           109482
#     File::Spec                 any     3.86 /home/sand/src/perl/repoperls/installed-perls/host/k93msid/v5.37.3/29fb/lib/5.37.3/x86_64-linux-thread-multi  10562
#     HTTP::Request::Common      any     6.44 /home/sand/src/perl/repoperls/installed-perls/host/k93msid/v5.37.3/29fb/lib/site_perl/5.37.3                  16387
#     IO::Handle                 any     1.49 /home/sand/src/perl/repoperls/installed-perls/host/k93msid/v5.37.3/29fb/lib/5.37.3/x86_64-linux-thread-multi  16641
#     IPC::Open3                 any     1.22 /home/sand/src/perl/repoperls/installed-perls/host/k93msid/v5.37.3/29fb/lib/5.37.3                            13424
#     Plack::Test                any    undef /home/sand/src/perl/repoperls/installed-perls/host/k93msid/v5.37.3/29fb/lib/site_perl/5.37.3                   4800
#     Test::More                0.92 1.302191 /home/sand/src/perl/repoperls/installed-perls/host/k93msid/v5.37.3/29fb/lib/5.37.3                            52979
#     blib                      1.01     1.07 /home/sand/src/perl/repoperls/installed-perls/host/k93msid/v5.37.3/29fb/lib/5.37.3                             2062
# 
# === Runtime Requires ===
# 
#     Module                   Want     Have Where                                                                                        Howbig
#     -------------------- -------- -------- -------------------------------------------------------------------------------------------- ------
#     Dancer2              0.200000 0.400000 /home/sand/src/perl/repoperls/installed-perls/host/k93msid/v5.37.3/29fb/lib/site_perl/5.37.3   9533
#     Dancer2::Core::Types      any 0.400000 /home/sand/src/perl/repoperls/installed-perls/host/k93msid/v5.37.3/29fb/lib/site_perl/5.37.3   3014
#     Dancer2::Plugin           any 0.400000 /home/sand/src/perl/repoperls/installed-perls/host/k93msid/v5.37.3/29fb/lib/site_perl/5.37.3  31210
#     GraphQL                  0.20     0.54 /home/sand/src/perl/repoperls/installed-perls/host/k93msid/v5.37.3/29fb/lib/site_perl/5.37.3   6444
#     Module::Runtime           any    0.016 /home/sand/src/perl/repoperls/installed-perls/host/k93msid/v5.37.3/29fb/lib/site_perl/5.37.3  17521
#     strict                    any     1.12 /home/sand/src/perl/repoperls/installed-perls/host/k93msid/v5.37.3/29fb/lib/5.37.3             4783
#     warnings                  any     1.58 /home/sand/src/perl/repoperls/installed-perls/host/k93msid/v5.37.3/29fb/lib/5.37.3            55916
# 
t/00-report-prereqs.t .. ok
t/ajax.t ............... ok
All tests successful.
Files=3, Tests=6,  2 wallclock secs ( 0.03 usr  0.00 sys +  1.68 cusr  0.23 csys =  1.94 CPU)
Result: PASS

------------------------------
PREREQUISITES
------------------------------

Prerequisite modules loaded:

requires:

    Module                Need     Have    
    --------------------- -------- --------
    Dancer2               0.200000 0.400000
    Dancer2::Core::Types  0        0.400000
    Dancer2::Plugin       0        0.400000
    GraphQL               0.20     0.54    
    Module::Runtime       0        0.016   
    perl                  5.006    5.037003
    strict                0        1.12    
    warnings              0        1.58    

build_requires:

    Module                Need     Have    
    --------------------- -------- --------
    blib                  1.01     1.07    
    Dancer2               0.200000 0.400000
    ExtUtils::MakeMaker   0        7.64    
    File::Spec            0        3.86    
    HTTP::Request::Common 0        6.44    
    IO::Handle            0        1.49    
    IPC::Open3            0        1.22    
    Plack::Test           0        0       
    Test::More            0.92     1.302191

configure_requires:

    Module                Need     Have    
    --------------------- -------- --------
    ExtUtils::MakeMaker   6.63_03  7.64    


------------------------------
ENVIRONMENT AND OTHER CONTEXT
------------------------------

Environment variables:

    AUTOMATED_TESTING = 1
    LANG = en_US.UTF-8
    LANGUAGE = en_US:en
    PATH = /home/sand/bin:/usr/local/bin:/usr/bin:/bin:/usr/games:/usr/local/perl/bin:/usr/X11/bin:/sbin:/usr/sbin
    PERL5LIB = 
    PERL5OPT = 
    PERL5_CPANPLUS_IS_RUNNING = 3212017
    PERL5_CPAN_IS_RUNNING = 3212017
    PERL_CANARY_STABILITY_NOPROMPT = 1
    PERL_MM_USE_DEFAULT = 1
    PERL_USE_UNSAFE_INC = 1
    SHELL = /usr/bin/zsh
    TERM = screen

Perl special variables (and OS-specific diagnostics, for MSWin32):

    $^X = /home/sand/src/perl/repoperls/installed-perls/host/k93msid/v5.37.3/29fb/bin/perl
    $UID/$EUID = 1005 / 1005
    $GID = 1005 1005
    $EGID = 1005 1005

Perl module toolchain versions installed:

    Module              Have    
    ------------------- --------
    CPAN                2.34    
    CPAN::Meta          2.150010
    Cwd                 3.86    
    ExtUtils::CBuilder  0.280237
    ExtUtils::Command   7.64    
    ExtUtils::Install   2.20    
    ExtUtils::MakeMaker 7.64    
    ExtUtils::Manifest  1.73    
    ExtUtils::ParseXS   3.45    
    File::Spec          3.86    
    JSON                4.09    
    JSON::PP            4.16    
    Module::Build       0.4231  
    Module::Signature   0.88    
    Parse::CPAN::Meta   2.150010
    Test::Harness       3.44    
    Test::More          1.302191
    YAML                1.30    
    YAML::Syck          1.34    
    version             0.9929  


--

Summary of my perl5 (revision 5 version 37 subversion 3) configuration:
  Commit id: 29b290ccaa79f40de7d941c9a79810119f5c6363
  Platform:
    osname=linux
    osvers=5.19.0-1-amd64
    archname=x86_64-linux-thread-multi
    uname='linux k93msid 5.19.0-1-amd64 #1 smp preempt_dynamic debian 5.19.6-1 (2022-09-01) x86_64 gnulinux '
    config_args='-Dprefix=/home/sand/src/perl/repoperls/installed-perls/host/k93msid/v5.37.3/29fb -Dmyhostname=k93msid -Dinstallusrbinperl=n -Uversiononly -Dusedevel -des -Ui_db -Dlibswanted=cl pthread socket inet nsl gdbm dbm malloc dl ld sun m crypt sec util c cposix posix ucb BSD gdbm_compat -Duseithreads -Uuselongdouble -DEBUGGING=both'
    hint=recommended
    useposix=true
    d_sigaction=define
    useithreads=define
    usemultiplicity=define
    use64bitint=define
    use64bitall=define
    uselongdouble=undef
    usemymalloc=n
    default_inc_excludes_dot=define
  Compiler:
    cc='cc'
    ccflags ='-D_REENTRANT -D_GNU_SOURCE -fwrapv -DDEBUGGING -fno-strict-aliasing -pipe -fstack-protector-strong -I/usr/local/include -D_LARGEFILE_SOURCE -D_FILE_OFFSET_BITS=64 -D_FORTIFY_SOURCE=2'
    optimize='-O2 -g'
    cppflags='-D_REENTRANT -D_GNU_SOURCE -fwrapv -DDEBUGGING -fno-strict-aliasing -pipe -fstack-protector-strong -I/usr/local/include'
    ccversion=''
    gccversion='12.2.0'
    gccosandvers=''
    intsize=4
    longsize=8
    ptrsize=8
    doublesize=8
    byteorder=12345678
    doublekind=3
    d_longlong=define
    longlongsize=8
    d_longdbl=define
    longdblsize=16
    longdblkind=3
    ivtype='long'
    ivsize=8
    nvtype='double'
    nvsize=8
    Off_t='off_t'
    lseeksize=8
    alignbytes=8
    prototype=define
  Linker and Libraries:
    ld='cc'
    ldflags =' -fstack-protector-strong -L/usr/local/lib'
    libpth=/usr/local/lib /usr/lib/x86_64-linux-gnu /usr/lib /usr/lib64
    libs=-lpthread -lnsl -ldl -lm -lcrypt -lutil -lc
    perllibs=-lpthread -lnsl -ldl -lm -lcrypt -lutil -lc
    libc=/lib/x86_64-linux-gnu/libc.so.6
    so=so
    useshrplib=false
    libperl=libperl.a
    gnulibc_version='2.34'
  Dynamic Linking:
    dlsrc=dl_dlopen.xs
    dlext=so
    d_dlsymun=undef
    ccdlflags='-Wl,-E'
    cccdlflags='-fPIC'
    lddlflags='-shared -O2 -g -L/usr/local/lib -fstack-protector-strong'


Characteristics of this binary (from libperl): 
  Compile-time options:
    DEBUGGING
    HAS_TIMES
    MULTIPLICITY
    PERLIO_LAYERS
    PERL_COPY_ON_WRITE
    PERL_DONT_CREATE_GVSV
    PERL_HASH_FUNC_SIPHASH13
    PERL_HASH_USE_SBOX32
    PERL_MALLOC_WRAP
    PERL_OP_PARENT
    PERL_PRESERVE_IVUV
    PERL_TRACK_MEMPOOL
    PERL_USE_DEVEL
    PERL_USE_SAFE_PUTENV
    USE_64_BIT_ALL
    USE_64_BIT_INT
    USE_ITHREADS
    USE_LARGE_FILES
    USE_LOCALE
    USE_LOCALE_COLLATE
    USE_LOCALE_CTYPE
    USE_LOCALE_NUMERIC
    USE_LOCALE_TIME
    USE_PERLIO
    USE_PERL_ATOF
    USE_REENTRANT_API
    USE_THREAD_SAFE_LOCALE
  Built under linux
  Compiled at Sep 10 2022 16:58:29
  %ENV:
    PERL5LIB=""
    PERL5OPT=""
    PERL5_CPANPLUS_IS_RUNNING="3212017"
    PERL5_CPAN_IS_RUNNING="3212017"
    PERL_CANARY_STABILITY_NOPROMPT="1"
    PERL_MM_USE_DEFAULT="1"
    PERL_USE_UNSAFE_INC="1"
  @INC:
    /home/sand/src/perl/repoperls/installed-perls/host/k93msid/v5.37.3/29fb/lib/site_perl/5.37.3/x86_64-linux-thread-multi
    /home/sand/src/perl/repoperls/installed-perls/host/k93msid/v5.37.3/29fb/lib/site_perl/5.37.3
    /home/sand/src/perl/repoperls/installed-perls/host/k93msid/v5.37.3/29fb/lib/5.37.3/x86_64-linux-thread-multi
    /home/sand/src/perl/repoperls/installed-perls/host/k93msid/v5.37.3/29fb/lib/5.37.3
    .