Back
From: metabase:user:30977d10-2aae-11df-837a-5e0a49663a4f
Subject: PASS IPC-Filter-0.004 v5.15.0 GNU/Linux
Date: 2011-07-18T16:49:55Z
This distribution has been tested as part of the CPAN Testers
project, supporting the Perl programming language. See
http://wiki.cpantesters.org/ for more information or email
questions to cpan-testers-discuss@perl.org
--
Dear Andrew Main (Zefram),
This is a computer-generated report for IPC-Filter-0.004
on perl 5.15.0, created by CPAN-Reporter-1.19_04.
Thank you for uploading your work to CPAN. Congratulations!
All tests were successful.
Sections of this report:
* Tester comments
* Program output
* Prerequisites
* Environment and other context
------------------------------
TESTER COMMENTS
------------------------------
Additional comments from tester:
this report is from an automated smoke testing program
and was not reviewed by a human for accuracy
------------------------------
PROGRAM OUTPUT
------------------------------
Output from './Build test':
t/filter.t ... ok
t/pod_cvg.t .. ok
t/pod_syn.t .. ok
All tests successful.
Files=3, Tests=16, 0 wallclock secs ( 0.01 usr 0.02 sys + 0.29 cusr 0.03 csys = 0.35 CPU)
Result: PASS
------------------------------
PREREQUISITES
------------------------------
Prerequisite modules loaded:
requires:
Module Need Have
------------- ------ --------
Errno 1.00 1.13
Exporter 0 5.63
IO::Handle 1.12 1.28
IO::Poll 0.01 0.07
IPC::Open3 1.01 1.11
IPC::Signal 1.00 1.00
parent 0 0.225
perl 5.006 5.015000
POSIX 0 1.24
strict 0 1.04
Symbol 0 1.07
warnings 0 1.12
build_requires:
Module Need Have
------------- ------ --------
Module::Build 0.2808 0.3800
perl 5.006 5.015000
strict 0 1.04
Test::More 0 0.98
warnings 0 1.12
configure_requires:
Module Need Have
------------- ------ --------
Module::Build 0 0.3800
perl 5.006 5.015000
strict 0 1.04
warnings 0 1.12
------------------------------
ENVIRONMENT AND OTHER CONTEXT
------------------------------
Environment variables:
AUTOMATED_TESTING = 1
LANG = en_US.UTF-8
LANGUAGE = en
LC_COLLATE = C
LC_MONETARY = C
LC_NUMERIC = C
LC_TIME = C
PATH = /usr/local/sbin:/usr/local/bin:/usr/sbin:/usr/bin:/sbin:/bin
PERL5LIB =
PERL5OPT =
PERL5_CPANPLUS_IS_RUNNING = 20213
PERL5_CPAN_IS_RUNNING = 20213
PERL5_CPAN_IS_RUNNING_IN_RECURSION = 7942,20213
PERL_CR_SMOKER_CURRENT = IPC-Filter-0.004
PERL_EXTUTILS_AUTOINSTALL = --defaultdeps
PERL_MM_USE_DEFAULT = 1
SHELL = /bin/bash
TERM = xterm
Perl special variables (and OS-specific diagnostics, for MSWin32):
$^X = /home/trushel/perl/perl5150/bin/perl
$UID/$EUID = 138375 / 138375
$GID = 5762 4 20 21 24 25 26 30 44 46 104 105 119 122 431 5762
$EGID = 5762 4 20 21 24 25 26 30 44 46 104 105 119 122 431 5762
Perl module toolchain versions installed:
Module Have
------------------- --------
CPAN 1.97_51
CPAN::Meta 2.110930
Cwd 3.33
ExtUtils::CBuilder 0.280202
ExtUtils::Command 1.17
ExtUtils::Install 1.54
ExtUtils::MakeMaker 6.58
ExtUtils::Manifest 1.58
ExtUtils::ParseXS 3.00_02
File::Spec 3.33
JSON 2.53
JSON::PP 2.27200
Module::Build 0.3800
Module::Signature 0.68
Parse::CPAN::Meta 1.4401
Test::Harness 3.23
Test::More 0.98
YAML 0.73
YAML::Syck n/a
version 0.91
--
Summary of my perl5 (revision 5 version 15 subversion 0) configuration:
Platform:
osname=linux, osvers=2.6.32-32-generic, archname=x86_64-linux
uname='linux trushel-glaptop 2.6.32-32-generic #62-ubuntu smp wed apr 20 21:52:38 utc 2011 x86_64 gnulinux '
config_args=''
hint=recommended, useposix=true, d_sigaction=define
useithreads=undef, usemultiplicity=undef
useperlio=define, d_sfio=undef, uselargefiles=define, usesocks=undef
use64bitint=define, use64bitall=define, uselongdouble=undef
usemymalloc=n, bincompat5005=undef
Compiler:
cc='cc', ccflags ='-fno-strict-aliasing -pipe -fstack-protector -I/usr/local/include -D_LARGEFILE_SOURCE -D_FILE_OFFSET_BITS=64',
optimize='-O2',
cppflags='-fno-strict-aliasing -pipe -fstack-protector -I/usr/local/include'
ccversion='', gccversion='4.4.3', gccosandvers=''
intsize=4, longsize=8, ptrsize=8, doublesize=8, byteorder=12345678
d_longlong=define, longlongsize=8, d_longdbl=define, longdblsize=16
ivtype='long', ivsize=8, nvtype='double', nvsize=8, Off_t='off_t', lseeksize=8
alignbytes=8, prototype=define
Linker and Libraries:
ld='cc', ldflags =' -fstack-protector -L/usr/local/lib'
libpth=/usr/local/lib /lib/../lib /usr/lib/../lib /lib /usr/lib /usr/lib/x86_64-linux-gnu /lib64 /usr/lib64
libs=-lnsl -ldl -lm -lcrypt -lutil -lc
perllibs=-lnsl -ldl -lm -lcrypt -lutil -lc
libc=/lib/libc-2.11.1.so, so=so, useshrplib=false, libperl=libperl.a
gnulibc_version='2.11.1'
Dynamic Linking:
dlsrc=dl_dlopen.xs, dlext=so, d_dlsymun=undef, ccdlflags='-Wl,-E'
cccdlflags='-fPIC', lddlflags='-shared -O2 -L/usr/local/lib -fstack-protector'
Characteristics of this binary (from libperl):
Compile-time options: PERL_DONT_CREATE_GVSV PERL_MALLOC_WRAP
PERL_PRESERVE_IVUV USE_64_BIT_ALL USE_64_BIT_INT
USE_LARGE_FILES USE_LOCALE USE_LOCALE_COLLATE
USE_LOCALE_CTYPE USE_LOCALE_NUMERIC USE_PERLIO
USE_PERL_ATOF
Built under linux
Compiled at Jun 22 2011 19:13:19
%ENV:
PERL5LIB=""
PERL5OPT=""
PERL5_CPANPLUS_IS_RUNNING="20213"
PERL5_CPAN_IS_RUNNING="20213"
PERL5_CPAN_IS_RUNNING_IN_RECURSION="7942,20213"
PERL_CR_SMOKER_CURRENT="IPC-Filter-0.004"
PERL_EXTUTILS_AUTOINSTALL="--defaultdeps"
PERL_MM_USE_DEFAULT="1"
@INC:
/home/trushel/perl/perl5150/lib/site_perl/5.15.0/x86_64-linux
/home/trushel/perl/perl5150/lib/site_perl/5.15.0
/home/trushel/perl/perl5150/lib/5.15.0/x86_64-linux
/home/trushel/perl/perl5150/lib/5.15.0
.