Perl-Critic v1.156 Perl 5 v5.26.1 amd64-freebsd

Status
Pass
From
Slaven Rezić
Dist
Perl-Critic v1.156
Platform
Perl 5 v5.26.1 amd64-freebsd
Date
2024-10-23 06:13:48
ID
f73e9c46-9105-11ef-946f-7f466e8775ea
This distribution has been tested as part of the CPAN Testers
project, supporting the Perl programming language.  See
http://wiki.cpantesters.org/ for more information or email
questions to cpan-testers-discuss@perl.org


--
Dear Andy Lester,

This is a computer-generated report for Perl-Critic-1.156
on perl 5.26.1, created by CPAN-Reporter-1.2018.

Thank you for uploading your work to CPAN.  Congratulations!
All tests were successful.

Sections of this report:

    * Tester comments
    * Program output
    * Prerequisites
    * Environment and other context

------------------------------
TESTER COMMENTS
------------------------------

Additional comments from tester:

none provided

------------------------------
PROGRAM OUTPUT
------------------------------

Output from './Build test':

# Testing Perl::Critic 1.156 with PPI 1.279 under Perl 5.026001, /usr/perl5.26.1p/bin/perl
t/00_modules.t ................................ ok
t/00_versions.t ............................... ok
Fehler: No word lists can be found for the language "de_DE".
Fehler: No word lists can be found for the language "de_DE".
Fehler: No word lists can be found for the language "de_DE".
Fehler: No word lists can be found for the language "de_DE".
Fehler: No word lists can be found for the language "de_DE".
Fehler: No word lists can be found for the language "de_DE".
Fehler: No word lists can be found for the language "de_DE".
Fehler: No word lists can be found for the language "de_DE".
Fehler: No word lists can be found for the language "de_DE".
Fehler: No word lists can be found for the language "de_DE".
Fehler: No word lists can be found for the language "de_DE".
Fehler: No word lists can be found for the language "de_DE".
Fehler: No word lists can be found for the language "de_DE".
Fehler: No word lists can be found for the language "de_DE".
t/01_config.t ................................. ok
t/01_config_bad_perlcriticrc.t ................ ok
t/01_policy_config.t .......................... ok
t/02_policy.t ................................. ok
t/03_annotations.t ............................ ok
t/03_pragmas.t ................................ ok
t/04_options_processor.t ...................... ok
t/05_utils.t .................................. ok
t/05_utils_perl.t ............................. ok
t/05_utils_pod.t .............................. ok
t/05_utils_ppi.t .............................. ok
t/06_violation.t .............................. ok
t/07_command.t ................................ ok
t/07_perlcritic.t ............................. ok
t/08_document.t ............................... ok
t/09_theme.t .................................. ok
t/10_user_profile.t ........................... ok
t/11_policy_factory.t ......................... ok
t/12_policy_listing.t ......................... ok
t/12_theme_listing.t .......................... ok
t/13_bundled_policies.t ....................... ok
t/14_policy_parameter_behavior_boolean.t ...... ok
t/14_policy_parameter_behavior_enumeration.t .. ok
t/14_policy_parameter_behavior_integer.t ...... ok
t/14_policy_parameter_behavior_list_string.t .. ok
t/14_policy_parameter_behavior_string.t ....... ok
Fehler: No word lists can be found for the language "de_DE".
Fehler: No word lists can be found for the language "de_DE".
Fehler: No word lists can be found for the language "de_DE".
t/14_policy_parameters.t ...................... ok
Fehler: No word lists can be found for the language "de_DE".
t/15_statistics.t ............................. ok
Fehler: No word lists can be found for the language "de_DE".
Fehler: No word lists can be found for the language "de_DE".
t/16_roundtrip_defaults.t ..................... ok
t/20_policies.t ............................... ok
Fehler: No word lists can be found for the language "de_DE".
Fehler: No word lists can be found for the language "de_DE".
Fehler: No word lists can be found for the language "de_DE".
Fehler: No word lists can be found for the language "de_DE".
t/20_policy_pod_spelling.t .................... ok
t/20_policy_prohibit_evil_modules.t ........... ok
t/20_policy_prohibit_hard_tabs.t .............. ok
t/20_policy_prohibit_trailing_whitespace.t .... ok
t/20_policy_require_consistent_newlines.t ..... ok
t/20_policy_require_tidy_code.t ............... ok
Fehler: No word lists can be found for the language "de_DE".
Unhandled type: REGEXP at /usr/perl5.26.1p/lib/site_perl/5.26.1/Devel/Cycle.pm line 107.
t/92_memory_leaks.t ........................... ok
t/gh-734.t .................................... ok
All tests successful.
Files=40, Tests=8211, 46 wallclock secs ( 0.49 usr  0.95 sys + 32.12 cusr 11.00 csys = 44.55 CPU)
Result: PASS

------------------------------
PREREQUISITES
------------------------------

Prerequisite modules loaded:

requires:

    Module                    Need     Have    
    ------------------------- -------- --------
    B::Keywords               1.23     1.27    
    Carp                      0        1.42    
    charnames                 0        1.45    
    Config::Tiny              2        2.23    
    English                   0        1.10    
    Exception::Class          1.23     1.43    
    Exporter                  5.63     5.72    
    File::Basename            0        2.85    
    File::Find                0        1.34    
    File::Path                0        2.12_01 
    File::Spec                0        3.67    
    File::Spec::Unix          0        3.67    
    File::Temp                0        0.2304  
    File::Which               0        1.22    
    Getopt::Long              0        2.5     
    List::SomeUtils           0.55     0.56    
    List::Util                0        1.49    
    Module::Pluggable         3.1      5.2     
    overload                  0        1.28    
    parent                    0        0.236   
    perl                      5.010001 5.026001
    Perl::Tidy                0        20170521
    Pod::PlainText            0        2.07    
    Pod::Select               0        1.63    
    Pod::Spell                1        1.20    
    Pod::Usage                0        1.69    
    PPI                       1.277    1.279   
    PPI::Document             1.277    1.279   
    PPI::Document::File       1.277    1.279   
    PPI::Node                 1.277    1.279   
    PPI::Token::Quote::Single 1.277    1.279   
    PPI::Token::Whitespace    1.277    1.279   
    PPIx::QuoteLike           0        0.023   
    PPIx::Regexp              0.027    0.088   
    PPIx::Regexp::Util        0.068    0.088   
    PPIx::Utils::Traversal    0.003    0.003   
    Readonly                  2        2.05    
    Scalar::Util              0        1.49    
    strict                    0        1.11    
    String::Format            1.18     1.18    
    Term::ANSIColor           2.02     4.06    
    Test::Builder             0.92     1.302106
    Text::ParseWords          3        3.30    
    version                   0.77     0.9917  
    warnings                  0        1.37    

build_requires:

    Module                    Need     Have    
    ------------------------- -------- --------
    lib                       0        0.64    
    Test::More                0        1.302106

configure_requires:

    Module                    Need     Have    
    ------------------------- -------- --------
    B::Keywords               1.23     1.27    
    base                      0        2.26    
    Carp                      0        1.42    
    English                   0        1.10    
    Exporter                  5.63     5.72    
    lib                       0        0.64    
    List::SomeUtils           0.55     0.56    
    Module::Build             0.4204   0.4224  


------------------------------
ENVIRONMENT AND OTHER CONTEXT
------------------------------

Environment variables:

    LC_ALL = de_DE.ISO8859-1
    PATH = /usr/local/bin:/usr/bin:/bin:/usr/local/sbin:/usr/sbin:/sbin:/home/cpansand/bin/freebsd10.3:/home/cpansand/bin/sh:/home/cpansand/bin:/usr/games:/home/cpansand/devel:/home/eserte/src/srezic-misc/scripts
    PERL5LIB = /home/cpansand/.cpan/build/2024102307/String-Format-1.18-0/blib/arch:/home/cpansand/.cpan/build/2024102307/String-Format-1.18-0/blib/lib:/home/cpansand/.cpan/build/2024102307/PPIx-Utils-0.003-0/blib/arch:/home/cpansand/.cpan/build/2024102307/PPIx-Utils-0.003-0/blib/lib:/home/cpansand/.cpan/build/2024102307/PPIx-Regexp-0.088-0/blib/arch:/home/cpansand/.cpan/build/2024102307/PPIx-Regexp-0.088-0/blib/lib:/home/cpansand/.cpan/build/2024102307/PPIx-QuoteLike-0.023-0/blib/arch:/home/cpansand/.cpan/build/2024102307/PPIx-QuoteLike-0.023-0/blib/lib:/home/cpansand/.cpan/build/2024102307/PPI-1.279-1/blib/arch:/home/cpansand/.cpan/build/2024102307/PPI-1.279-1/blib/lib:/home/cpansand/.cpan/build/2024102307/B-Keywords-1.27-0/blib/arch:/home/cpansand/.cpan/build/2024102307/B-Keywords-1.27-0/blib/lib
    PERL5OPT = 
    PERL5_CPANPLUS_IS_RUNNING = 5989
    PERL5_CPAN_IS_RUNNING = 5989
    PERL5_CPAN_IS_RUNNING_IN_RECURSION = 89230,5989
    PERLDOC = -MPod::Perldoc::ToTextOverstrike
    PERL_BATCH = yes
    PERL_CANARY_STABILITY_NOPROMPT = 1
    PERL_CPAN_REPORTER_CONFIG = /var/tmp/cpansmoker-1023/2024102307/cpanreporter_000_config.ini
    PERL_EXTUTILS_AUTOINSTALL = --defaultdeps
    PERL_USE_UNSAFE_INC = 1
    SHELL = /usr/local/bin/zsh
    TERM = screen
    TMPDIR = /var/tmp/cpansmoker-1023/2024102307

Perl special variables (and OS-specific diagnostics, for MSWin32):

    $^X = /usr/perl5.26.1p/bin/perl
    $UID/$EUID = 1023 / 1023
    $GID = 1023 1023
    $EGID = 1023 1023

Perl module toolchain versions installed:

    Module              Have    
    ------------------- --------
    CPAN                2.18    
    CPAN::Meta          2.150010
    Cwd                 3.67    
    ExtUtils::CBuilder  0.280226
    ExtUtils::Command   7.58    
    ExtUtils::Install   2.06    
    ExtUtils::MakeMaker 7.58    
    ExtUtils::Manifest  1.70    
    ExtUtils::ParseXS   3.34    
    File::Spec          3.67    
    JSON                2.94    
    JSON::PP            2.94    
    Module::Build       0.4224  
    Module::Signature   0.81    
    Parse::CPAN::Meta   2.150010
    Test::Harness       3.39    
    Test::More          1.302106
    YAML                1.24    
    YAML::Syck          1.30    
    version             0.9917  


--

Summary of my perl5 (revision 5 version 26 subversion 1) configuration:
   
  Platform:
    osname=freebsd
    osvers=10.3-release-p11
    archname=amd64-freebsd
    uname='freebsd cvrsnica-freebsd-101.herceg.de 10.3-release-p11 freebsd 10.3-release-p11 #0: mon oct 24 18:49:24 utc 2016 root@amd64-builder.daemonology.net:usrobjusrsrcsysgeneric amd64 '
    config_args='-ds -e -Dprefix=/usr/perl5.26.1p -Dcf_email=srezic@cpan.org -Doptimize=-O2 -pipe'
    hint=recommended
    useposix=true
    d_sigaction=define
    useithreads=undef
    usemultiplicity=undef
    use64bitint=define
    use64bitall=define
    uselongdouble=undef
    usemymalloc=n
    default_inc_excludes_dot=define
    bincompat5005=undef
  Compiler:
    cc='cc'
    ccflags ='-DHAS_FPSETMASK -DHAS_FLOATINGPOINT_H -fno-strict-aliasing -pipe -fstack-protector -I/usr/local/include -D_FORTIFY_SOURCE=2'
    optimize='-O2 -pipe'
    cppflags='-DHAS_FPSETMASK -DHAS_FLOATINGPOINT_H -fno-strict-aliasing -pipe -fstack-protector -I/usr/local/include'
    ccversion=''
    gccversion='4.2.1 Compatible FreeBSD Clang 3.4.1 (tags/RELEASE_34/dot1-final 208032)'
    gccosandvers=''
    intsize=4
    longsize=8
    ptrsize=8
    doublesize=8
    byteorder=12345678
    doublekind=3
    d_longlong=define
    longlongsize=8
    d_longdbl=define
    longdblsize=16
    longdblkind=3
    ivtype='long'
    ivsize=8
    nvtype='double'
    nvsize=8
    Off_t='off_t'
    lseeksize=8
    alignbytes=8
    prototype=define
  Linker and Libraries:
    ld='cc'
    ldflags ='-pthread -Wl,-E  -fstack-protector -L/usr/local/lib'
    libpth=/usr/lib /usr/local/lib /usr/include/clang/3.4.1 /usr/lib
    libs=-lpthread -lgdbm -lm -lcrypt -lutil -lc -lelf
    perllibs=-lpthread -lm -lcrypt -lutil -lc -lelf
    libc=
    so=so
    useshrplib=false
    libperl=libperl.a
    gnulibc_version=''
  Dynamic Linking:
    dlsrc=dl_dlopen.xs
    dlext=so
    d_dlsymun=undef
    ccdlflags=' '
    cccdlflags='-DPIC -fPIC'
    lddlflags='-shared  -L/usr/local/lib -fstack-protector'


Characteristics of this binary (from libperl): 
  Compile-time options:
    HAS_TIMES
    PERLIO_LAYERS
    PERL_COPY_ON_WRITE
    PERL_DONT_CREATE_GVSV
    PERL_MALLOC_WRAP
    PERL_OP_PARENT
    PERL_PRESERVE_IVUV
    USE_64_BIT_ALL
    USE_64_BIT_INT
    USE_LARGE_FILES
    USE_LOCALE
    USE_LOCALE_COLLATE
    USE_LOCALE_CTYPE
    USE_LOCALE_NUMERIC
    USE_LOCALE_TIME
    USE_PERLIO
    USE_PERL_ATOF
  Built under freebsd
  Compiled at Oct 31 2017 09:43:34
  %ENV:
    PERL5LIB="/home/cpansand/.cpan/build/2024102307/String-Format-1.18-0/blib/arch:/home/cpansand/.cpan/build/2024102307/String-Format-1.18-0/blib/lib:/home/cpansand/.cpan/build/2024102307/PPIx-Utils-0.003-0/blib/arch:/home/cpansand/.cpan/build/2024102307/PPIx-Utils-0.003-0/blib/lib:/home/cpansand/.cpan/build/2024102307/PPIx-Regexp-0.088-0/blib/arch:/home/cpansand/.cpan/build/2024102307/PPIx-Regexp-0.088-0/blib/lib:/home/cpansand/.cpan/build/2024102307/PPIx-QuoteLike-0.023-0/blib/arch:/home/cpansand/.cpan/build/2024102307/PPIx-QuoteLike-0.023-0/blib/lib:/home/cpansand/.cpan/build/2024102307/PPI-1.279-1/blib/arch:/home/cpansand/.cpan/build/2024102307/PPI-1.279-1/blib/lib:/home/cpansand/.cpan/build/2024102307/B-Keywords-1.27-0/blib/arch:/home/cpansand/.cpan/build/2024102307/B-Keywords-1.27-0/blib/lib"
    PERL5OPT=""
    PERL5_CPANPLUS_IS_RUNNING="5989"
    PERL5_CPAN_IS_RUNNING="5989"
    PERL5_CPAN_IS_RUNNING_IN_RECURSION="89230,5989"
    PERLDOC="-MPod::Perldoc::ToTextOverstrike"
    PERL_BATCH="yes"
    PERL_CANARY_STABILITY_NOPROMPT="1"
    PERL_CPAN_REPORTER_CONFIG="/var/tmp/cpansmoker-1023/2024102307/cpanreporter_000_config.ini"
    PERL_EXTUTILS_AUTOINSTALL="--defaultdeps"
    PERL_USE_UNSAFE_INC="1"
  @INC:
    /home/cpansand/.cpan/build/2024102307/String-Format-1.18-0/blib/arch
    /home/cpansand/.cpan/build/2024102307/String-Format-1.18-0/blib/lib
    /home/cpansand/.cpan/build/2024102307/PPIx-Utils-0.003-0/blib/arch
    /home/cpansand/.cpan/build/2024102307/PPIx-Utils-0.003-0/blib/lib
    /home/cpansand/.cpan/build/2024102307/PPIx-Regexp-0.088-0/blib/arch
    /home/cpansand/.cpan/build/2024102307/PPIx-Regexp-0.088-0/blib/lib
    /home/cpansand/.cpan/build/2024102307/PPIx-QuoteLike-0.023-0/blib/arch
    /home/cpansand/.cpan/build/2024102307/PPIx-QuoteLike-0.023-0/blib/lib
    /home/cpansand/.cpan/build/2024102307/PPI-1.279-1/blib/arch
    /home/cpansand/.cpan/build/2024102307/PPI-1.279-1/blib/lib
    /home/cpansand/.cpan/build/2024102307/B-Keywords-1.27-0/blib/arch
    /home/cpansand/.cpan/build/2024102307/B-Keywords-1.27-0/blib/lib
    /usr/perl5.26.1p/lib/site_perl/5.26.1/amd64-freebsd
    /usr/perl5.26.1p/lib/site_perl/5.26.1
    /usr/perl5.26.1p/lib/5.26.1/amd64-freebsd
    /usr/perl5.26.1p/lib/5.26.1
    .