Back
From: metabase:user:a775b512-5229-11e4-9828-f1a611f16c33
Subject: PASS Unicode-Normalize-1.19 v5.22.0 GNU/Linux
Date: 2015-08-30T20:16:15Z
This distribution has been tested as part of the CPAN Testers
project, supporting the Perl programming language. See
http://wiki.cpantesters.org/ for more information or email
questions to cpan-testers-discuss@perl.org
--
Dear SADAHIRO Tomoyuki,
This is a computer-generated report for Unicode-Normalize-1.19
on perl 5.22.0, created by CPAN-Reporter-1.2014.
Thank you for uploading your work to CPAN. Congratulations!
All tests were successful.
Sections of this report:
* Tester comments
* Program output
* Prerequisites
* Environment and other context
------------------------------
TESTER COMMENTS
------------------------------
Additional comments from tester:
none provided
------------------------------
PROGRAM OUTPUT
------------------------------
Output from '/usr/bin/make test':
PERL_DL_NONLAZY=1 "/home/mauke/usr/bin/perl" "-MExtUtils::Command::MM" "-MTest::Harness" "-e" "undef *Test::Harness::Switches; test_harness(0, 'blib/lib', 'blib/arch')" t/*.t
t/fcdc.t ...... ok
t/form.t ...... ok
t/func.t ...... ok
t/illegal.t ... ok
t/norm.t ...... ok
t/null.t ...... ok
t/partial1.t .. ok
t/partial2.t .. ok
t/proto.t ..... ok
t/split.t ..... ok
t/test.t ...... ok
t/tie.t ....... ok
All tests successful.
Files=12, Tests=748, 2 wallclock secs ( 0.10 usr 0.01 sys + 1.82 cusr 0.02 csys = 1.95 CPU)
Result: PASS
------------------------------
PREREQUISITES
------------------------------
Prerequisite modules loaded:
requires:
Module Need Have
------------------- ---- -------
Carp 0 1.36
constant 0 1.33
Exporter 0 5.72
File::Spec 0 3.56
strict 0 1.09
warnings 0 1.32
build_requires:
Module Need Have
------------------- ---- -------
ExtUtils::MakeMaker 0 7.04_01
configure_requires:
Module Need Have
------------------- ---- -------
ExtUtils::MakeMaker 0 7.04_01
------------------------------
ENVIRONMENT AND OTHER CONTEXT
------------------------------
Environment variables:
LANG = en_US.UTF-8
LC_COLLATE = POSIX
PATH = /home/mauke/perl5/perlbrew/bin:/home/mauke/bin:/usr/local/sbin:/usr/local/bin:/usr/bin:/usr/bin/site_perl:/usr/bin/vendor_perl:/usr/bin/core_perl
PERL5LIB =
PERL5OPT =
PERL5_CPANPLUS_IS_RUNNING = 10283
PERL5_CPAN_IS_RUNNING = 10283
PERLBREW_BASHRC_VERSION = 0.69
PERLBREW_HOME = /home/mauke/.perlbrew
PERLBREW_ROOT = /home/mauke/perl5/perlbrew
PERL_UNICODE = SAL
SHELL = /bin/bash
TERM = tmux
Perl special variables (and OS-specific diagnostics, for MSWin32):
$^X = /home/mauke/usr/bin/perl
$UID/$EUID = 1000 / 1000
$GID = 1000 10 12 24 50 100 1000
$EGID = 1000 10 12 24 50 100 1000
Perl module toolchain versions installed:
Module Have
------------------- --------
CPAN 2.10
CPAN::Meta 2.150005
Cwd 3.56
ExtUtils::CBuilder 0.280223
ExtUtils::Command 1.20
ExtUtils::Install 2.04
ExtUtils::MakeMaker 7.04_01
ExtUtils::Manifest 1.70
ExtUtils::ParseXS 3.28
File::Spec 3.56
JSON 2.90
JSON::PP 2.27300
Module::Build 0.4214
Module::Signature n/a
Parse::CPAN::Meta 1.4417
Test::Harness 3.35
Test::More 1.001014
YAML n/a
YAML::Syck n/a
version 0.9912
--
Summary of my perl5 (revision 5 version 22 subversion 0) configuration:
Platform:
osname=linux, osvers=4.0.1-1-arch, archname=i686-linux
uname='linux simplicio 4.0.1-1-arch #1 smp preempt wed apr 29 12:15:20 cest 2015 i686 gnulinux '
config_args=''
hint=recommended, useposix=true, d_sigaction=define
useithreads=undef, usemultiplicity=undef
use64bitint=undef, use64bitall=undef, uselongdouble=undef
usemymalloc=n, bincompat5005=undef
Compiler:
cc='cc', ccflags ='-fwrapv -fno-strict-aliasing -pipe -fstack-protector -I/usr/local/include -D_LARGEFILE_SOURCE -D_FILE_OFFSET_BITS=64',
optimize='-O2',
cppflags='-fwrapv -fno-strict-aliasing -pipe -fstack-protector -I/usr/local/include'
ccversion='', gccversion='5.1.0', gccosandvers=''
intsize=4, longsize=4, ptrsize=4, doublesize=8, byteorder=1234, doublekind=3
d_longlong=define, longlongsize=8, d_longdbl=define, longdblsize=12, longdblkind=3
ivtype='long', ivsize=4, nvtype='double', nvsize=8, Off_t='off_t', lseeksize=8
alignbytes=4, prototype=define
Linker and Libraries:
ld='cc', ldflags ='-fstack-protector -L/usr/local/lib'
libpth=/usr/local/lib /usr/lib/gcc/i686-pc-linux-gnu/5.1.0/include-fixed /usr/lib /lib
libs=-lpthread -lnsl -lgdbm -ldb -ldl -lm -lcrypt -lutil -lc -lgdbm_compat
perllibs=-lpthread -lnsl -ldl -lm -lcrypt -lutil -lc
libc=libc-2.21.so, so=so, useshrplib=false, libperl=libperl.a
gnulibc_version='2.21'
Dynamic Linking:
dlsrc=dl_dlopen.xs, dlext=so, d_dlsymun=undef, ccdlflags='-Wl,-E'
cccdlflags='-fPIC', lddlflags='-shared -O2 -L/usr/local/lib -fstack-protector'
Characteristics of this binary (from libperl):
Compile-time options: HAS_TIMES PERLIO_LAYERS PERL_DONT_CREATE_GVSV
PERL_HASH_FUNC_ONE_AT_A_TIME_HARD PERL_MALLOC_WRAP
PERL_NEW_COPY_ON_WRITE PERL_PRESERVE_IVUV
USE_LARGE_FILES USE_LOCALE USE_LOCALE_COLLATE
USE_LOCALE_CTYPE USE_LOCALE_NUMERIC USE_LOCALE_TIME
USE_PERLIO USE_PERL_ATOF
Built under linux
Compiled at Jul 4 2015 15:06:34
%ENV:
PERL5LIB=""
PERL5OPT=""
PERL5_CPANPLUS_IS_RUNNING="10283"
PERL5_CPAN_IS_RUNNING="10283"
PERLBREW_BASHRC_VERSION="0.69"
PERLBREW_HOME="/home/mauke/.perlbrew"
PERLBREW_ROOT="/home/mauke/perl5/perlbrew"
PERL_UNICODE="SAL"
@INC:
/home/mauke/usr/lib/perl5/site_perl/5.22.0/i686-linux
/home/mauke/usr/lib/perl5/site_perl/5.22.0
/home/mauke/usr/lib/perl5/5.22.0/i686-linux
/home/mauke/usr/lib/perl5/5.22.0
.