MooseX-amine v0.7 Perl 5 v5.37.8 x86_64-linux-thread-multi-ld
- Status
- Pass
- From
- Andreas J. König (ANDK)
- Dist
-
MooseX-amine v0.7
- Platform
- Perl 5 v5.37.8 x86_64-linux-thread-multi-ld
- Date
- 2023-02-08 17:56:51
- ID
- f75f8eae-a7d9-11ed-a39e-be0cf6d2463d
This distribution has been tested as part of the CPAN Testers
project, supporting the Perl programming language. See
http://wiki.cpantesters.org/ for more information or email
questions to cpan-testers-discuss@perl.org
--
Dear John SJ Anderson,
This is a computer-generated report for MooseX-amine-0.7
on perl 5.37.8, created by CPAN-Reporter-1.2018.
Thank you for uploading your work to CPAN. Congratulations!
All tests were successful.
Sections of this report:
* Tester comments
* Program output
* Prerequisites
* Environment and other context
------------------------------
TESTER COMMENTS
------------------------------
Additional comments from tester:
this report is from an automated smoke testing program
and was not reviewed by a human for accuracy
------------------------------
PROGRAM OUTPUT
------------------------------
Output from '/usr/bin/make test':
Skip blib/lib/auto/share/dist/MooseX-amine/public/css/sh_contrast.css (unchanged)
Skip blib/lib/auto/share/dist/MooseX-amine/public/css/sh_emacs.css (unchanged)
Skip blib/lib/auto/share/dist/MooseX-amine/public/css/sh_easter.css (unchanged)
Skip blib/lib/auto/share/dist/MooseX-amine/public/css/sh_contrast.min.css (unchanged)
Skip blib/lib/auto/share/dist/MooseX-amine/public/css/sh_dull.css (unchanged)
Skip blib/lib/auto/share/dist/MooseX-amine/public/css/sh_berries-dark.css (unchanged)
Skip blib/lib/auto/share/dist/MooseX-amine/public/css/sh_bipolar.min.css (unchanged)
Skip blib/lib/auto/share/dist/MooseX-amine/public/css/sh_blacknblue.min.css (unchanged)
Skip blib/lib/auto/share/dist/MooseX-amine/public/css/sh_dull.min.css (unchanged)
Skip blib/lib/auto/share/dist/MooseX-amine/public/css/sh_berries-light.css (unchanged)
Skip blib/lib/auto/share/dist/MooseX-amine/public/css/sh_easter.min.css (unchanged)
Skip blib/lib/auto/share/dist/MooseX-amine/public/css/sh_bright.min.css (unchanged)
Skip blib/lib/auto/share/dist/MooseX-amine/public/css/sh_berries-dark.min.css (unchanged)
Skip blib/lib/auto/share/dist/MooseX-amine/public/css/sh_acid.css (unchanged)
Skip blib/lib/auto/share/dist/MooseX-amine/public/css/sh_bright.css (unchanged)
Skip blib/lib/auto/share/dist/MooseX-amine/public/css/sh_blacknblue.css (unchanged)
Skip blib/lib/auto/share/dist/MooseX-amine/public/css/sh_desert.css (unchanged)
Skip blib/lib/auto/share/dist/MooseX-amine/public/css/sh_desert.min.css (unchanged)
Skip blib/lib/auto/share/dist/MooseX-amine/public/css/sh_acid.min.css (unchanged)
Skip blib/lib/auto/share/dist/MooseX-amine/public/css/sh_bipolar.css (unchanged)
Skip blib/lib/auto/share/dist/MooseX-amine/public/css/sh_darkblue.css (unchanged)
Skip blib/lib/auto/share/dist/MooseX-amine/public/css/sh_darkness.min.css (unchanged)
Skip blib/lib/auto/share/dist/MooseX-amine/public/css/sh_darkblue.min.css (unchanged)
Skip blib/lib/auto/share/dist/MooseX-amine/public/css/sh_darkness.css (unchanged)
Skip blib/lib/auto/share/dist/MooseX-amine/public/css/sh_berries-light.min.css (unchanged)
Skip blib/lib/auto/share/dist/MooseX-amine/public/css/sh_ide-anjuta.css (unchanged)
Skip blib/lib/auto/share/dist/MooseX-amine/public/css/sh_ide-devcpp.css (unchanged)
Skip blib/lib/auto/share/dist/MooseX-amine/public/css/sh_greenlcd.css (unchanged)
Skip blib/lib/auto/share/dist/MooseX-amine/public/css/sh_greenlcd.min.css (unchanged)
Skip blib/lib/auto/share/dist/MooseX-amine/public/css/sh_ide-msvcpp.min.css (unchanged)
Skip blib/lib/auto/share/dist/MooseX-amine/public/css/sh_ide-eclipse.min.css (unchanged)
Skip blib/lib/auto/share/dist/MooseX-amine/public/css/sh_kwrite.css (unchanged)
Skip blib/lib/auto/share/dist/MooseX-amine/public/css/sh_navy.css (unchanged)
Skip blib/lib/auto/share/dist/MooseX-amine/public/css/sh_golden.min.css (unchanged)
Skip blib/lib/auto/share/dist/MooseX-amine/public/css/sh_emacs.min.css (unchanged)
Skip blib/lib/auto/share/dist/MooseX-amine/public/css/sh_ide-anjuta.min.css (unchanged)
Skip blib/lib/auto/share/dist/MooseX-amine/public/css/sh_matlab.min.css (unchanged)
Skip blib/lib/auto/share/dist/MooseX-amine/public/css/sh_golden.css (unchanged)
Skip blib/lib/auto/share/dist/MooseX-amine/public/css/sh_ide-kdev.min.css (unchanged)
Skip blib/lib/auto/share/dist/MooseX-amine/public/css/sh_kwrite.min.css (unchanged)
Skip blib/lib/auto/share/dist/MooseX-amine/public/css/sh_ide-codewarrior.css (unchanged)
Skip blib/lib/auto/share/dist/MooseX-amine/public/css/sh_navy.min.css (unchanged)
Skip blib/lib/auto/share/dist/MooseX-amine/public/css/sh_ide-msvcpp.css (unchanged)
Skip blib/lib/auto/share/dist/MooseX-amine/public/css/sh_nedit.css (unchanged)
Skip blib/lib/auto/share/dist/MooseX-amine/public/css/sh_ide-codewarrior.min.css (unchanged)
Skip blib/lib/auto/share/dist/MooseX-amine/public/css/sh_matlab.css (unchanged)
Skip blib/lib/auto/share/dist/MooseX-amine/public/css/sh_ide-devcpp.min.css (unchanged)
Skip blib/lib/auto/share/dist/MooseX-amine/public/css/sh_ide-eclipse.css (unchanged)
Skip blib/lib/auto/share/dist/MooseX-amine/public/css/sh_ide-kdev.css (unchanged)
Skip blib/lib/auto/share/dist/MooseX-amine/public/css/sh_whatis.css (unchanged)
Skip blib/lib/auto/share/dist/MooseX-amine/public/css/sh_pablo.min.css (unchanged)
Skip blib/lib/auto/share/dist/MooseX-amine/public/css/sh_the.css (unchanged)
Skip blib/lib/auto/share/dist/MooseX-amine/public/css/sh_night.min.css (unchanged)
Skip blib/lib/auto/share/dist/MooseX-amine/public/css/sh_vim.css (unchanged)
Skip blib/lib/auto/share/dist/MooseX-amine/public/css/sh_vim-dark.css (unchanged)
Skip blib/lib/auto/share/dist/MooseX-amine/public/css/sh_vim.min.css (unchanged)
Skip blib/lib/auto/share/dist/MooseX-amine/public/css/sh_typical.css (unchanged)
Skip blib/lib/auto/share/dist/MooseX-amine/public/css/sh_print.min.css (unchanged)
Skip blib/lib/auto/share/dist/MooseX-amine/public/css/sh_print.css (unchanged)
Skip blib/lib/auto/share/dist/MooseX-amine/public/css/sh_whatis.min.css (unchanged)
Skip blib/lib/auto/share/dist/MooseX-amine/public/css/sh_nedit.min.css (unchanged)
Skip blib/lib/auto/share/dist/MooseX-amine/public/css/sh_vampire.min.css (unchanged)
Skip blib/lib/auto/share/dist/MooseX-amine/public/css/sh_neon.min.css (unchanged)
Skip blib/lib/auto/share/dist/MooseX-amine/public/css/sh_pablo.css (unchanged)
Skip blib/lib/auto/share/dist/MooseX-amine/public/css/sh_night.css (unchanged)
Skip blib/lib/auto/share/dist/MooseX-amine/public/css/sh_vim-dark.min.css (unchanged)
Skip blib/lib/auto/share/dist/MooseX-amine/public/css/sh_rand01.min.css (unchanged)
Skip blib/lib/auto/share/dist/MooseX-amine/public/css/sh_peachpuff.css (unchanged)
Skip blib/lib/auto/share/dist/MooseX-amine/public/css/sh_rand01.css (unchanged)
Skip blib/lib/auto/share/dist/MooseX-amine/public/css/sh_vampire.css (unchanged)
Skip blib/lib/auto/share/dist/MooseX-amine/public/css/sh_the.min.css (unchanged)
Skip blib/lib/auto/share/dist/MooseX-amine/public/css/sh_typical.min.css (unchanged)
Skip blib/lib/auto/share/dist/MooseX-amine/public/css/sh_neon.css (unchanged)
Skip blib/lib/auto/share/dist/MooseX-amine/public/css/sh_peachpuff.min.css (unchanged)
Skip blib/lib/auto/share/dist/MooseX-amine/public/js/jquery.styleswitch.js (unchanged)
Skip blib/lib/auto/share/dist/MooseX-amine/views/index.tt (unchanged)
Skip blib/lib/auto/share/dist/MooseX-amine/public/css/sh_whitengrey.css (unchanged)
Skip blib/lib/auto/share/dist/MooseX-amine/views/show.tt (unchanged)
Skip blib/lib/auto/share/dist/MooseX-amine/views/list.tt (unchanged)
Skip blib/lib/auto/share/dist/MooseX-amine/public/css/sh_zellner.css (unchanged)
Skip blib/lib/auto/share/dist/MooseX-amine/public/js/jquery.cookie.js (unchanged)
Skip blib/lib/auto/share/dist/MooseX-amine/public/css/sh_whitengrey.min.css (unchanged)
Skip blib/lib/auto/share/dist/MooseX-amine/public/css/sh_zellner.min.css (unchanged)
Skip blib/lib/auto/share/dist/MooseX-amine/views/layouts/main.tt (unchanged)
Skip blib/lib/auto/share/dist/MooseX-amine/public/js/sh_perl.min.js (unchanged)
Skip blib/lib/auto/share/dist/MooseX-amine/public/js/sh_main.min.js (unchanged)
PERL_DL_NONLAZY=1 "/tmp/basesmoker-reloperl-4gIk/bin/perl" "-MExtUtils::Command::MM" "-MTest::Harness" "-e" "undef *Test::Harness::Switches; test_harness(0, 'blib/lib', 'blib/arch')" t/*.t
t/01-basic-object.t ............................. ok
t/02-basic-role.t ............................... ok
t/03-basic-object-with-role.t ................... ok
t/04-basic-object-overriding-role.t ............. ok
t/05-basic-object-include-all.t ................. ok
t/06-basic-object-by-path.t ..................... ok
t/11-inherit-object.t ........................... ok
t/12-inherit-object-with-role.t ................. ok
t/13-inherit-object-with-base-role.t ............ ok
t/14-inherit-object-with-role-with-base-role.t .. ok
t/15-inherit-object-base-common-role.t .......... ok
t/21-override-object.t .......................... ok
t/22-override-role.t ............................ ok
t/31-trap-fatals.t .............................. ok
t/author-pod-coverage.t ......................... skipped: these tests are for testing by the author
t/author-pod-syntax.t ........................... skipped: these tests are for testing by the author
All tests successful.
Files=16, Tests=36, 6 wallclock secs ( 0.05 usr 0.02 sys + 4.48 cusr 0.74 csys = 5.29 CPU)
Result: PASS
------------------------------
PREREQUISITES
------------------------------
Prerequisite modules loaded:
requires:
Module Need Have
---------------------------- ----- ----------
autodie 0 2.36
! Dancer 0 n/a
File::Find::Rule 0 0.34
File::ShareDir 0 1.118
File::Spec 0 3.88
Hash::Merge 0 0.302
List::Util 0 1.63
Modern::Perl 0 1.20230106
Module::Info 0 0.37
Moose 2.000 2.2203
Moose::Meta::Class 0 2.2203
Moose::Meta::Role 0 2.2203
Moose::Util::TypeConstraints 0 2.2203
perl 5.010 5.037008
PPI 0 1.276
strict 0 1.12
Template 0 3.101
Test::Deep::NoTest 0 1.204
Try::Tiny 0 0.31
warnings 0 1.61
build_requires:
Module Need Have
---------------------------- ----- ----------
ExtUtils::MakeMaker 0 7.66
lib 0 0.65
Moose::Role 0 2.2203
Pod::Coverage::TrustPod 0 0.100006
Test::More 0 1.302192
Test::Pod 1.41 1.52
Test::Pod::Coverage 1.08 1.10
Test::Trap 0 0.3.5
configure_requires:
Module Need Have
---------------------------- ----- ----------
ExtUtils::MakeMaker 0 7.66
File::ShareDir::Install 0.06 0.14
------------------------------
ENVIRONMENT AND OTHER CONTEXT
------------------------------
Environment variables:
AUTOMATED_TESTING = 1
LANG = en_US.UTF-8
LC_ADDRESS = de_DE.UTF-8
LC_IDENTIFICATION = de_DE.UTF-8
LC_MEASUREMENT = de_DE.UTF-8
LC_MONETARY = de_DE.UTF-8
LC_NAME = de_DE.UTF-8
LC_NUMERIC = de_DE.UTF-8
LC_PAPER = de_DE.UTF-8
LC_TELEPHONE = de_DE.UTF-8
LC_TIME = de_DE.UTF-8
PATH = /home/sand/bin:/usr/local/bin:/usr/local/sbin:/usr/sbin:/usr/bin:/sbin:/bin:/usr/games:/usr/local/games:/snap/bin:/usr/local/perl/bin:/usr/X11/bin
PERL5LIB = /tmp/loop_over_bdir-723754-C1WceN/LCFG-Build-Skeleton-0.5.0-0/blib/arch:/tmp/loop_over_bdir-723754-C1WceN/LCFG-Build-Skeleton-0.5.0-0/blib/lib:/tmp/loop_over_bdir-723754-C1WceN/RackMan-1.19-0/blib/arch:/tmp/loop_over_bdir-723754-C1WceN/RackMan-1.19-0/blib/lib:/tmp/loop_over_bdir-723754-C1WceN/DBIx-Migration-Directories-0.12-0/blib/arch:/tmp/loop_over_bdir-723754-C1WceN/DBIx-Migration-Directories-0.12-0/blib/lib:/tmp/loop_over_bdir-723754-C1WceN/mmds-1.902-0/blib/arch:/tmp/loop_over_bdir-723754-C1WceN/mmds-1.902-0/blib/lib:/tmp/loop_over_bdir-723754-C1WceN/Business-Shipping-DataFiles-1.02-0/blib/arch:/tmp/loop_over_bdir-723754-C1WceN/Business-Shipping-DataFiles-1.02-0/blib/lib:/tmp/loop_over_bdir-723754-C1WceN/OSDial-3.0.2.124-0/blib/arch:/tmp/loop_over_bdir-723754-C1WceN/OSDial-3.0.2.124-0/blib/lib:/tmp/loop_over_bdir-723754-C1WceN/Devel-Required-0.16-0/blib/arch:/tmp/loop_over_bdir-723754-C1WceN/Devel-Required-0.16-0/blib/lib:/tmp/loop_over_bdir-723754-C1WceN/Lemonldap-NG-Cli-0.2-0/blib/arch:/tmp/loop_over_bdir-723754-C1WceN/Lemonldap-NG-Cli-0.2-0/blib/lib:/tmp/loop_over_bdir-723754-C1WceN/Dpkg-1.21.19-0/blib/arch:/tmp/loop_over_bdir-723754-C1WceN/Dpkg-1.21.19-0/blib/lib:/tmp/loop_over_bdir-723754-C1WceN/LCFG-Build-Tools-0.9.30-0/blib/arch:/tmp/loop_over_bdir-723754-C1WceN/LCFG-Build-Tools-0.9.30-0/blib/lib:/tmp/loop_over_bdir-723754-C1WceN/Linux-InitFS-0.2-0/blib/arch:/tmp/loop_over_bdir-723754-C1WceN/Linux-InitFS-0.2-0/blib/lib:/tmp/loop_over_bdir-723754-C1WceN/App-nrun-v1.1.2-0/blib/arch:/tmp/loop_over_bdir-723754-C1WceN/App-nrun-v1.1.2-0/blib/lib:/tmp/loop_over_bdir-723754-C1WceN/RDF-NLP-SPARQLQuery-0.1-0/blib/arch:/tmp/loop_over_bdir-723754-C1WceN/RDF-NLP-SPARQLQuery-0.1-0/blib/lib
PERL5OPT =
PERL5_CPANPLUS_IS_RUNNING = 723762
PERL5_CPAN_IS_RUNNING = 723762
PERL_CANARY_STABILITY_NOPROMPT = 1
PERL_MM_USE_DEFAULT = 1
PERL_USE_UNSAFE_INC = 1
SHELL = /usr/bin/zsh
TERM = screen
Perl special variables (and OS-specific diagnostics, for MSWin32):
$^X = /tmp/basesmoker-reloperl-4gIk/bin/perl
$UID/$EUID = 1005 / 1005
$GID = 1005 1005
$EGID = 1005 1005
Perl module toolchain versions installed:
Module Have
------------------- --------
CPAN 2.34
CPAN::Meta 2.150010
Cwd 3.88
ExtUtils::CBuilder 0.280238
ExtUtils::Command 7.66
ExtUtils::Install 2.22
ExtUtils::MakeMaker 7.66
ExtUtils::Manifest 1.73
ExtUtils::ParseXS 3.49
File::Spec 3.88
JSON 4.10
JSON::PP 4.16
Module::Build 0.4232
Module::Signature 0.88
Parse::CPAN::Meta 2.150010
Test::Harness 3.44
Test::More 1.302192
YAML 1.30
YAML::Syck 1.34
version 0.9929
--
Summary of my perl5 (revision 5 version 37 subversion 8) configuration:
Commit id: aaff26e0f2e98dc425f7514531d35dfec6948f6d
Platform:
osname=linux
osvers=5.15.0-58-generic
archname=x86_64-linux-thread-multi-ld
uname='linux k93jammy 5.15.0-58-generic #64-ubuntu smp thu jan 5 11:43:13 utc 2023 x86_64 x86_64 x86_64 gnulinux '
config_args='-Dprefix=/home/sand/src/perl/repoperls/installed-perls/host/k93jammy/v5.37.8/322f -Dmyhostname=k93jammy -Dinstallusrbinperl=n -Uversiononly -Dusedevel -des -Ui_db -Dlibswanted=cl pthread socket inet nsl gdbm dbm malloc dl ld sun m crypt sec util c cposix posix ucb BSD gdbm_compat -Duseithreads -Duselongdouble -DEBUGGING=-g'
hint=recommended
useposix=true
d_sigaction=define
useithreads=define
usemultiplicity=define
use64bitint=define
use64bitall=define
uselongdouble=define
usemymalloc=n
default_inc_excludes_dot=define
Compiler:
cc='cc'
ccflags ='-D_REENTRANT -D_GNU_SOURCE -fwrapv -fno-strict-aliasing -pipe -fstack-protector-strong -I/usr/local/include -D_LARGEFILE_SOURCE -D_FILE_OFFSET_BITS=64'
optimize='-O2 -g'
cppflags='-D_REENTRANT -D_GNU_SOURCE -fwrapv -fno-strict-aliasing -pipe -fstack-protector-strong -I/usr/local/include'
ccversion=''
gccversion='11.3.0'
gccosandvers=''
intsize=4
longsize=8
ptrsize=8
doublesize=8
byteorder=12345678
doublekind=3
d_longlong=define
longlongsize=8
d_longdbl=define
longdblsize=16
longdblkind=3
ivtype='long'
ivsize=8
nvtype='long double'
nvsize=16
Off_t='off_t'
lseeksize=8
alignbytes=16
prototype=define
Linker and Libraries:
ld='cc'
ldflags =' -fstack-protector-strong -L/usr/local/lib'
libpth=/usr/local/lib /usr/lib/x86_64-linux-gnu /usr/lib /usr/lib64
libs=-lpthread -lnsl -ldl -lm -lcrypt -lutil -lc
perllibs=-lpthread -lnsl -ldl -lm -lcrypt -lutil -lc
libc=/lib/x86_64-linux-gnu/libc.so.6
so=so
useshrplib=false
libperl=libperl.a
gnulibc_version='2.35'
Dynamic Linking:
dlsrc=dl_dlopen.xs
dlext=so
d_dlsymun=undef
ccdlflags='-Wl,-E'
cccdlflags='-fPIC'
lddlflags='-shared -O2 -g -L/usr/local/lib -fstack-protector-strong'
Characteristics of this binary (from libperl):
Compile-time options:
HAS_TIMES
MULTIPLICITY
PERLIO_LAYERS
PERL_COPY_ON_WRITE
PERL_DONT_CREATE_GVSV
PERL_HASH_FUNC_SIPHASH13
PERL_HASH_USE_SBOX32
PERL_MALLOC_WRAP
PERL_OP_PARENT
PERL_PRESERVE_IVUV
PERL_USE_DEVEL
PERL_USE_SAFE_PUTENV
USE_64_BIT_ALL
USE_64_BIT_INT
USE_ITHREADS
USE_LARGE_FILES
USE_LOCALE
USE_LOCALE_COLLATE
USE_LOCALE_CTYPE
USE_LOCALE_NUMERIC
USE_LOCALE_TIME
USE_LONG_DOUBLE
USE_PERLIO
USE_PERL_ATOF
USE_REENTRANT_API
USE_THREAD_SAFE_LOCALE
Built under linux
Compiled at Jan 31 2023 12:17:03
%ENV:
PERL5LIB="/tmp/loop_over_bdir-723754-C1WceN/LCFG-Build-Skeleton-0.5.0-0/blib/arch:/tmp/loop_over_bdir-723754-C1WceN/LCFG-Build-Skeleton-0.5.0-0/blib/lib:/tmp/loop_over_bdir-723754-C1WceN/RackMan-1.19-0/blib/arch:/tmp/loop_over_bdir-723754-C1WceN/RackMan-1.19-0/blib/lib:/tmp/loop_over_bdir-723754-C1WceN/DBIx-Migration-Directories-0.12-0/blib/arch:/tmp/loop_over_bdir-723754-C1WceN/DBIx-Migration-Directories-0.12-0/blib/lib:/tmp/loop_over_bdir-723754-C1WceN/mmds-1.902-0/blib/arch:/tmp/loop_over_bdir-723754-C1WceN/mmds-1.902-0/blib/lib:/tmp/loop_over_bdir-723754-C1WceN/Business-Shipping-DataFiles-1.02-0/blib/arch:/tmp/loop_over_bdir-723754-C1WceN/Business-Shipping-DataFiles-1.02-0/blib/lib:/tmp/loop_over_bdir-723754-C1WceN/OSDial-3.0.2.124-0/blib/arch:/tmp/loop_over_bdir-723754-C1WceN/OSDial-3.0.2.124-0/blib/lib:/tmp/loop_over_bdir-723754-C1WceN/Devel-Required-0.16-0/blib/arch:/tmp/loop_over_bdir-723754-C1WceN/Devel-Required-0.16-0/blib/lib:/tmp/loop_over_bdir-723754-C1WceN/Lemonldap-NG-Cli-0.2-0/blib/arch:/tmp/loop_over_bdir-723754-C1WceN/Lemonldap-NG-Cli-0.2-0/blib/lib:/tmp/loop_over_bdir-723754-C1WceN/Dpkg-1.21.19-0/blib/arch:/tmp/loop_over_bdir-723754-C1WceN/Dpkg-1.21.19-0/blib/lib:/tmp/loop_over_bdir-723754-C1WceN/LCFG-Build-Tools-0.9.30-0/blib/arch:/tmp/loop_over_bdir-723754-C1WceN/LCFG-Build-Tools-0.9.30-0/blib/lib:/tmp/loop_over_bdir-723754-C1WceN/Linux-InitFS-0.2-0/blib/arch:/tmp/loop_over_bdir-723754-C1WceN/Linux-InitFS-0.2-0/blib/lib:/tmp/loop_over_bdir-723754-C1WceN/App-nrun-v1.1.2-0/blib/arch:/tmp/loop_over_bdir-723754-C1WceN/App-nrun-v1.1.2-0/blib/lib:/tmp/loop_over_bdir-723754-C1WceN/RDF-NLP-SPARQLQuery-0.1-0/blib/arch:/tmp/loop_over_bdir-723754-C1WceN/RDF-NLP-SPARQLQuery-0.1-0/blib/lib"
PERL5OPT=""
PERL5_CPANPLUS_IS_RUNNING="723762"
PERL5_CPAN_IS_RUNNING="723762"
PERL_CANARY_STABILITY_NOPROMPT="1"
PERL_MM_USE_DEFAULT="1"
PERL_USE_UNSAFE_INC="1"
@INC:
/tmp/loop_over_bdir-723754-C1WceN/LCFG-Build-Skeleton-0.5.0-0/blib/arch
/tmp/loop_over_bdir-723754-C1WceN/LCFG-Build-Skeleton-0.5.0-0/blib/lib
/tmp/loop_over_bdir-723754-C1WceN/RackMan-1.19-0/blib/arch
/tmp/loop_over_bdir-723754-C1WceN/RackMan-1.19-0/blib/lib
/tmp/loop_over_bdir-723754-C1WceN/DBIx-Migration-Directories-0.12-0/blib/arch
/tmp/loop_over_bdir-723754-C1WceN/DBIx-Migration-Directories-0.12-0/blib/lib
/tmp/loop_over_bdir-723754-C1WceN/mmds-1.902-0/blib/arch
/tmp/loop_over_bdir-723754-C1WceN/mmds-1.902-0/blib/lib
/tmp/loop_over_bdir-723754-C1WceN/Business-Shipping-DataFiles-1.02-0/blib/arch
/tmp/loop_over_bdir-723754-C1WceN/Business-Shipping-DataFiles-1.02-0/blib/lib
/tmp/loop_over_bdir-723754-C1WceN/OSDial-3.0.2.124-0/blib/arch
/tmp/loop_over_bdir-723754-C1WceN/OSDial-3.0.2.124-0/blib/lib
/tmp/loop_over_bdir-723754-C1WceN/Devel-Required-0.16-0/blib/arch
/tmp/loop_over_bdir-723754-C1WceN/Devel-Required-0.16-0/blib/lib
/tmp/loop_over_bdir-723754-C1WceN/Lemonldap-NG-Cli-0.2-0/blib/arch
/tmp/loop_over_bdir-723754-C1WceN/Lemonldap-NG-Cli-0.2-0/blib/lib
/tmp/loop_over_bdir-723754-C1WceN/Dpkg-1.21.19-0/blib/arch
/tmp/loop_over_bdir-723754-C1WceN/Dpkg-1.21.19-0/blib/lib
/tmp/loop_over_bdir-723754-C1WceN/LCFG-Build-Tools-0.9.30-0/blib/arch
/tmp/loop_over_bdir-723754-C1WceN/LCFG-Build-Tools-0.9.30-0/blib/lib
/tmp/loop_over_bdir-723754-C1WceN/Linux-InitFS-0.2-0/blib/arch
/tmp/loop_over_bdir-723754-C1WceN/Linux-InitFS-0.2-0/blib/lib
/tmp/loop_over_bdir-723754-C1WceN/App-nrun-v1.1.2-0/blib/arch
/tmp/loop_over_bdir-723754-C1WceN/App-nrun-v1.1.2-0/blib/lib
/tmp/loop_over_bdir-723754-C1WceN/RDF-NLP-SPARQLQuery-0.1-0/blib/arch
/tmp/loop_over_bdir-723754-C1WceN/RDF-NLP-SPARQLQuery-0.1-0/blib/lib
/home/sand/src/perl/repoperls/installed-perls/host/k93jammy/v5.37.8/322f/lib/site_perl/5.37.8/x86_64-linux-thread-multi-ld
/home/sand/src/perl/repoperls/installed-perls/host/k93jammy/v5.37.8/322f/lib/site_perl/5.37.8
/home/sand/src/perl/repoperls/installed-perls/host/k93jammy/v5.37.8/322f/lib/5.37.8/x86_64-linux-thread-multi-ld
/home/sand/src/perl/repoperls/installed-perls/host/k93jammy/v5.37.8/322f/lib/5.37.8
.