Back
From: metabase:user:20a45eae-6c1a-1014-abaf-4bc2b30e56df
Subject: PASS Crypt-SSLeay-0.72 v5.18.4 Windows (Cygwin)
Date: 2015-06-14T10:39:42Z
This distribution has been tested as part of the CPAN Testers
project, supporting the Perl programming language. See
http://wiki.cpantesters.org/ for more information or email
questions to cpan-testers-discuss@perl.org
--
Dear A. Sinan Unur,
This is a computer-generated report for Crypt-SSLeay-0.72
on perl 5.18.4, created by CPAN-Reporter-1.2014.
Thank you for uploading your work to CPAN. Congratulations!
All tests were successful.
Sections of this report:
* Tester comments
* Program output
* Prerequisites
* Environment and other context
------------------------------
TESTER COMMENTS
------------------------------
Additional comments from tester:
this report is from an automated smoke testing program
and was not reviewed by a human for accuracy
------------------------------
PROGRAM OUTPUT
------------------------------
Output from '/usr/bin/make test':
PERL_DL_NONLAZY=1 /cygdrive/e/opt/perl5/cygwin_nt-6.1-wow/2.0.2/i686/perl/5.18.4/cygwin-multi-64int/bin/perl.exe "-MExtUtils::Command::MM" "-e" "test_harness(0, 'blib/lib', 'blib/arch')" t/*.t
t/00-basic.t ..... ok
t/01-connect.t ... ok
# Reading configuration from 'test.config' on cygwin
# network_tests : 0
t/02-live.t ...... skipped: Network tests disabled
t/03-version.t ... ok
t/boilerplate.t .. ok
t/manifest.t ..... skipped: Author tests not required for installation
All tests successful.
Files=6, Tests=43, 3 wallclock secs ( 0.03 usr 0.09 sys + 0.42 cusr 0.87 csys = 1.41 CPU)
Result: PASS
------------------------------
PREREQUISITES
------------------------------
Prerequisite modules loaded:
requires:
Module Need Have
-------------------- -------- --------
LWP::Protocol::https 6.02 6.06
MIME::Base64 0 3.13
perl 5.006 5.018004
build_requires:
Module Need Have
-------------------- -------- --------
ExtUtils::MakeMaker 0 6.66
Test::More 0.19 0.98
Try::Tiny 0.19 0.22
configure_requires:
Module Need Have
-------------------- -------- --------
ExtUtils::CBuilder 0.280205 0.280210
Getopt::Long 0 2.39
Path::Class 0.26 0.35
Try::Tiny 0.19 0.22
------------------------------
ENVIRONMENT AND OTHER CONTEXT
------------------------------
Environment variables:
AUTOMATED_TESTING = 1
COMSPEC = C:\Windows\system32\cmd.exe
LD_LIBRARY_PATH =
NUMBER_OF_PROCESSORS = 8
PATH = /opt/perl5/cygwin_nt-6.1-wow/2.0.2/i686/bin/5.18.4/cygwin-multi-64int:/opt/perl5/cygwin_nt-6.1-wow/2.0.2/i686/perl/5.18.4/cygwin-multi-64int/local/bin:/opt/perl5/cygwin_nt-6.1-wow/2.0.2/i686/perl/5.18.4/cygwin-multi-64int/bin:/usr/local/bin:/usr/bin
PERL5LIB = /opt/perl5/cygwin_nt-6.1-wow/2.0.2/i686/perl/5.18.4/cygwin-multi-64int/local/lib/site_perl/5.18.4:/opt/perl5/cygwin_nt-6.1-wow/2.0.2/i686/perl/5.18.4/cygwin-multi-64int/local/lib/5.18.4:/opt/perl5/cygwin_nt-6.1-wow/2.0.2/i686/perl/5.18.4/cygwin-multi-64int/local/lib/perl5
PERL5OPT =
PERL5_CPANPLUS_IS_RUNNING = 15388
PERL5_CPAN_IS_RUNNING = 15388
PERL_CPAN_REPORTER_CONFIG = /opt/perl5/cygwin_nt-6.1-wow/2.0.2/i686/cpan/5.18.4/cygwin-multi-64int/reporter/config.ini
PERL_CPAN_REPORTER_DIR = /opt/perl5/cygwin_nt-6.1-wow/2.0.2/i686/cpan/5.18.4/cygwin-multi-64int/reporter
PERL_EXTUTILS_AUTOINSTALL = 1
PERL_MM_USE_DEFAULT = 1
PERL_MY_PREFIX = /opt/perl5
PERL_MY_SOURCE_DIR = /cygdrive/e/src/perl
PERL_TEST_CRITIC = 1
PERL_TEST_CRITIC = 1
PERL_TEST_POD = 1
PERL_TEST_POD = 1
POD_TESTING = 1
POD_TESTS = 1
PROCESSOR_IDENTIFIER = Intel64 Family 6 Model 42 Stepping 7, GenuineIntel
SHELL = /usr/bin/bash
TEMP = /tmp
TERM = xterm
Perl special variables (and OS-specific diagnostics, for MSWin32):
$^X = /cygdrive/e/opt/perl5/cygwin_nt-6.1-wow/2.0.2/i686/perl/5.18.4/cygwin-multi-64int/bin/perl
$UID/$EUID = 1006 / 1006
$GID = 513 513 1003 545 4 66049 11 15 113 4095 66048 262154 401408
$EGID = 513 513 1003 545 4 66049 11 15 113 4095 66048 262154 401408
Perl module toolchain versions installed:
Module Have
------------------- --------
CPAN 2.00
CPAN::Meta 2.120921
Cwd 3.40
ExtUtils::CBuilder 0.280210
ExtUtils::Command 1.17
ExtUtils::Install 1.59
ExtUtils::MakeMaker 6.66
ExtUtils::Manifest 1.63
ExtUtils::ParseXS 3.18
File::Spec 3.40
JSON n/a
JSON::PP 2.27202
Module::Build 0.4003
Module::Signature n/a
Parse::CPAN::Meta 1.4404
Test::Harness 3.26
Test::More 0.98
YAML 1.15
YAML::Syck n/a
version 0.9902
--
Summary of my perl5 (revision 5 version 18 subversion 4) configuration:
Platform:
osname=cygwin, osvers=2.0.2(0.28753), archname=cygwin-multi-64int
uname='cygwin_nt-6.1-wow rigel 2.0.2(0.28753) 2015-05-08 17:03 i686 cygwin '
config_args='-de -Dmksymlinks -Dcc=gcc -Dld=g++ -Uinc_version_list -Uinstallusrbinperl -Uusethreads -Dusemultiplicity -Duse64bitint -Uuselongdouble -Dprefix=/opt/perl5/cygwin_nt-6.1-wow/2.0.2/i686/perl/5.18.4/cygwin-multi-64int'
hint=recommended, useposix=true, d_sigaction=define
useithreads=undef, usemultiplicity=define
useperlio=define, d_sfio=undef, uselargefiles=define, usesocks=undef
use64bitint=define, use64bitall=undef, uselongdouble=undef
usemymalloc=y, bincompat5005=undef
Compiler:
cc='gcc', ccflags ='-DPERL_USE_SAFE_PUTENV -U__STRICT_ANSI__ -fno-strict-aliasing -pipe -fstack-protector',
optimize='-O3',
cppflags='-DPERL_USE_SAFE_PUTENV -U__STRICT_ANSI__ -fno-strict-aliasing -pipe -fstack-protector'
ccversion='', gccversion='4.9.2', gccosandvers=''
intsize=4, longsize=4, ptrsize=4, doublesize=8, byteorder=12345678
d_longlong=define, longlongsize=8, d_longdbl=define, longdblsize=12
ivtype='long long', ivsize=8, nvtype='double', nvsize=8, Off_t='off_t', lseeksize=8
alignbytes=8, prototype=define
Linker and Libraries:
ld='g++', ldflags =' -Wl,--enable-auto-import -Wl,--export-all-symbols -Wl,--enable-auto-image-base -fstack-protector -L/usr/local/lib'
libpth=/usr/local/lib /usr/lib /lib
libs=-lgdbm -ldb -ldl -lcrypt -lgdbm_compat
perllibs=-ldl -lcrypt
libc=/usr/lib/libc.a, so=dll, useshrplib=true, libperl=cygperl5_18_4.dll
gnulibc_version=''
Dynamic Linking:
dlsrc=dl_dlopen.xs, dlext=dll, d_dlsymun=undef, ccdlflags=' '
cccdlflags=' ', lddlflags=' --shared -Wl,--enable-auto-import -Wl,--export-all-symbols -Wl,--enable-auto-image-base -L/usr/local/lib -fstack-protector'
Characteristics of this binary (from libperl):
Compile-time options: HAS_TIMES MULTIPLICITY MYMALLOC PERLIO_LAYERS
PERL_DONT_CREATE_GVSV
PERL_HASH_FUNC_ONE_AT_A_TIME_HARD
PERL_IMPLICIT_CONTEXT PERL_PRESERVE_IVUV
PERL_SAWAMPERSAND PERL_USE_SAFE_PUTENV USE_64_BIT_INT
USE_LARGE_FILES USE_LOCALE USE_LOCALE_COLLATE
USE_LOCALE_CTYPE USE_LOCALE_NUMERIC USE_PERLIO
USE_PERL_ATOF
Built under cygwin
Compiled at May 23 2015 15:39:10
%ENV:
PERL5LIB="/opt/perl5/cygwin_nt-6.1-wow/2.0.2/i686/perl/5.18.4/cygwin-multi-64int/local/lib/site_perl/5.18.4:/opt/perl5/cygwin_nt-6.1-wow/2.0.2/i686/perl/5.18.4/cygwin-multi-64int/local/lib/5.18.4:/opt/perl5/cygwin_nt-6.1-wow/2.0.2/i686/perl/5.18.4/cygwin-multi-64int/local/lib/perl5"
PERL5OPT=""
PERL5_CPANPLUS_IS_RUNNING="15388"
PERL5_CPAN_IS_RUNNING="15388"
PERL_CPAN_REPORTER_CONFIG="/opt/perl5/cygwin_nt-6.1-wow/2.0.2/i686/cpan/5.18.4/cygwin-multi-64int/reporter/config.ini"
PERL_CPAN_REPORTER_DIR="/opt/perl5/cygwin_nt-6.1-wow/2.0.2/i686/cpan/5.18.4/cygwin-multi-64int/reporter"
PERL_EXTUTILS_AUTOINSTALL="1"
PERL_MM_USE_DEFAULT="1"
PERL_MY_PREFIX="/opt/perl5"
PERL_MY_SOURCE_DIR="/cygdrive/e/src/perl"
PERL_TEST_CRITIC="1"
PERL_TEST_POD="1"
CYGWIN="codepage:utf8 nodosfilewarning"
@INC:
/opt/perl5/cygwin_nt-6.1-wow/2.0.2/i686/perl/5.18.4/cygwin-multi-64int/local/lib/site_perl/5.18.4/cygwin-multi-64int
/opt/perl5/cygwin_nt-6.1-wow/2.0.2/i686/perl/5.18.4/cygwin-multi-64int/local/lib/site_perl/5.18.4
/opt/perl5/cygwin_nt-6.1-wow/2.0.2/i686/perl/5.18.4/cygwin-multi-64int/local/lib/5.18.4/cygwin-multi-64int
/opt/perl5/cygwin_nt-6.1-wow/2.0.2/i686/perl/5.18.4/cygwin-multi-64int/local/lib/5.18.4
/opt/perl5/cygwin_nt-6.1-wow/2.0.2/i686/perl/5.18.4/cygwin-multi-64int/local/lib/perl5/cygwin-multi-64int
/opt/perl5/cygwin_nt-6.1-wow/2.0.2/i686/perl/5.18.4/cygwin-multi-64int/local/lib/perl5
/opt/perl5/cygwin_nt-6.1-wow/2.0.2/i686/perl/5.18.4/cygwin-multi-64int/lib/site_perl/5.18.4/cygwin-multi-64int
/opt/perl5/cygwin_nt-6.1-wow/2.0.2/i686/perl/5.18.4/cygwin-multi-64int/lib/site_perl/5.18.4
/opt/perl5/cygwin_nt-6.1-wow/2.0.2/i686/perl/5.18.4/cygwin-multi-64int/lib/5.18.4/cygwin-multi-64int
/opt/perl5/cygwin_nt-6.1-wow/2.0.2/i686/perl/5.18.4/cygwin-multi-64int/lib/5.18.4
.