MooseX-Types v0.51 Perl 5 v5.24.4 x86_64-linux-ld

Status
Pass
From
Slaven Rezić
Dist
MooseX-Types v0.51
Platform
Perl 5 v5.24.4 x86_64-linux-ld
Date
2025-04-19 21:48:01
ID
f77e9be0-1d67-11f0-b5bd-f4126e8775ea
This distribution has been tested as part of the CPAN Testers
project, supporting the Perl programming language.  See
http://wiki.cpantesters.org/ for more information or email
questions to cpan-testers-discuss@perl.org


--
Dear Karen Etheridge,

This is a computer-generated report for MooseX-Types-0.51
on perl 5.24.4, created by CPAN-Reporter-1.2020.

Thank you for uploading your work to CPAN.  Congratulations!
All tests were successful.

Sections of this report:

    * Tester comments
    * Program output
    * Prerequisites
    * Environment and other context

------------------------------
TESTER COMMENTS
------------------------------

Additional comments from tester:

this report is from an automated smoke testing program
and was not reviewed by a human for accuracy

------------------------------
PROGRAM OUTPUT
------------------------------

Output from './Build test':

# 
# Versions for all modules listed in MYMETA.json (including optional ones):
# 
# === Configure Requires ===
# 
#     Module               Want     Have
#     ------------------- ----- --------
#     Module::Build::Tiny 0.034    0.051
#     perl                5.008 5.024004
# 
# === Configure Suggests ===
# 
#     Module      Want Have
#     -------- ------- ----
#     JSON::PP 2.27300 4.16
# 
# === Test Requires ===
# 
#     Module            Want     Have
#     ---------------- ----- --------
#     File::Spec         any     3.75
#     Module::Metadata   any 1.000038
#     Moose::Role        any   2.2207
#     Term::ANSIColor    any     5.01
#     Test::Fatal        any    0.017
#     Test::More        0.88 1.302209
#     Test::Needs        any 0.002010
#     if                 any   0.0606
#     lib                any     0.63
#     perl             5.008 5.024004
# 
# === Test Recommends ===
# 
#     Module         Want     Have
#     ---------- -------- --------
#     CPAN::Meta 2.120900 2.150010
# 
# === Runtime Requires ===
# 
#     Module                                 Want     Have
#     ---------------------------------- -------- --------
#     Carp                                    any     1.50
#     Carp::Clan                             6.00     6.08
#     Exporter                                any     5.78
#     Module::Runtime                         any    0.016
#     Moose                                  1.06   2.2207
#     Moose::Exporter                         any   2.2207
#     Moose::Meta::TypeConstraint::Union      any   2.2207
#     Moose::Util::TypeConstraints            any   2.2207
#     Scalar::Util                           1.19     1.69
#     Sub::Exporter                           any    0.991
#     Sub::Exporter::ForMethods          0.100052 0.100055
#     Sub::Install                            any    0.929
#     Sub::Util                               any     1.69
#     base                                    any  2.23_01
#     namespace::autoclean                   0.16     0.31
#     overload                                any     1.26
#     parent                                  any    0.234
#     perl                                  5.008 5.024004
#     strict                                  any     1.11
#     warnings                                any     1.36
# 
# === Other Modules ===
# 
#     Module                 Have
#     -------------------- ------
#     Dist::CheckConflicts   0.11
#     Encode                 3.21
#     File::Temp           0.2311
#     JSON::PP               4.16
#     Module::Runtime       0.016
#     Sub::Name              0.28
#     YAML                   1.31
#     autodie                2.37
#     namespace::clean       0.27
# 
t/00-report-prereqs.t .............. ok
t/10_moose-types.t ................. ok
t/11_library-definition.t .......... ok
t/12_wrapper-definition.t .......... ok
t/13_typedecorator.t ............... ok
t/14_compatibility-sub-exporter.t .. ok
t/15_recursion.t ................... ok
t/16_introspection.t ............... ok
t/17_syntax_errors.t ............... ok
t/18_combined_libs.t ............... ok
t/19_typelib_with_role.t ........... ok
t/20_union_with_string_type.t ...... ok
t/21_coerce_parameterized_types.t .. ok
t/22_class_type.t .................. ok
t/23_any_subtype.t ................. ok
t/24_class_can_isa.t ............... ok
t/25-fully-qualified.t ............. ok
t/26-multi-combined.t .............. ok
t/regressions/01-is_subtype_of.t ... ok
t/zzz-check-breaks.t ............... ok
All tests successful.
Files=20, Tests=250,  4 wallclock secs ( 0.06 usr  0.04 sys +  2.91 cusr  0.56 csys =  3.57 CPU)
Result: PASS

------------------------------
PREREQUISITES
------------------------------

Prerequisite modules loaded:

requires:

    Module                             Need     Have    
    ---------------------------------- -------- --------
    base                               0        2.23_01 
    Carp                               0        1.50    
    Carp::Clan                         6.00     6.08    
    Exporter                           0        5.78    
    Module::Runtime                    0        0.016   
    Moose                              1.06     2.2207  
    Moose::Exporter                    0        2.2207  
    Moose::Meta::TypeConstraint::Union 0        2.2207  
    Moose::Util::TypeConstraints       0        2.2207  
    namespace::autoclean               0.16     0.31    
    overload                           0        1.26    
    parent                             0        0.234   
    perl                               5.008    5.024004
    Scalar::Util                       1.19     1.69    
    strict                             0        1.11    
    Sub::Exporter                      0        0.991   
    Sub::Exporter::ForMethods          0.100052 0.100055
    Sub::Install                       0        0.929   
    Sub::Util                          0        1.69    
    warnings                           0        1.36    

build_requires:

    Module                             Need     Have    
    ---------------------------------- -------- --------
    File::Spec                         0        3.75    
    if                                 0        0.0606  
    lib                                0        0.63    
    Module::Metadata                   0        1.000038
    Moose::Role                        0        2.2207  
    perl                               5.008    5.024004
    Term::ANSIColor                    0        5.01    
    Test::Fatal                        0        0.017   
    Test::More                         0.88     1.302209
    Test::Needs                        0        0.002010

configure_requires:

    Module                             Need     Have    
    ---------------------------------- -------- --------
    Module::Build::Tiny                0.034    0.051   
    perl                               5.008    5.024004


------------------------------
ENVIRONMENT AND OTHER CONTEXT
------------------------------

Environment variables:

    AUTOMATED_TESTING = 1
    LANG = en_US.UTF-8
    PATH = /usr/local/bin:/usr/bin:/bin:/usr/local/sbin:/usr/sbin:/sbin:/home/cpansand/bin/linux-gnu:/home/cpansand/bin/sh:/home/cpansand/bin:/usr/games:/home/cpansand/devel:/home/eserte/src/srezic-misc/scripts
    PERL5LIB = /home/cpansand/.cpan/build/2025041919/Alien-CFITSIO-v4.6.2.1-lVppFO/blib/arch:/home/cpansand/.cpan/build/2025041919/Alien-CFITSIO-v4.6.2.1-lVppFO/blib/lib:/home/cpansand/.cpan/build/2025041919/Alien-patch-0.15-ii9vfu/blib/arch:/home/cpansand/.cpan/build/2025041919/Alien-patch-0.15-ii9vfu/blib/lib:/home/cpansand/.cpan/build/2025041919/Alien-zlib-0.02-Rq60T6/blib/arch:/home/cpansand/.cpan/build/2025041919/Alien-zlib-0.02-Rq60T6/blib/lib
    PERL5OPT = 
    PERL5_CPANPLUS_IS_RUNNING = 215007
    PERL5_CPAN_IS_RUNNING = 215007
    PERL5_CPAN_IS_RUNNING_IN_RECURSION = 192976,215007
    PERLDOC = -MPod::Perldoc::ToTextOverstrike
    PERL_BATCH = yes
    PERL_CANARY_STABILITY_NOPROMPT = 1
    PERL_CPAN_REPORTER_CONFIG = /var/tmp/cpansmoker-1023/2025041919/cpanreporter_000_config.ini
    PERL_EXTUTILS_AUTOINSTALL = --defaultdeps
    SHELL = /usr/bin/zsh
    TERM = screen
    TMPDIR = /var/tmp/cpansmoker-1023/2025041919

Perl special variables (and OS-specific diagnostics, for MSWin32):

    $^X = /opt/perl-5.24.4D/bin/perl
    $UID/$EUID = 1023 / 1023
    $GID = 1023 1023
    $EGID = 1023 1023

Perl module toolchain versions installed:

    Module              Have    
    ------------------- --------
    CPAN                2.11_01 
    CPAN::Meta          2.150010
    Cwd                 3.75    
    ExtUtils::CBuilder  0.280236
    ExtUtils::Command   7.70    
    ExtUtils::Install   2.06    
    ExtUtils::MakeMaker 7.70    
    ExtUtils::Manifest  1.75    
    ExtUtils::ParseXS   3.51    
    File::Spec          3.75    
    JSON                4.10    
    JSON::PP            4.16    
    Module::Build       0.4234  
    Module::Signature   n/a     
    Parse::CPAN::Meta   2.150010
    Test2               1.302209
    Test::Harness       3.36_01 
    Test::More          1.302209
    YAML                1.31    
    YAML::Syck          1.34    
    version             0.9916  


--

Summary of my perl5 (revision 5 version 24 subversion 4) configuration:
   
  Platform:
    osname=linux, osvers=5.14.0-503.22.1.el9_5.x86_64, archname=x86_64-linux-ld
    uname='linux cloud1.bbbike.org 5.14.0-503.22.1.el9_5.x86_64 #1 smp preempt_dynamic wed jan 22 13:59:07 utc 2025 x86_64 x86_64 x86_64 gnulinux '
    config_args='-ds -e -Dprefix=/opt/perl-5.24.4D -Uinstallusrbinperl -Duselongdouble -Dcf_email=srezic@cpan.org'
    hint=recommended, useposix=true, d_sigaction=define
    useithreads=undef, usemultiplicity=undef
    use64bitint=define, use64bitall=define, uselongdouble=define
    usemymalloc=n, bincompat5005=undef
  Compiler:
    cc='cc', ccflags ='-fwrapv -fno-strict-aliasing -pipe -fstack-protector-strong -I/usr/local/include -D_LARGEFILE_SOURCE -D_FILE_OFFSET_BITS=64 -D_FORTIFY_SOURCE=2',
    optimize='-O2',
    cppflags='-fwrapv -fno-strict-aliasing -pipe -fstack-protector-strong -I/usr/local/include'
    ccversion='', gccversion='11.5.0 20240719 (Red Hat 11.5.0-2)', gccosandvers=''
    intsize=4, longsize=8, ptrsize=8, doublesize=8, byteorder=12345678, doublekind=3
    d_longlong=define, longlongsize=8, d_longdbl=define, longdblsize=16, longdblkind=3
    ivtype='long', ivsize=8, nvtype='long double', nvsize=16, Off_t='off_t', lseeksize=8
    alignbytes=16, prototype=define
  Linker and Libraries:
    ld='cc', ldflags =' -fstack-protector-strong -L/usr/local/lib'
    libpth=/usr/local/lib /usr/lib /lib/../lib64 /usr/lib/../lib64 /lib /lib64 /usr/lib64 /usr/local/lib64
    libs=-lpthread -ldb -ldl -lm -lcrypt -lutil -lc
    perllibs=-lpthread -ldl -lm -lcrypt -lutil -lc
    libc=/lib/../lib64/libc.so.6, so=so, useshrplib=false, libperl=libperl.a
    gnulibc_version='2.34'
  Dynamic Linking:
    dlsrc=dl_dlopen.xs, dlext=so, d_dlsymun=undef, ccdlflags='-Wl,-E'
    cccdlflags='-fPIC', lddlflags='-shared -O2 -L/usr/local/lib -fstack-protector-strong'


Characteristics of this binary (from libperl): 
  Compile-time options: HAS_TIMES PERLIO_LAYERS PERL_COPY_ON_WRITE
                        PERL_DONT_CREATE_GVSV
                        PERL_HASH_FUNC_ONE_AT_A_TIME_HARD PERL_MALLOC_WRAP
                        PERL_PRESERVE_IVUV USE_64_BIT_ALL USE_64_BIT_INT
                        USE_LARGE_FILES USE_LOCALE USE_LOCALE_COLLATE
                        USE_LOCALE_CTYPE USE_LOCALE_NUMERIC USE_LOCALE_TIME
                        USE_LONG_DOUBLE USE_PERLIO USE_PERL_ATOF
  Locally applied patches:
	Devel::PatchPerl 2.08
  Built under linux
  Compiled at Feb  1 2025 22:13:56
  %ENV:
    PERL5LIB="/home/cpansand/.cpan/build/2025041919/Alien-CFITSIO-v4.6.2.1-lVppFO/blib/arch:/home/cpansand/.cpan/build/2025041919/Alien-CFITSIO-v4.6.2.1-lVppFO/blib/lib:/home/cpansand/.cpan/build/2025041919/Alien-patch-0.15-ii9vfu/blib/arch:/home/cpansand/.cpan/build/2025041919/Alien-patch-0.15-ii9vfu/blib/lib:/home/cpansand/.cpan/build/2025041919/Alien-zlib-0.02-Rq60T6/blib/arch:/home/cpansand/.cpan/build/2025041919/Alien-zlib-0.02-Rq60T6/blib/lib"
    PERL5OPT=""
    PERL5_CPANPLUS_IS_RUNNING="215007"
    PERL5_CPAN_IS_RUNNING="215007"
    PERL5_CPAN_IS_RUNNING_IN_RECURSION="192976,215007"
    PERLDOC="-MPod::Perldoc::ToTextOverstrike"
    PERL_BATCH="yes"
    PERL_CANARY_STABILITY_NOPROMPT="1"
    PERL_CPAN_REPORTER_CONFIG="/var/tmp/cpansmoker-1023/2025041919/cpanreporter_000_config.ini"
    PERL_EXTUTILS_AUTOINSTALL="--defaultdeps"
  @INC:
    /home/cpansand/.cpan/build/2025041919/Alien-CFITSIO-v4.6.2.1-lVppFO/blib/arch
    /home/cpansand/.cpan/build/2025041919/Alien-CFITSIO-v4.6.2.1-lVppFO/blib/lib
    /home/cpansand/.cpan/build/2025041919/Alien-patch-0.15-ii9vfu/blib/arch
    /home/cpansand/.cpan/build/2025041919/Alien-patch-0.15-ii9vfu/blib/lib
    /home/cpansand/.cpan/build/2025041919/Alien-zlib-0.02-Rq60T6/blib/arch
    /home/cpansand/.cpan/build/2025041919/Alien-zlib-0.02-Rq60T6/blib/lib
    /opt/perl-5.24.4D/lib/site_perl/5.24.4/x86_64-linux-ld
    /opt/perl-5.24.4D/lib/site_perl/5.24.4
    /opt/perl-5.24.4D/lib/5.24.4/x86_64-linux-ld
    /opt/perl-5.24.4D/lib/5.24.4
    .