ExtUtils-ParseXS v3.35 Perl 5 v5.22.4 x86_64-linux-gnu
- Status
- Pass
- From
- Dist
-
ExtUtils-ParseXS v3.35
- Platform
- Perl 5 v5.22.4 x86_64-linux-gnu
- Date
- 2019-06-25 00:48:37
- ID
- f78f0b4a-96e2-11e9-8c9d-afff0f6f4aec
This distribution has been tested as part of the CPAN Testers
project, supporting the Perl programming language. See
http://wiki.cpantesters.org/ for more information or email
questions to cpan-testers-discuss@perl.org
--
Dear SMUELLER,
This is a computer-generated report for ExtUtils-ParseXS-3.35
on perl 5.22.4, created by App::cpanminus::reporter 0.17 (1.7044).
Thank you for uploading your work to CPAN. Congratulations!
All tests were successful.
Sections of this report:
* Tester comments
* Program output
* Prerequisites
* Environment and other context
------------------------------
TESTER COMMENTS
------------------------------
Additional comments from tester:
none provided
------------------------------
PROGRAM OUTPUT
------------------------------
Output from '':
Building and testing ExtUtils-ParseXS-3.35
cp lib/ExtUtils/Typemaps/Cmd.pm blib/lib/ExtUtils/Typemaps/Cmd.pm
cp lib/ExtUtils/ParseXS.pod blib/lib/ExtUtils/ParseXS.pod
cp lib/ExtUtils/Typemaps.pm blib/lib/ExtUtils/Typemaps.pm
cp lib/ExtUtils/ParseXS.pm blib/lib/ExtUtils/ParseXS.pm
cp lib/ExtUtils/ParseXS/Eval.pm blib/lib/ExtUtils/ParseXS/Eval.pm
cp lib/ExtUtils/ParseXS/CountLines.pm blib/lib/ExtUtils/ParseXS/CountLines.pm
cp lib/ExtUtils/Typemaps/OutputMap.pm blib/lib/ExtUtils/Typemaps/OutputMap.pm
cp lib/ExtUtils/ParseXS/Constants.pm blib/lib/ExtUtils/ParseXS/Constants.pm
cp lib/ExtUtils/ParseXS/Utilities.pm blib/lib/ExtUtils/ParseXS/Utilities.pm
cp lib/ExtUtils/Typemaps/InputMap.pm blib/lib/ExtUtils/Typemaps/InputMap.pm
cp lib/ExtUtils/Typemaps/Type.pm blib/lib/ExtUtils/Typemaps/Type.pm
cp lib/ExtUtils/xsubpp blib/lib/ExtUtils/xsubpp
cp lib/ExtUtils/xsubpp blib/script/xsubpp
"/usr/local/bin/perl" -MExtUtils::MY -e 'MY->fixin(shift)' -- blib/script/xsubpp
PERL_DL_NONLAZY=1 "/usr/local/bin/perl" "-MExtUtils::Command::MM" "-MTest::Harness" "-e" "undef *Test::Harness::Switches; test_harness(0, 'blib/lib', 'blib/arch')" t/*.t
t/001-basic.t ............................ ok
t/002-more.t ............................. ok
t/003-usage.t ............................ ok
t/101-standard_typemap_locations.t ....... ok
t/102-trim_whitespace.t .................. ok
t/103-tidy_type.t ........................ ok
t/104-map_type.t ......................... ok
t/105-valid_proto_string.t ............... ok
t/106-process_typemaps.t ................. ok
t/108-map_type.t ......................... ok
t/109-standard_XS_defs.t ................. ok
t/110-assign_func_args.t ................. ok
t/111-analyze_preprocessor_statements.t .. ok
t/112-set_cond.t ......................... ok
t/113-check_cond_preproc_statements.t .... ok
t/114-blurt_death_Warn.t ................. ok
t/115-avoid-noise.t ...................... ok
t/501-t-compile.t ........................ ok
t/510-t-bare.t ........................... ok
t/511-t-whitespace.t ..................... ok
t/512-t-file.t ........................... ok
t/513-t-merge.t .......................... ok
t/514-t-embed.t .......................... ok
t/515-t-cmd.t ............................ ok
t/516-t-clone.t .......................... ok
t/517-t-targetable.t ..................... ok
t/600-t-compat.t ......................... ok
All tests successful.
Files=27, Tests=264, 13 wallclock secs ( 0.23 usr 0.42 sys + 8.24 cusr 3.40 csys = 12.29 CPU)
Result: PASS
------------------------------
PREREQUISITES
------------------------------
Prerequisite modules loaded:
No requirements found
------------------------------
ENVIRONMENT AND OTHER CONTEXT
------------------------------
Environment variables:
PATH = /usr/local/sbin:/usr/local/bin:/usr/sbin:/usr/bin:/sbin:/bin
PERL_CPAN_REPORTER_DIR = /etc/cpanm-reporter
TERM = xterm
Perl special variables (and OS-specific diagnostics, for MSWin32):
EGID = 0
EUID = 0
EXECUTABLE_NAME = /usr/local/bin/perl
GID = 0
UID = 0
Perl module toolchain versions installed:
Module Have
------------------- ----------
CPAN 2.11_01
CPAN::Meta 2.150010
Cwd 3.56_02
ExtUtils::CBuilder 0.280221
ExtUtils::Command 1.20_01
ExtUtils::Install 2.04
ExtUtils::MakeMaker 7.04_02
ExtUtils::Manifest 1.70
ExtUtils::ParseXS 3.35
File::Spec 3.56_02
JSON 4.02
JSON::PP 2.27300_01
Module::Build 0.4229
Module::Signature n/a
Parse::CPAN::Meta 2.150010
Test::Harness 3.35_01
Test::More 1.302164
YAML 1.29
YAML::Syck 1.31
version 0.9924
--
Summary of my perl5 (revision 5 version 22 subversion 4) configuration:
Platform:
osname=linux, osvers=4.4.0-127-generic, archname=x86_64-linux-gnu
uname='linux 0c5eeb810b90 4.4.0-127-generic #153-ubuntu smp sat may 19 10:58:46 utc 2018 x86_64 gnulinux '
config_args='-Darchname=x86_64-linux-gnu -Duse64bitall -Duseshrplib -Dvendorprefix=/usr/local -des'
hint=recommended, useposix=true, d_sigaction=define
useithreads=undef, usemultiplicity=undef
use64bitint=define, use64bitall=define, uselongdouble=undef
usemymalloc=n, bincompat5005=undef
Compiler:
cc='cc', ccflags ='-fwrapv -fno-strict-aliasing -pipe -fstack-protector-strong -I/usr/local/include -D_LARGEFILE_SOURCE -D_FILE_OFFSET_BITS=64',
optimize='-O2',
cppflags='-fwrapv -fno-strict-aliasing -pipe -fstack-protector-strong -I/usr/local/include'
ccversion='', gccversion='6.3.0 20170516', gccosandvers=''
intsize=4, longsize=8, ptrsize=8, doublesize=8, byteorder=12345678, doublekind=3
d_longlong=define, longlongsize=8, d_longdbl=define, longdblsize=16, longdblkind=3
ivtype='long', ivsize=8, nvtype='double', nvsize=8, Off_t='off_t', lseeksize=8
alignbytes=8, prototype=define
Linker and Libraries:
ld='cc', ldflags =' -fstack-protector-strong -L/usr/local/lib'
libpth=/usr/local/lib /usr/lib/gcc/x86_64-linux-gnu/6/include-fixed /usr/include/x86_64-linux-gnu /usr/lib /lib/x86_64-linux-gnu /lib/../lib /usr/lib/x86_64-linux-gnu /usr/lib/../lib /lib
libs=-lpthread -lnsl -lgdbm -ldb -ldl -lm -lcrypt -lutil -lc -lgdbm_compat
perllibs=-lpthread -lnsl -ldl -lm -lcrypt -lutil -lc
libc=libc-2.24.so, so=so, useshrplib=true, libperl=libperl.so
gnulibc_version='2.24'
Dynamic Linking:
dlsrc=dl_dlopen.xs, dlext=so, d_dlsymun=undef, ccdlflags='-Wl,-E -Wl,-rpath,/usr/local/lib/perl5/5.22.4/x86_64-linux-gnu/CORE'
cccdlflags='-fPIC', lddlflags='-shared -O2 -L/usr/local/lib -fstack-protector-strong'
Characteristics of this binary (from libperl):
Compile-time options: HAS_TIMES PERLIO_LAYERS PERL_DONT_CREATE_GVSV
PERL_HASH_FUNC_ONE_AT_A_TIME_HARD PERL_MALLOC_WRAP
PERL_NEW_COPY_ON_WRITE PERL_PRESERVE_IVUV
USE_64_BIT_ALL USE_64_BIT_INT USE_LARGE_FILES
USE_LOCALE USE_LOCALE_COLLATE USE_LOCALE_CTYPE
USE_LOCALE_NUMERIC USE_LOCALE_TIME USE_PERLIO
USE_PERL_ATOF
Built under linux
Compiled at Jun 6 2018 02:52:14
%ENV:
PERL_CPAN_REPORTER_DIR="/etc/cpanm-reporter"
@INC:
/usr/local/lib/perl5/site_perl/5.22.4/x86_64-linux-gnu
/usr/local/lib/perl5/site_perl/5.22.4
/usr/local/lib/perl5/vendor_perl/5.22.4/x86_64-linux-gnu
/usr/local/lib/perl5/vendor_perl/5.22.4
/usr/local/lib/perl5/5.22.4/x86_64-linux-gnu
/usr/local/lib/perl5/5.22.4
.