Report for Apache-ASP-2.62

Back
From: metabase:user:320bfe00-2aae-11df-837a-5e0a49663a4f
Subject: PASS Apache-ASP-2.62 v5.25.7 GNU/Linux
Date: 2017-03-07T06:47:44Z

This distribution has been tested as part of the CPAN Testers
project, supporting the Perl programming language.  See
http://wiki.cpantesters.org/ for more information or email
questions to cpan-testers-discuss@perl.org


--
Dear J Chamas,

This is a computer-generated report for Apache-ASP-2.62
on perl 5.25.7, created by CPAN-Reporter-1.2018.

Thank you for uploading your work to CPAN.  Congratulations!
All tests were successful.

Sections of this report:

    * Tester comments
    * Program output
    * Prerequisites
    * Environment and other context

------------------------------
TESTER COMMENTS
------------------------------

Additional comments from tester:

this report is from an automated smoke testing program
and was not reviewed by a human for accuracy

------------------------------
PROGRAM OUTPUT
------------------------------

Output from '/usr/bin/make test':

PERL_DL_NONLAZY=1 "/home/sand/src/perl/repoperls/installed-perls/host/k93msid/v5.25.7/a1a1/bin/perl" "-MExtUtils::Command::MM" "-MTest::Harness" "-e" "undef *Test::Harness::Switches; test_harness(0, 'blib/lib', 'blib/arch')" t/*.t
t/application.t .......... ok
t/asp-perl1.t ............ ok
t/asp-perl2.t ............ ok
t/asp_object.t ........... ok
t/cache.t ................ ok
t/cgi_headers.t .......... ok
Use of uninitialized value $rv in lc at /tmp/loop_over_bdir-11266-aOIVay/Apache-ASP-2.62-0/blib/lib/Apache/ASP.pm line 2018.
Use of uninitialized value $rv in lc at /tmp/loop_over_bdir-11266-aOIVay/Apache-ASP-2.62-0/blib/lib/Apache/ASP.pm line 2018.
Use of uninitialized value $rv in lc at /tmp/loop_over_bdir-11266-aOIVay/Apache-ASP-2.62-0/blib/lib/Apache/ASP.pm line 2018.
Use of uninitialized value $rv in lc at /tmp/loop_over_bdir-11266-aOIVay/Apache-ASP-2.62-0/blib/lib/Apache/ASP.pm line 2018.
Use of uninitialized value $rv in lc at /tmp/loop_over_bdir-11266-aOIVay/Apache-ASP-2.62-0/blib/lib/Apache/ASP.pm line 2018.
Use of uninitialized value $rv in lc at /tmp/loop_over_bdir-11266-aOIVay/Apache-ASP-2.62-0/blib/lib/Apache/ASP.pm line 2018.
Use of uninitialized value $rv in lc at /tmp/loop_over_bdir-11266-aOIVay/Apache-ASP-2.62-0/blib/lib/Apache/ASP.pm line 2018.
Use of uninitialized value $rv in lc at /tmp/loop_over_bdir-11266-aOIVay/Apache-ASP-2.62-0/blib/lib/Apache/ASP.pm line 2018.
Use of uninitialized value $rv in lc at /tmp/loop_over_bdir-11266-aOIVay/Apache-ASP-2.62-0/blib/lib/Apache/ASP.pm line 2018.
t/closure.t .............. ok
t/collection.t ........... ok
t/collectionitem.t ....... ok
t/cookies.t .............. ok
t/end.t .................. ok
t/general.t .............. ok
t/global_event_end.t ..... ok
t/include.t .............. ok
Use of uninitialized value $rv in lc at /tmp/loop_over_bdir-11266-aOIVay/Apache-ASP-2.62-0/blib/lib/Apache/ASP.pm line 2018.
 at /tmp/loop_over_bdir-11266-aOIVay/Apache-ASP-2.62-0/blib/lib/Apache/ASP.pm line 2018.
	Apache::ASP::get_dir_config(Apache::ASP::CGI::Table=HASH(0x56226d9a4ce8), "Global") called at /tmp/loop_over_bdir-11266-aOIVay/Apache-ASP-2.62-0/blib/lib/Apache/ASP.pm line 276
	Apache::ASP::new("Apache::ASP", Apache::ASP::CGI=HASH(0x56226d3d6720), "t/include_change.t") called at /tmp/loop_over_bdir-11266-aOIVay/Apache-ASP-2.62-0/blib/lib/Apache/ASP.pm line 184
	Apache::ASP::handler(Apache::ASP::CGI=HASH(0x56226d3d6720)) called at /tmp/loop_over_bdir-11266-aOIVay/Apache-ASP-2.62-0/blib/lib/Apache/ASP/CGI.pm line 40
	Apache::ASP::CGI::do_self("NoState", 1, "Debug", 0, "UseStrict", 0) called at t/include_change.t line 5
Use of uninitialized value $rv in lc at /tmp/loop_over_bdir-11266-aOIVay/Apache-ASP-2.62-0/blib/lib/Apache/ASP.pm line 2018.
 at /tmp/loop_over_bdir-11266-aOIVay/Apache-ASP-2.62-0/blib/lib/Apache/ASP.pm line 2018.
	Apache::ASP::get_dir_config(Apache::ASP::CGI::Table=HASH(0x56226d9a4ce8), "GlobalPackage") called at /tmp/loop_over_bdir-11266-aOIVay/Apache-ASP-2.62-0/blib/lib/Apache/ASP.pm line 280
	Apache::ASP::new("Apache::ASP", Apache::ASP::CGI=HASH(0x56226d3d6720), "t/include_change.t") called at /tmp/loop_over_bdir-11266-aOIVay/Apache-ASP-2.62-0/blib/lib/Apache/ASP.pm line 184
	Apache::ASP::handler(Apache::ASP::CGI=HASH(0x56226d3d6720)) called at /tmp/loop_over_bdir-11266-aOIVay/Apache-ASP-2.62-0/blib/lib/Apache/ASP/CGI.pm line 40
	Apache::ASP::CGI::do_self("NoState", 1, "Debug", 0, "UseStrict", 0) called at t/include_change.t line 5
Use of uninitialized value $rv in lc at /tmp/loop_over_bdir-11266-aOIVay/Apache-ASP-2.62-0/blib/lib/Apache/ASP.pm line 2018.
 at /tmp/loop_over_bdir-11266-aOIVay/Apache-ASP-2.62-0/blib/lib/Apache/ASP.pm line 2018.
	Apache::ASP::get_dir_config(Apache::ASP::CGI::Table=HASH(0x56226d9a4ce8), "InodeNames") called at /tmp/loop_over_bdir-11266-aOIVay/Apache-ASP-2.62-0/blib/lib/Apache/ASP.pm line 280
	Apache::ASP::new("Apache::ASP", Apache::ASP::CGI=HASH(0x56226d3d6720), "t/include_change.t") called at /tmp/loop_over_bdir-11266-aOIVay/Apache-ASP-2.62-0/blib/lib/Apache/ASP.pm line 184
	Apache::ASP::handler(Apache::ASP::CGI=HASH(0x56226d3d6720)) called at /tmp/loop_over_bdir-11266-aOIVay/Apache-ASP-2.62-0/blib/lib/Apache/ASP/CGI.pm line 40
	Apache::ASP::CGI::do_self("NoState", 1, "Debug", 0, "UseStrict", 0) called at t/include_change.t line 5
Use of uninitialized value $rv in lc at /tmp/loop_over_bdir-11266-aOIVay/Apache-ASP-2.62-0/blib/lib/Apache/ASP.pm line 2018.
 at /tmp/loop_over_bdir-11266-aOIVay/Apache-ASP-2.62-0/blib/lib/Apache/ASP.pm line 2018.
	Apache::ASP::get_dir_config(Apache::ASP::CGI::Table=HASH(0x56226d9a4ce8), "NoCache") called at /tmp/loop_over_bdir-11266-aOIVay/Apache-ASP-2.62-0/blib/lib/Apache/ASP.pm line 280
	Apache::ASP::new("Apache::ASP", Apache::ASP::CGI=HASH(0x56226d3d6720), "t/include_change.t") called at /tmp/loop_over_bdir-11266-aOIVay/Apache-ASP-2.62-0/blib/lib/Apache/ASP.pm line 184
	Apache::ASP::handler(Apache::ASP::CGI=HASH(0x56226d3d6720)) called at /tmp/loop_over_bdir-11266-aOIVay/Apache-ASP-2.62-0/blib/lib/Apache/ASP/CGI.pm line 40
	Apache::ASP::CGI::do_self("NoState", 1, "Debug", 0, "UseStrict", 0) called at t/include_change.t line 5
Use of uninitialized value $rv in lc at /tmp/loop_over_bdir-11266-aOIVay/Apache-ASP-2.62-0/blib/lib/Apache/ASP.pm line 2018.
 at /tmp/loop_over_bdir-11266-aOIVay/Apache-ASP-2.62-0/blib/lib/Apache/ASP.pm line 2018.
	Apache::ASP::get_dir_config(Apache::ASP::CGI::Table=HASH(0x56226d9a4ce8), "StatINC") called at /tmp/loop_over_bdir-11266-aOIVay/Apache-ASP-2.62-0/blib/lib/Apache/ASP.pm line 280
	Apache::ASP::new("Apache::ASP", Apache::ASP::CGI=HASH(0x56226d3d6720), "t/include_change.t") called at /tmp/loop_over_bdir-11266-aOIVay/Apache-ASP-2.62-0/blib/lib/Apache/ASP.pm line 184
	Apache::ASP::handler(Apache::ASP::CGI=HASH(0x56226d3d6720)) called at /tmp/loop_over_bdir-11266-aOIVay/Apache-ASP-2.62-0/blib/lib/Apache/ASP/CGI.pm line 40
	Apache::ASP::CGI::do_self("NoState", 1, "Debug", 0, "UseStrict", 0) called at t/include_change.t line 5
Use of uninitialized value $rv in lc at /tmp/loop_over_bdir-11266-aOIVay/Apache-ASP-2.62-0/blib/lib/Apache/ASP.pm line 2018.
 at /tmp/loop_over_bdir-11266-aOIVay/Apache-ASP-2.62-0/blib/lib/Apache/ASP.pm line 2018.
	Apache::ASP::get_dir_config(Apache::ASP::CGI::Table=HASH(0x56226d9a4ce8), "StatINCMatch") called at /tmp/loop_over_bdir-11266-aOIVay/Apache-ASP-2.62-0/blib/lib/Apache/ASP.pm line 280
	Apache::ASP::new("Apache::ASP", Apache::ASP::CGI=HASH(0x56226d3d6720), "t/include_change.t") called at /tmp/loop_over_bdir-11266-aOIVay/Apache-ASP-2.62-0/blib/lib/Apache/ASP.pm line 184
	Apache::ASP::handler(Apache::ASP::CGI=HASH(0x56226d3d6720)) called at /tmp/loop_over_bdir-11266-aOIVay/Apache-ASP-2.62-0/blib/lib/Apache/ASP/CGI.pm line 40
	Apache::ASP::CGI::do_self("NoState", 1, "Debug", 0, "UseStrict", 0) called at t/include_change.t line 5
Use of uninitialized value $rv in lc at /tmp/loop_over_bdir-11266-aOIVay/Apache-ASP-2.62-0/blib/lib/Apache/ASP.pm line 2018.
 at /tmp/loop_over_bdir-11266-aOIVay/Apache-ASP-2.62-0/blib/lib/Apache/ASP.pm line 2018.
	Apache::ASP::get_dir_config(Apache::ASP::CGI::Table=HASH(0x56226d9a4ce8), "XSLT") called at /tmp/loop_over_bdir-11266-aOIVay/Apache-ASP-2.62-0/blib/lib/Apache/ASP.pm line 280
	Apache::ASP::new("Apache::ASP", Apache::ASP::CGI=HASH(0x56226d3d6720), "t/include_change.t") called at /tmp/loop_over_bdir-11266-aOIVay/Apache-ASP-2.62-0/blib/lib/Apache/ASP.pm line 184
	Apache::ASP::handler(Apache::ASP::CGI=HASH(0x56226d3d6720)) called at /tmp/loop_over_bdir-11266-aOIVay/Apache-ASP-2.62-0/blib/lib/Apache/ASP/CGI.pm line 40
	Apache::ASP::CGI::do_self("NoState", 1, "Debug", 0, "UseStrict", 0) called at t/include_change.t line 5
Use of uninitialized value $rv in lc at /tmp/loop_over_bdir-11266-aOIVay/Apache-ASP-2.62-0/blib/lib/Apache/ASP.pm line 2018.
 at /tmp/loop_over_bdir-11266-aOIVay/Apache-ASP-2.62-0/blib/lib/Apache/ASP.pm line 2018.
	Apache::ASP::get_dir_config(Apache::ASP::CGI::Table=HASH(0x56226d9a4ce8), "Filter") called at /tmp/loop_over_bdir-11266-aOIVay/Apache-ASP-2.62-0/blib/lib/Apache/ASP.pm line 326
	Apache::ASP::new("Apache::ASP", Apache::ASP::CGI=HASH(0x56226d3d6720), "t/include_change.t") called at /tmp/loop_over_bdir-11266-aOIVay/Apache-ASP-2.62-0/blib/lib/Apache/ASP.pm line 184
	Apache::ASP::handler(Apache::ASP::CGI=HASH(0x56226d3d6720)) called at /tmp/loop_over_bdir-11266-aOIVay/Apache-ASP-2.62-0/blib/lib/Apache/ASP/CGI.pm line 40
	Apache::ASP::CGI::do_self("NoState", 1, "Debug", 0, "UseStrict", 0) called at t/include_change.t line 5
Use of uninitialized value $rv in lc at /tmp/loop_over_bdir-11266-aOIVay/Apache-ASP-2.62-0/blib/lib/Apache/ASP.pm line 2018.
 at /tmp/loop_over_bdir-11266-aOIVay/Apache-ASP-2.62-0/blib/lib/Apache/ASP.pm line 2018.
	Apache::ASP::get_dir_config(Apache::ASP::CGI::Table=HASH(0x56226d9a4ce8), "CompressGzip") called at /tmp/loop_over_bdir-11266-aOIVay/Apache-ASP-2.62-0/blib/lib/Apache/ASP.pm line 353
	Apache::ASP::new("Apache::ASP", Apache::ASP::CGI=HASH(0x56226d3d6720), "t/include_change.t") called at /tmp/loop_over_bdir-11266-aOIVay/Apache-ASP-2.62-0/blib/lib/Apache/ASP.pm line 184
	Apache::ASP::handler(Apache::ASP::CGI=HASH(0x56226d3d6720)) called at /tmp/loop_over_bdir-11266-aOIVay/Apache-ASP-2.62-0/blib/lib/Apache/ASP/CGI.pm line 40
	Apache::ASP::CGI::do_self("NoState", 1, "Debug", 0, "UseStrict", 0) called at t/include_change.t line 5
t/include_change.t ....... ok
t/include_dir_error.t .... ok
t/include_runtime.t ...... ok
t/inode_names.t .......... ok
Use of uninitialized value $rv in lc at /tmp/loop_over_bdir-11266-aOIVay/Apache-ASP-2.62-0/blib/lib/Apache/ASP.pm line 2018.
Use of uninitialized value $rv in lc at /tmp/loop_over_bdir-11266-aOIVay/Apache-ASP-2.62-0/blib/lib/Apache/ASP.pm line 2018.
Use of uninitialized value $rv in lc at /tmp/loop_over_bdir-11266-aOIVay/Apache-ASP-2.62-0/blib/lib/Apache/ASP.pm line 2018.
Use of uninitialized value $rv in lc at /tmp/loop_over_bdir-11266-aOIVay/Apache-ASP-2.62-0/blib/lib/Apache/ASP.pm line 2018.
Use of uninitialized value $rv in lc at /tmp/loop_over_bdir-11266-aOIVay/Apache-ASP-2.62-0/blib/lib/Apache/ASP.pm line 2018.
Use of uninitialized value $rv in lc at /tmp/loop_over_bdir-11266-aOIVay/Apache-ASP-2.62-0/blib/lib/Apache/ASP.pm line 2018.
Use of uninitialized value $rv in lc at /tmp/loop_over_bdir-11266-aOIVay/Apache-ASP-2.62-0/blib/lib/Apache/ASP.pm line 2018.
Use of uninitialized value $rv in lc at /tmp/loop_over_bdir-11266-aOIVay/Apache-ASP-2.62-0/blib/lib/Apache/ASP.pm line 2018.
Use of uninitialized value $rv in lc at /tmp/loop_over_bdir-11266-aOIVay/Apache-ASP-2.62-0/blib/lib/Apache/ASP.pm line 2018.
t/load.t ................. ok
t/long_names.t ........... ok
t/loops.t ................ ok
Use of uninitialized value $rv in lc at /tmp/loop_over_bdir-11266-aOIVay/Apache-ASP-2.62-0/blib/lib/Apache/ASP.pm line 2018.
Use of uninitialized value $rv in lc at /tmp/loop_over_bdir-11266-aOIVay/Apache-ASP-2.62-0/blib/lib/Apache/ASP.pm line 2018.
Use of uninitialized value $rv in lc at /tmp/loop_over_bdir-11266-aOIVay/Apache-ASP-2.62-0/blib/lib/Apache/ASP.pm line 2018.
Use of uninitialized value $rv in lc at /tmp/loop_over_bdir-11266-aOIVay/Apache-ASP-2.62-0/blib/lib/Apache/ASP.pm line 2018.
Use of uninitialized value $rv in lc at /tmp/loop_over_bdir-11266-aOIVay/Apache-ASP-2.62-0/blib/lib/Apache/ASP.pm line 2018.
Use of uninitialized value $rv in lc at /tmp/loop_over_bdir-11266-aOIVay/Apache-ASP-2.62-0/blib/lib/Apache/ASP.pm line 2018.
Use of uninitialized value $rv in lc at /tmp/loop_over_bdir-11266-aOIVay/Apache-ASP-2.62-0/blib/lib/Apache/ASP.pm line 2018.
Use of uninitialized value $rv in lc at /tmp/loop_over_bdir-11266-aOIVay/Apache-ASP-2.62-0/blib/lib/Apache/ASP.pm line 2018.
Use of uninitialized value $rv in lc at /tmp/loop_over_bdir-11266-aOIVay/Apache-ASP-2.62-0/blib/lib/Apache/ASP.pm line 2018.
Use of uninitialized value $rv in lc at /tmp/loop_over_bdir-11266-aOIVay/Apache-ASP-2.62-0/blib/lib/Apache/ASP.pm line 2018.
t/mail_error.t ........... ok
t/no_cache.t ............. ok
t/raw.t .................. ok
t/raw_include.t .......... ok
Use of uninitialized value $rv in lc at /tmp/loop_over_bdir-11266-aOIVay/Apache-ASP-2.62-0/blib/lib/Apache/ASP.pm line 2018.
Use of uninitialized value $rv in lc at /tmp/loop_over_bdir-11266-aOIVay/Apache-ASP-2.62-0/blib/lib/Apache/ASP.pm line 2018.
Use of uninitialized value $rv in lc at /tmp/loop_over_bdir-11266-aOIVay/Apache-ASP-2.62-0/blib/lib/Apache/ASP.pm line 2018.
Use of uninitialized value $rv in lc at /tmp/loop_over_bdir-11266-aOIVay/Apache-ASP-2.62-0/blib/lib/Apache/ASP.pm line 2018.
Use of uninitialized value $rv in lc at /tmp/loop_over_bdir-11266-aOIVay/Apache-ASP-2.62-0/blib/lib/Apache/ASP.pm line 2018.
Use of uninitialized value $rv in lc at /tmp/loop_over_bdir-11266-aOIVay/Apache-ASP-2.62-0/blib/lib/Apache/ASP.pm line 2018.
Use of uninitialized value $rv in lc at /tmp/loop_over_bdir-11266-aOIVay/Apache-ASP-2.62-0/blib/lib/Apache/ASP.pm line 2018.
Use of uninitialized value $rv in lc at /tmp/loop_over_bdir-11266-aOIVay/Apache-ASP-2.62-0/blib/lib/Apache/ASP.pm line 2018.
Use of uninitialized value $rv in lc at /tmp/loop_over_bdir-11266-aOIVay/Apache-ASP-2.62-0/blib/lib/Apache/ASP.pm line 2018.
Use of uninitialized value $rv in lc at /tmp/loop_over_bdir-11266-aOIVay/Apache-ASP-2.62-0/blib/lib/Apache/ASP.pm line 2018.
Use of uninitialized value $rv in lc at /tmp/loop_over_bdir-11266-aOIVay/Apache-ASP-2.62-0/blib/lib/Apache/ASP.pm line 2018.
Use of uninitialized value $rv in lc at /tmp/loop_over_bdir-11266-aOIVay/Apache-ASP-2.62-0/blib/lib/Apache/ASP.pm line 2018.
Use of uninitialized value $rv in lc at /tmp/loop_over_bdir-11266-aOIVay/Apache-ASP-2.62-0/blib/lib/Apache/ASP.pm line 2018.
Use of uninitialized value $rv in lc at /tmp/loop_over_bdir-11266-aOIVay/Apache-ASP-2.62-0/blib/lib/Apache/ASP.pm line 2018.
Use of uninitialized value $rv in lc at /tmp/loop_over_bdir-11266-aOIVay/Apache-ASP-2.62-0/blib/lib/Apache/ASP.pm line 2018.
Use of uninitialized value $rv in lc at /tmp/loop_over_bdir-11266-aOIVay/Apache-ASP-2.62-0/blib/lib/Apache/ASP.pm line 2018.
Use of uninitialized value $rv in lc at /tmp/loop_over_bdir-11266-aOIVay/Apache-ASP-2.62-0/blib/lib/Apache/ASP.pm line 2018.
Use of uninitialized value $rv in lc at /tmp/loop_over_bdir-11266-aOIVay/Apache-ASP-2.62-0/blib/lib/Apache/ASP.pm line 2018.
Use of uninitialized value $rv in lc at /tmp/loop_over_bdir-11266-aOIVay/Apache-ASP-2.62-0/blib/lib/Apache/ASP.pm line 2018.
Use of uninitialized value $rv in lc at /tmp/loop_over_bdir-11266-aOIVay/Apache-ASP-2.62-0/blib/lib/Apache/ASP.pm line 2018.
t/reload_global_asa.t .... ok
t/req_params_none.t ...... ok
t/request.t .............. ok
t/response.t ............. ok
t/response_end.t ......... ok
t/same_name.t ............ ok
t/server.t ............... ok
t/server_mail.t .......... skipped: (no reason given)
t/server_transfer.t ...... ok
t/session.t .............. ok
t/session_events.t ....... ok
t/session_query_parse.t .. ok
t/session_serialize.t .... ok
t/share.t ................ ok
t/stat_inc.t ............. ok
t/strict_error.t ......... ok
t/taint_check.t .......... ok
t/unique_packages.t ...... ok
t/xmlsubs.t .............. ok
t/xmlsubs_aspargs.t ...... ok
t/xmlsubs_perlargs.t ..... ok
t/xmlsubsmatch.t ......... ok
All tests successful.
Files=47, Tests=340,  9 wallclock secs ( 0.12 usr  0.27 sys +  3.12 cusr  0.66 csys =  4.17 CPU)
Result: PASS

------------------------------
PREREQUISITES
------------------------------

Prerequisite modules loaded:

requires:

    Module              Need Have 
    ------------------- ---- -----
    Carp                0    1.38 
    Class::Struct       0    0.65 
    Data::Dumper        0    2.161
    Digest::MD5         0    2.55 
    Fcntl               0    1.13 
    File::Basename      0    2.85 
    MLDBM               0    2.05 
    MLDBM::Sync         0    0.30 
    SDBM_File           0    1.14 

build_requires:

    Module              Need Have 
    ------------------- ---- -----
    ExtUtils::MakeMaker 0    7.24 


------------------------------
ENVIRONMENT AND OTHER CONTEXT
------------------------------

Environment variables:

    AUTOMATED_TESTING = 1
    LANG = en_US.UTF-8
    PATH = /home/sand/bin:/usr/local/bin:/usr/bin:/bin:/usr/games:/usr/local/perl/bin:/usr/X11/bin:/sbin:/usr/sbin
    PERL5LIB = 
    PERL5OPT = 
    PERL5_CPANPLUS_IS_RUNNING = 11275
    PERL5_CPAN_IS_RUNNING = 11275
    PERL_CANARY_STABILITY_NOPROMPT = 1
    PERL_MM_USE_DEFAULT = 1
    PERL_USE_UNSAFE_INC = 1
    SHELL = /usr/bin/zsh
    TERM = screen

Perl special variables (and OS-specific diagnostics, for MSWin32):

    $^X = /home/sand/src/perl/repoperls/installed-perls/host/k93msid/v5.25.7/a1a1/bin/perl
    $UID/$EUID = 1005 / 1005
    $GID = 1005 1005
    $EGID = 1005 1005

Perl module toolchain versions installed:

    Module              Have    
    ------------------- --------
    CPAN                2.17    
    CPAN::Meta          2.150010
    Cwd                 3.66    
    ExtUtils::CBuilder  0.280225
    ExtUtils::Command   7.24    
    ExtUtils::Install   2.04    
    ExtUtils::MakeMaker 7.24    
    ExtUtils::Manifest  1.70    
    ExtUtils::ParseXS   3.33    
    File::Spec          3.66    
    JSON                2.91_04 
    JSON::PP            2.91_04 
    Module::Build       0.4220  
    Module::Signature   0.81    
    Parse::CPAN::Meta   2.150010
    Test::Harness       3.37_01 
    Test::More          1.302077
    YAML                1.21    
    YAML::Syck          1.29    
    version             0.9917  


--

Summary of my perl5 (revision 5 version 25 subversion 7) configuration:
  Derived from: 28988dce93a735de38b874bd0f3087b9bd4aad0f
  Platform:
    osname=linux
    osvers=4.8.0-2-amd64
    archname=x86_64-linux-thread-multi-ld
    uname='linux k93msid 4.8.0-2-amd64 #1 smp debian 4.8.11-1 (2016-12-02) x86_64 gnulinux '
    config_args='-Dprefix=/home/sand/src/perl/repoperls/installed-perls/host/k93msid/v5.25.7/a1a1 -Dmyhostname=k93msid -Dinstallusrbinperl=n -Uversiononly -Dusedevel -des -Ui_db -Dlibswanted=cl pthread socket inet nsl gdbm dbm malloc dl ld sun m crypt sec util c cposix posix ucb BSD gdbm_compat -Duseithreads -Duselongdouble -DDEBUGGING=both'
    hint=recommended
    useposix=true
    d_sigaction=define
    useithreads=define
    usemultiplicity=define
    use64bitint=define
    use64bitall=define
    uselongdouble=define
    usemymalloc=n
    bincompat5005=undef
  Compiler:
    cc='cc'
    ccflags ='-D_REENTRANT -D_GNU_SOURCE -fwrapv -DDEBUGGING -fno-strict-aliasing -pipe -fstack-protector-strong -I/usr/local/include -D_LARGEFILE_SOURCE -D_FILE_OFFSET_BITS=64'
    optimize='-O2 -g'
    cppflags='-D_REENTRANT -D_GNU_SOURCE -fwrapv -DDEBUGGING -fno-strict-aliasing -pipe -fstack-protector-strong -I/usr/local/include'
    ccversion=''
    gccversion='6.2.1 20161124'
    gccosandvers=''
    intsize=4
    longsize=8
    ptrsize=8
    doublesize=8
    byteorder=12345678
    doublekind=3
    d_longlong=define
    longlongsize=8
    d_longdbl=define
    longdblsize=16
    longdblkind=3
    ivtype='long'
    ivsize=8
    nvtype='long double'
    nvsize=16
    Off_t='off_t'
    lseeksize=8
    alignbytes=16
    prototype=define
  Linker and Libraries:
    ld='cc'
    ldflags =' -fstack-protector-strong -L/usr/local/lib'
    libpth=/usr/local/lib /usr/lib/gcc/x86_64-linux-gnu/6/include-fixed /usr/include/x86_64-linux-gnu /usr/lib /lib/x86_64-linux-gnu /lib/../lib /usr/lib/x86_64-linux-gnu /usr/lib/../lib /lib
    libs=-lpthread -lnsl -ldl -lm -lcrypt -lutil -lc
    perllibs=-lpthread -lnsl -ldl -lm -lcrypt -lutil -lc
    libc=libc-2.24.so
    so=so
    useshrplib=false
    libperl=libperl.a
    gnulibc_version='2.24'
  Dynamic Linking:
    dlsrc=dl_dlopen.xs
    dlext=so
    d_dlsymun=undef
    ccdlflags='-Wl,-E'
    cccdlflags='-fPIC'
    lddlflags='-shared -O2 -g -L/usr/local/lib -fstack-protector-strong'


Characteristics of this binary (from libperl): 
  Compile-time options:
    DEBUGGING
    HAS_TIMES
    MULTIPLICITY
    PERLIO_LAYERS
    PERL_COPY_ON_WRITE
    PERL_DONT_CREATE_GVSV
    PERL_HASH_FUNC_ONE_AT_A_TIME_HARD
    PERL_IMPLICIT_CONTEXT
    PERL_MALLOC_WRAP
    PERL_OP_PARENT
    PERL_PRESERVE_IVUV
    PERL_TRACK_MEMPOOL
    PERL_USE_DEVEL
    USE_64_BIT_ALL
    USE_64_BIT_INT
    USE_ITHREADS
    USE_LARGE_FILES
    USE_LOCALE
    USE_LOCALE_COLLATE
    USE_LOCALE_CTYPE
    USE_LOCALE_NUMERIC
    USE_LOCALE_TIME
    USE_LONG_DOUBLE
    USE_PERLIO
    USE_PERL_ATOF
    USE_REENTRANT_API
  Locally applied patches:
    uncommitted-changes
  Built under linux
  Compiled at Dec 14 2016 05:45:22
  %ENV:
    PERL5LIB=""
    PERL5OPT=""
    PERL5_CPANPLUS_IS_RUNNING="11275"
    PERL5_CPAN_IS_RUNNING="11275"
    PERL_CANARY_STABILITY_NOPROMPT="1"
    PERL_MM_USE_DEFAULT="1"
    PERL_USE_UNSAFE_INC="1"
  @INC:
    /home/sand/src/perl/repoperls/installed-perls/host/k93msid/v5.25.7/a1a1/lib/site_perl/5.25.7/x86_64-linux-thread-multi-ld
    /home/sand/src/perl/repoperls/installed-perls/host/k93msid/v5.25.7/a1a1/lib/site_perl/5.25.7
    /home/sand/src/perl/repoperls/installed-perls/host/k93msid/v5.25.7/a1a1/lib/5.25.7/x86_64-linux-thread-multi-ld
    /home/sand/src/perl/repoperls/installed-perls/host/k93msid/v5.25.7/a1a1/lib/5.25.7
    .