Catmandu-Identifier v0.15 Perl 5 v5.30.1 x86_64-linux

Status
Pass
From
Slaven Rezić
Dist
Catmandu-Identifier v0.15
Platform
Perl 5 v5.30.1 x86_64-linux
Date
2022-06-23 02:27:03
ID
f7ab6bd8-f29b-11ec-9451-f6962cbfd570
This distribution has been tested as part of the CPAN Testers
project, supporting the Perl programming language.  See
http://wiki.cpantesters.org/ for more information or email
questions to cpan-testers-discuss@perl.org


--
Dear Vitali Peil,

This is a computer-generated report for Catmandu-Identifier-0.15
on perl 5.30.1, created by CPAN-Reporter-1.2018.

Thank you for uploading your work to CPAN.  Congratulations!
All tests were successful.

Sections of this report:

    * Tester comments
    * Program output
    * Prerequisites
    * Environment and other context

------------------------------
TESTER COMMENTS
------------------------------

Additional comments from tester:

none provided

------------------------------
PROGRAM OUTPUT
------------------------------

Output from './Build test':

t/author-pod-syntax.t .................. skipped: these tests are for testing by the author
t/fix-condition-is_archived_web_uri.t .. ok
t/fix-condition-is_http_uri.t .......... ok
t/fix-condition-is_https_uri.t ......... ok
t/fix-condition-is_live_orcid.t ........ ok
t/fix-condition-is_live_web_uri.t ...... ok
t/fix-condition-is_uri.t ............... ok
t/fix-condition-is_valid_isbn.t ........ ok
t/fix-condition-is_valid_issn.t ........ ok
t/fix-condition-is_valid_orcid.t ....... ok
t/fix-condition-is_web_uri.t ........... ok
t/fix-isbn10.t ......................... ok
t/fix-isbn13.t ......................... ok
t/fix-isbn_versions.t .................. ok
t/fix-issn.t ........................... ok
t/fix-memento_find.t ................... ok
t/fix-orcid_bio.t ...................... ok
t/fix-orcid_find.t ..................... ok
t/fix-orcid_profile.t .................. ok
t/fix-orcid_works.t .................... ok
t/fix-uri-status-code.t ................ ok
t/fix-uuid.t ........................... ok
All tests successful.
Files=22, Tests=127,  6 wallclock secs ( 0.13 usr  0.07 sys +  4.28 cusr  0.71 csys =  5.19 CPU)
Result: PASS

------------------------------
PREREQUISITES
------------------------------

Prerequisite modules loaded:

requires:

    Module               Need         Have        
    -------------------- ------------ ------------
    Business::ISBN       3.007        3.007       
    Business::ISBN::Data 20210112.006 20210112.006
    Business::ISSN       1.005        1.005       
    Catmandu             1.10         1.2018      
    Data::UUID::MT       1.001        1.001       
    Data::Validate::URI  0            0.07        
    JSON                 0            4.06        
    LWP::Simple          0            6.67        
    Module::Build::Tiny  0            0.039       
    Moo                  0            2.005004    
    perl                 v5.10.1      5.030001    
    Scalar::Util         0            1.62        
    WWW::ORCID           0.0402       0.0402      

build_requires:

    Module               Need         Have        
    -------------------- ------------ ------------
    HTTP::Response       0            6.36        
    Log::Any::Test       1.03         1.710       
    Test::Deep           0.112        1.130       
    Test::Exception      0.32         0.43        
    Test::LWP::UserAgent 0.033        0.036       
    Test::More           1.001003     1.302190    
    Test::Pod            0            1.52        

configure_requires:

    Module               Need         Have        
    -------------------- ------------ ------------
    Module::Build::Tiny  0.034        0.039       


------------------------------
ENVIRONMENT AND OTHER CONTEXT
------------------------------

Environment variables:

    LANG = en_US.UTF-8
    PATH = /usr/local/bin:/usr/bin:/bin:/usr/local/sbin:/usr/sbin:/sbin:/home/cpansand/bin/linux-gnu:/home/cpansand/bin/sh:/home/cpansand/bin:/usr/games:/home/cpansand/devel:/home/eserte/src/srezic-misc/scripts
    PERL5LIB = 
    PERL5OPT = 
    PERL5_CPANPLUS_IS_RUNNING = 881816
    PERL5_CPAN_IS_RUNNING = 881816
    PERL5_CPAN_IS_RUNNING_IN_RECURSION = 812140,881816
    PERLDOC = -MPod::Perldoc::ToTextOverstrike
    PERL_BATCH = yes
    PERL_CANARY_STABILITY_NOPROMPT = 1
    PERL_CPAN_REPORTER_CONFIG = /var/tmp/cpansmoker-1023/2022062218/cpanreporter_000_config.ini
    PERL_EXTUTILS_AUTOINSTALL = --defaultdeps
    PERL_USE_UNSAFE_INC = 1
    SHELL = /usr/bin/zsh
    TERM = screen
    TMPDIR = /var/tmp/cpansmoker-1023/2022062218

Perl special variables (and OS-specific diagnostics, for MSWin32):

    $^X = /opt/perl-5.30.1/bin/perl
    $UID/$EUID = 1023 / 1023
    $GID = 1023 1023
    $EGID = 1023 1023

Perl module toolchain versions installed:

    Module              Have    
    ------------------- --------
    CPAN                2.34    
    CPAN::Meta          2.150010
    Cwd                 3.78    
    ExtUtils::CBuilder  0.280236
    ExtUtils::Command   7.64    
    ExtUtils::Install   2.20    
    ExtUtils::MakeMaker 7.64    
    ExtUtils::Manifest  1.72    
    ExtUtils::ParseXS   3.40    
    File::Spec          3.78    
    JSON                4.06    
    JSON::PP            4.09    
    Module::Build       0.4229  
    Module::Signature   0.88    
    Parse::CPAN::Meta   2.150010
    Test::Harness       3.44    
    Test::More          1.302190
    YAML                1.30    
    YAML::Syck          1.34    
    version             0.9924  


--

Summary of my perl5 (revision 5 version 30 subversion 1) configuration:
   
  Platform:
    osname=linux
    osvers=5.0.16-100.fc28.x86_64
    archname=x86_64-linux
    uname='linux fedora-4gb-hel1-1 5.0.16-100.fc28.x86_64 #1 smp tue may 14 18:22:28 utc 2019 x86_64 x86_64 x86_64 gnulinux '
    config_args='-ds -e -Dprefix=/opt/perl-5.30.1 -Dcf_email=srezic@cpan.org'
    hint=recommended
    useposix=true
    d_sigaction=define
    useithreads=undef
    usemultiplicity=undef
    use64bitint=define
    use64bitall=define
    uselongdouble=undef
    usemymalloc=n
    default_inc_excludes_dot=define
    bincompat5005=undef
  Compiler:
    cc='cc'
    ccflags ='-fwrapv -fno-strict-aliasing -pipe -fstack-protector-strong -I/usr/local/include -D_LARGEFILE_SOURCE -D_FILE_OFFSET_BITS=64 -D_FORTIFY_SOURCE=2'
    optimize='-O2'
    cppflags='-fwrapv -fno-strict-aliasing -pipe -fstack-protector-strong -I/usr/local/include'
    ccversion=''
    gccversion='8.3.1 20190223 (Red Hat 8.3.1-2)'
    gccosandvers=''
    intsize=4
    longsize=8
    ptrsize=8
    doublesize=8
    byteorder=12345678
    doublekind=3
    d_longlong=define
    longlongsize=8
    d_longdbl=define
    longdblsize=16
    longdblkind=3
    ivtype='long'
    ivsize=8
    nvtype='double'
    nvsize=8
    Off_t='off_t'
    lseeksize=8
    alignbytes=8
    prototype=define
  Linker and Libraries:
    ld='cc'
    ldflags =' -fstack-protector-strong -L/usr/local/lib'
    libpth=/usr/local/lib /usr/lib /lib/../lib64 /usr/lib/../lib64 /lib /lib64 /usr/lib64 /usr/local/lib64
    libs=-lpthread -ldb -ldl -lm -lcrypt -lutil -lc
    perllibs=-lpthread -ldl -lm -lcrypt -lutil -lc
    libc=libc-2.27.so
    so=so
    useshrplib=false
    libperl=libperl.a
    gnulibc_version='2.27'
  Dynamic Linking:
    dlsrc=dl_dlopen.xs
    dlext=so
    d_dlsymun=undef
    ccdlflags='-Wl,-E'
    cccdlflags='-fPIC'
    lddlflags='-shared -O2 -L/usr/local/lib -fstack-protector-strong'


Characteristics of this binary (from libperl): 
  Compile-time options:
    HAS_TIMES
    PERLIO_LAYERS
    PERL_COPY_ON_WRITE
    PERL_DONT_CREATE_GVSV
    PERL_MALLOC_WRAP
    PERL_OP_PARENT
    PERL_PRESERVE_IVUV
    USE_64_BIT_ALL
    USE_64_BIT_INT
    USE_LARGE_FILES
    USE_LOCALE
    USE_LOCALE_COLLATE
    USE_LOCALE_CTYPE
    USE_LOCALE_NUMERIC
    USE_LOCALE_TIME
    USE_PERLIO
    USE_PERL_ATOF
  Built under linux
  Compiled at Nov 11 2019 21:35:28
  %ENV:
    PERL5LIB=""
    PERL5OPT=""
    PERL5_CPANPLUS_IS_RUNNING="881816"
    PERL5_CPAN_IS_RUNNING="881816"
    PERL5_CPAN_IS_RUNNING_IN_RECURSION="812140,881816"
    PERLDOC="-MPod::Perldoc::ToTextOverstrike"
    PERL_BATCH="yes"
    PERL_CANARY_STABILITY_NOPROMPT="1"
    PERL_CPAN_REPORTER_CONFIG="/var/tmp/cpansmoker-1023/2022062218/cpanreporter_000_config.ini"
    PERL_EXTUTILS_AUTOINSTALL="--defaultdeps"
    PERL_USE_UNSAFE_INC="1"
  @INC:
    /opt/perl-5.30.1/lib/site_perl/5.30.1/x86_64-linux
    /opt/perl-5.30.1/lib/site_perl/5.30.1
    /opt/perl-5.30.1/lib/5.30.1/x86_64-linux
    /opt/perl-5.30.1/lib/5.30.1
    .