ExtUtils-CChecker v0.12 Perl 5 v5.16.3 MSWin32-x64-multi-thread

Status
Pass
From
LNATION
Dist
ExtUtils-CChecker v0.12
Platform
Perl 5 v5.16.3 MSWin32-x64-multi-thread
Date
2025-05-16 09:26:01
ID
f7c2a48d-6c09-1014-91e6-ccb7fe82b76c
This distribution has been tested as part of the CPAN Testers
project, supporting the Perl programming language.  See
http://wiki.cpantesters.org/ for more information or email
questions to cpan-testers-discuss@perl.org


--
Dear Paul Evans,

This is a computer-generated report for ExtUtils-CChecker-0.12
on perl 5.16.3, created by CPAN-Reporter-1.2020.

Thank you for uploading your work to CPAN.  Congratulations!
All tests were successful.

Sections of this report:

    * Tester comments
    * Program output
    * Prerequisites
    * Environment and other context

------------------------------
TESTER COMMENTS
------------------------------

Additional comments from tester:

this report is from an automated smoke testing program
and was not reviewed by a human for accuracy

------------------------------
PROGRAM OUTPUT
------------------------------

Output from 'C:\strawberry\perl\bin\perl.exe ./Build test':

t\00use.t ........... ok
test-7388-1.c:1:9: error: expected '=', ',', ';', 'asm' or '__attribute__' before 'bar'
test-7388-1.c:1:9: error: unknown type name 'bar'
t\01run.t ........... ok
test-4680-1.c:1:9: error: expected '=', ',', ';', 'asm' or '__attribute__' before 'bar'
test-4680-1.c:1:9: error: unknown type name 'bar'
t\02assert.t ........ ok
t\03accessors.t ..... ok
t\04module_build.t .. ok
t\05defines_to.t .... ok
test-3876-0.c: In function 'main':
test-3876-0.c:1:33: error: ISO C90 forbids specifying subobject to initialize [-pedantic]
t\10find_cflags.t ... ok
t\99pod.t ........... skipped: Test::Pod 1.00 required for testing POD
All tests successful.
Files=8, Tests=31, 12 wallclock secs ( 0.11 usr +  0.03 sys =  0.14 CPU)
Result: PASS

------------------------------
PREREQUISITES
------------------------------

Prerequisite modules loaded:

requires:

    Module             Need   Have    
    ------------------ ------ --------
    ExtUtils::CBuilder 0      0.280206
    perl               5.014  5.016003

build_requires:

    Module             Need   Have    
    ------------------ ------ --------
    Test2::V0          0      1.302211

configure_requires:

    Module             Need   Have    
    ------------------ ------ --------
    Module::Build      0.4004 0.4234  


------------------------------
ENVIRONMENT AND OTHER CONTEXT
------------------------------

Environment variables:

    AUTOMATED_TESTING = 1
    COMSPEC = C:\Windows\system32\cmd.exe
    NUMBER_OF_PROCESSORS = 2
    PATH = C:\Windows\system32;C:\Windows;C:\Windows\System32\Wbem;C:\Windows\System32\WindowsPowerShell\v1.0\;C:\Windows\System32\OpenSSH\;C:\Program Files\Amazon\cfn-bootstrap\;C:\strawberry\c\bin;C:\strawberry\perl\site\bin;C:\strawberry\perl\bin;C:\Users\Administrator\AppData\Local\Microsoft\WindowsApps;C:\Users\Administrator\AppData\Local\Microsoft\WinGet\Links;
    PERL5LIB = C:\strawberry\cpan\build\Module-Build-0.4234-mrIiTj/blib/arch;C:\strawberry\cpan\build\Module-Build-0.4234-mrIiTj/blib/lib;C:\strawberry\cpan\build\Module-Build-Tiny-0.052-0EvgW_/blib/arch;C:\strawberry\cpan\build\Module-Build-Tiny-0.052-0EvgW_/blib/lib;C:\strawberry\cpan\build\ExtUtils-InstallPaths-0.014-4NTUYG/blib/arch;C:\strawberry\cpan\build\ExtUtils-InstallPaths-0.014-4NTUYG/blib/lib;C:\strawberry\cpan\build\ExtUtils-Config-0.010-H4UbA5/blib/arch;C:\strawberry\cpan\build\ExtUtils-Config-0.010-H4UbA5/blib/lib;C:\strawberry\cpan\build\ExtUtils-Helpers-0.028-o6D37M/blib/arch;C:\strawberry\cpan\build\ExtUtils-Helpers-0.028-o6D37M/blib/lib;C:\strawberry\cpan\build\ExtUtils-PL2Bat-0.005-S_iL6d/blib/arch;C:\strawberry\cpan\build\ExtUtils-PL2Bat-0.005-S_iL6d/blib/lib;C:\strawberry\cpan\build\Test-Harness-3.52-WzX02j/blib/arch;C:\strawberry\cpan\build\Test-Harness-3.52-WzX02j/blib/lib
    PERL5OPT = 
    PERL5_CPANPLUS_IS_RUNNING = 2784
    PERL5_CPAN_IS_RUNNING = 2784
    PERL5_CPAN_IS_RUNNING_IN_RECURSION = 2672,2784
    PERL_CR_SMOKER_CURRENT = Mojolicious-Plugin-OpenTelemetry-0.005
    PERL_EXTUTILS_AUTOINSTALL = --defaultdeps
    PERL_MM_USE_DEFAULT = 1
    PROCESSOR_IDENTIFIER = Intel64 Family 6 Model 85 Stepping 7, GenuineIntel
    TEMP = C:\Users\ADMINI~1\AppData\Local\Temp\2
    TERM = dumb

Perl special variables (and OS-specific diagnostics, for MSWin32):

    $^X = C:\strawberry\perl\bin\perl.exe
    $UID/$EUID = 0 / 0
    $GID = 0
    $EGID = 0
    Win32::GetOSName = Win2012
    Win32::GetOSVersion = , 6, 2, 9200, 2, 0, 0, 400, 3
    Win32::FsType = NTFS
    Win32::IsAdminUser = 1

Perl module toolchain versions installed:

    Module              Have    
    ------------------- --------
    CPAN                1.9800  
    CPAN::Meta          2.143240
    Cwd                 3.40    
    ExtUtils::CBuilder  0.280206
    ExtUtils::Command   7.74    
    ExtUtils::Install   2.06    
    ExtUtils::MakeMaker 7.74    
    ExtUtils::Manifest  1.70    
    ExtUtils::ParseXS   3.18    
    File::Spec          3.40    
    JSON                2.53    
    JSON::PP            4.16    
    Module::Build       0.4234  
    Module::Signature   n/a     
    Parse::CPAN::Meta   1.4414  
    Test2               1.302211
    Test::Harness       3.52    
    Test::More          1.302211
    YAML                0.84    
    YAML::Syck          1.23    
    version             0.9902  


--

Summary of my perl5 (revision 5 version 16 subversion 3) configuration:
   
  Platform:
    osname=MSWin32, osvers=4.0, archname=MSWin32-x64-multi-thread
    uname='Win32 strawberry-perl 5.16.3.1 #1 Tue Mar 12 12:12:07 2013 x64'
    config_args='undef'
    hint=recommended, useposix=true, d_sigaction=undef
    useithreads=define, usemultiplicity=define
    useperlio=define, d_sfio=undef, uselargefiles=define, usesocks=undef
    use64bitint=define, use64bitall=undef, uselongdouble=undef
    usemymalloc=n, bincompat5005=undef
  Compiler:
    cc='gcc', ccflags =' -s -O2 -DWIN32 -DWIN64 -DCONSERVATIVE  -DPERL_TEXTMODE_SCRIPTS -DPERL_IMPLICIT_CONTEXT -DPERL_IMPLICIT_SYS -fno-strict-aliasing -mms-bitfields',
    optimize='-s -O2',
    cppflags='-DWIN32'
    ccversion='', gccversion='4.6.3', gccosandvers=''
    intsize=4, longsize=4, ptrsize=8, doublesize=8, byteorder=12345678
    d_longlong=define, longlongsize=8, d_longdbl=define, longdblsize=12
    ivtype='long long', ivsize=8, nvtype='double', nvsize=8, Off_t='long long', lseeksize=8
    alignbytes=8, prototype=define
  Linker and Libraries:
    ld='g++', ldflags ='-s -L"C:\strawberry\perl\lib\CORE" -L"C:\strawberry\c\lib"'
    libpth=C:\strawberry\c\lib C:\strawberry\c\x86_64-w64-mingw32\lib
    libs=-lmoldname -lkernel32 -luser32 -lgdi32 -lwinspool -lcomdlg32 -ladvapi32 -lshell32 -lole32 -loleaut32 -lnetapi32 -luuid -lws2_32 -lmpr -lwinmm -lversion -lodbc32 -lodbccp32 -lcomctl32
    perllibs=-lmoldname -lkernel32 -luser32 -lgdi32 -lwinspool -lcomdlg32 -ladvapi32 -lshell32 -lole32 -loleaut32 -lnetapi32 -luuid -lws2_32 -lmpr -lwinmm -lversion -lodbc32 -lodbccp32 -lcomctl32
    libc=, so=dll, useshrplib=true, libperl=libperl516.a
    gnulibc_version=''
  Dynamic Linking:
    dlsrc=dl_win32.xs, dlext=dll, d_dlsymun=undef, ccdlflags=' '
    cccdlflags=' ', lddlflags='-mdll -s -L"C:\strawberry\perl\lib\CORE" -L"C:\strawberry\c\lib"'


Characteristics of this binary (from libperl): 
  Compile-time options: HAS_TIMES HAVE_INTERP_INTERN MULTIPLICITY
                        PERLIO_LAYERS PERL_DONT_CREATE_GVSV
                        PERL_IMPLICIT_CONTEXT PERL_IMPLICIT_SYS
                        PERL_MALLOC_WRAP PERL_PRESERVE_IVUV PL_OP_SLAB_ALLOC
                        USE_64_BIT_INT USE_ITHREADS USE_LARGE_FILES
                        USE_LOCALE USE_LOCALE_COLLATE USE_LOCALE_CTYPE
                        USE_LOCALE_NUMERIC USE_PERLIO USE_PERL_ATOF
  Built under MSWin32
  Compiled at Mar 12 2013 12:16:40
  %ENV:
    PERL5LIB="C:\strawberry\cpan\build\Module-Build-0.4234-mrIiTj/blib/arch;C:\strawberry\cpan\build\Module-Build-0.4234-mrIiTj/blib/lib;C:\strawberry\cpan\build\Module-Build-Tiny-0.052-0EvgW_/blib/arch;C:\strawberry\cpan\build\Module-Build-Tiny-0.052-0EvgW_/blib/lib;C:\strawberry\cpan\build\ExtUtils-InstallPaths-0.014-4NTUYG/blib/arch;C:\strawberry\cpan\build\ExtUtils-InstallPaths-0.014-4NTUYG/blib/lib;C:\strawberry\cpan\build\ExtUtils-Config-0.010-H4UbA5/blib/arch;C:\strawberry\cpan\build\ExtUtils-Config-0.010-H4UbA5/blib/lib;C:\strawberry\cpan\build\ExtUtils-Helpers-0.028-o6D37M/blib/arch;C:\strawberry\cpan\build\ExtUtils-Helpers-0.028-o6D37M/blib/lib;C:\strawberry\cpan\build\ExtUtils-PL2Bat-0.005-S_iL6d/blib/arch;C:\strawberry\cpan\build\ExtUtils-PL2Bat-0.005-S_iL6d/blib/lib;C:\strawberry\cpan\build\Test-Harness-3.52-WzX02j/blib/arch;C:\strawberry\cpan\build\Test-Harness-3.52-WzX02j/blib/lib"
    PERL5_CPANPLUS_IS_RUNNING="2784"
    PERL5_CPAN_IS_RUNNING="2784"
    PERL5_CPAN_IS_RUNNING_IN_RECURSION="2672,2784"
    PERL_CR_SMOKER_CURRENT="Mojolicious-Plugin-OpenTelemetry-0.005"
    PERL_EXTUTILS_AUTOINSTALL="--defaultdeps"
    PERL_MM_USE_DEFAULT="1"
  @INC:
    C:\strawberry\cpan\build\Module-Build-0.4234-mrIiTj/blib/arch
    C:\strawberry\cpan\build\Module-Build-0.4234-mrIiTj/blib/lib
    C:\strawberry\cpan\build\Module-Build-Tiny-0.052-0EvgW_/blib/arch
    C:\strawberry\cpan\build\Module-Build-Tiny-0.052-0EvgW_/blib/lib
    C:\strawberry\cpan\build\ExtUtils-InstallPaths-0.014-4NTUYG/blib/arch
    C:\strawberry\cpan\build\ExtUtils-InstallPaths-0.014-4NTUYG/blib/lib
    C:\strawberry\cpan\build\ExtUtils-Config-0.010-H4UbA5/blib/arch
    C:\strawberry\cpan\build\ExtUtils-Config-0.010-H4UbA5/blib/lib
    C:\strawberry\cpan\build\ExtUtils-Helpers-0.028-o6D37M/blib/arch
    C:\strawberry\cpan\build\ExtUtils-Helpers-0.028-o6D37M/blib/lib
    C:\strawberry\cpan\build\ExtUtils-PL2Bat-0.005-S_iL6d/blib/arch
    C:\strawberry\cpan\build\ExtUtils-PL2Bat-0.005-S_iL6d/blib/lib
    C:\strawberry\cpan\build\Test-Harness-3.52-WzX02j/blib/arch
    C:\strawberry\cpan\build\Test-Harness-3.52-WzX02j/blib/lib
    C:/strawberry/perl/site/lib
    C:/strawberry/perl/vendor/lib
    C:/strawberry/perl/lib
    .