Report for Crypt-DSA-GMP-0.02

Back
From: metabase:user:cba5269c-6e58-1014-92a6-0387276d408b
Subject: PASS Crypt-DSA-GMP-0.02 v5.16.3 
Date: 2013-10-09T08:15:33Z

This distribution has been tested as part of the CPAN Testers
project, supporting the Perl programming language.  See
http://wiki.cpantesters.org/ for more information or email
questions to cpan-testers-discuss@perl.org


--
Dear Dana Jacobsen,

This is a computer-generated report for Crypt-DSA-GMP-0.02
on perl 5.16.3, created by CPAN-Reporter-1.2010.

Thank you for uploading your work to CPAN.  Congratulations!
All tests were successful.

Sections of this report:

    * Tester comments
    * Program output
    * Prerequisites
    * Environment and other context

------------------------------
TESTER COMMENTS
------------------------------

Additional comments from tester:

this report is from an automated smoke testing program
and was not reviewed by a human for accuracy

------------------------------
PROGRAM OUTPUT
------------------------------

Output from 'C:\strawberry\c\bin\dmake.exe test':

C:\strawberry\perl\bin\perl.exe "-MExtUtils::Command::MM" "-e" "test_harness(0, 'blib\lib', 'blib\arch')" t/*.t
t/01-load.t .................. ok
t/02-util.t .................. ok
t/10-sign.t .................. ok
t/11-keygen.t ................ ok
t/20-fips.t .................. ok
t/21-fips-186-4.t ............ ok
t/30-pem.t ................... ok
t/31-openid.t ................ ok
t/32-pem-large.t ............. ok
t/33-ssh2.t .................. ok
t/40-interop-openssl.t ....... skipped: tests tests are for release candidate testing
t/41-interop-cryptdsa.t ...... skipped: tests tests are for release candidate testing
t/42-interop-cryptx.t ........ skipped: tests tests are for release candidate testing
t/90-release-perlcritic.t .... skipped: these tests are for release candidate testing
t/91-release-pod-syntax.t .... skipped: these tests are for release candidate testing
t/92-release-pod-coverage.t .. skipped: these tests are for release candidate testing
t/93-release-kwalitee.t ...... skipped: these tests are for release candidate testing
t/94-release-manifest.t ...... skipped: these tests are for release candidate testing
t/95-release-spelling.t ...... skipped: these tests are for release candidate testing
All tests successful.
Files=19, Tests=145,  5 wallclock secs ( 0.09 usr +  0.05 sys =  0.14 CPU)
Result: PASS

------------------------------
PREREQUISITES
------------------------------

Prerequisite modules loaded:

requires:

    Module                 Need     Have    
    ---------------------- -------- --------
    base                   0        2.18    
    Carp                   0        1.26    
    Crypt::Random::Seed    0        0.03    
    Data::Buffer           0.04     0.04    
    Digest::SHA            5.22     5.84    
    Exporter               5.562    5.67    
    Math::BigInt           1.78     1.998   
    Math::BigInt::GMP      0        1.37    
    Math::Prime::Util::GMP 0.15     0.15    
    MIME::Base64           0        3.13    
    perl                   5.006002 5.016003

build_requires:

    Module                 Need     Have    
    ---------------------- -------- --------
    Test::More             0.45     0.98    


------------------------------
ENVIRONMENT AND OTHER CONTEXT
------------------------------

Environment variables:

    AUTOMATED_TESTING = 1
    COMSPEC = C:\Windows\system32\cmd.exe
    NUMBER_OF_PROCESSORS = 2
    PATH = C:\Windows\system32;C:\Windows;C:\Windows\System32\Wbem;C:\Windows\System32\WindowsPowerShell\v1.0\;C:\Program Files\Microsoft SQL Server\110\Tools\Binn\;C:\Program Files\Microsoft\Web Platform Installer\;C:\strawberry\c\bin;C:\strawberry\perl\site\bin;C:\strawberry\perl\bin;C:\usr\bin
    PERL5LIB = C:\strawberry\cpan\build\Math-Prime-Util-GMP-0.15-SEOz13/blib/arch;C:\strawberry\cpan\build\Math-Prime-Util-GMP-0.15-SEOz13/blib/lib;C:\strawberry\cpan\build\Crypt-Random-Seed-0.03-cWGCr2/blib/arch;C:\strawberry\cpan\build\Crypt-Random-Seed-0.03-cWGCr2/blib/lib;C:\strawberry\cpan\build\Crypt-Random-TESHA2-0.01-HPotVg/blib/arch;C:\strawberry\cpan\build\Crypt-Random-TESHA2-0.01-HPotVg/blib/lib
    PERL5OPT = 
    PERL5_CPANPLUS_IS_RUNNING = 972
    PERL5_CPAN_IS_RUNNING = 972
    PERL5_CPAN_IS_RUNNING_IN_RECURSION = 812,972
    PERL_CR_SMOKER_CURRENT = Crypt-DSA-GMP-0.02
    PERL_EXTUTILS_AUTOINSTALL = --defaultdeps
    PERL_MM_USE_DEFAULT = 1
    PROCESSOR_IDENTIFIER = Intel64 Family 6 Model 42 Stepping 1, GenuineIntel
    TEMP = C:\Users\wose\AppData\Local\Temp
    TERM = dumb

Perl special variables (and OS-specific diagnostics, for MSWin32):

    $^X = C:\strawberry\perl\bin\perl.exe
    $UID/$EUID = 0 / 0
    $GID = 0
    $EGID = 0
    Win32::GetOSName = Win8
    Win32::GetOSVersion = , 6, 2, 9200, 2, 0, 0, 256, 1
    Win32::FsType = NTFS
    Win32::IsAdminUser = 0

Perl module toolchain versions installed:

    Module              Have    
    ------------------- --------
    CPAN                1.9800  
    CPAN::Meta          2.120921
    Cwd                 3.40    
    ExtUtils::CBuilder  0.280206
    ExtUtils::Command   1.17    
    ExtUtils::Install   1.58    
    ExtUtils::MakeMaker 6.64    
    ExtUtils::Manifest  1.61    
    ExtUtils::ParseXS   3.18    
    File::Spec          3.40    
    JSON                2.53    
    JSON::PP            2.27200 
    Module::Build       0.4004  
    Module::Signature   0.70    
    Parse::CPAN::Meta   1.4404  
    Test::Harness       3.26    
    Test::More          0.98    
    YAML                0.84    
    YAML::Syck          1.25    
    version             0.9902  


--

Summary of my perl5 (revision 5 version 16 subversion 3) configuration:
   
  Platform:
    osname=MSWin32, osvers=4.0, archname=MSWin32-x86-multi-thread
    uname='Win32 strawberry-perl 5.16.3.1 #1 Tue Mar 12 13:55:20 2013 i386'
    config_args='undef'
    hint=recommended, useposix=true, d_sigaction=undef
    useithreads=define, usemultiplicity=define
    useperlio=define, d_sfio=undef, uselargefiles=define, usesocks=undef
    use64bitint=undef, use64bitall=undef, uselongdouble=undef
    usemymalloc=n, bincompat5005=undef
  Compiler:
    cc='gcc', ccflags =' -s -O2 -DWIN32  -DPERL_TEXTMODE_SCRIPTS -DPERL_IMPLICIT_CONTEXT -DPERL_IMPLICIT_SYS -fno-strict-aliasing -mms-bitfields',
    optimize='-s -O2',
    cppflags='-DWIN32'
    ccversion='', gccversion='4.6.3', gccosandvers=''
    intsize=4, longsize=4, ptrsize=4, doublesize=8, byteorder=1234
    d_longlong=undef, longlongsize=8, d_longdbl=define, longdblsize=12
    ivtype='long', ivsize=4, nvtype='double', nvsize=8, Off_t='long long', lseeksize=8
    alignbytes=8, prototype=define
  Linker and Libraries:
    ld='g++', ldflags ='-s -L"C:\strawberry\perl\lib\CORE" -L"C:\strawberry\c\lib"'
    libpth=C:\strawberry\c\lib C:\strawberry\c\i686-w64-mingw32\lib
    libs=-lmoldname -lkernel32 -luser32 -lgdi32 -lwinspool -lcomdlg32 -ladvapi32 -lshell32 -lole32 -loleaut32 -lnetapi32 -luuid -lws2_32 -lmpr -lwinmm -lversion -lodbc32 -lodbccp32 -lcomctl32
    perllibs=-lmoldname -lkernel32 -luser32 -lgdi32 -lwinspool -lcomdlg32 -ladvapi32 -lshell32 -lole32 -loleaut32 -lnetapi32 -luuid -lws2_32 -lmpr -lwinmm -lversion -lodbc32 -lodbccp32 -lcomctl32
    libc=, so=dll, useshrplib=true, libperl=libperl516.a
    gnulibc_version=''
  Dynamic Linking:
    dlsrc=dl_win32.xs, dlext=dll, d_dlsymun=undef, ccdlflags=' '
    cccdlflags=' ', lddlflags='-mdll -s -L"C:\strawberry\perl\lib\CORE" -L"C:\strawberry\c\lib"'


Characteristics of this binary (from libperl): 
  Compile-time options: HAS_TIMES HAVE_INTERP_INTERN MULTIPLICITY
                        PERLIO_LAYERS PERL_DONT_CREATE_GVSV
                        PERL_IMPLICIT_CONTEXT PERL_IMPLICIT_SYS
                        PERL_MALLOC_WRAP PERL_PRESERVE_IVUV PL_OP_SLAB_ALLOC
                        USE_ITHREADS USE_LARGE_FILES USE_LOCALE
                        USE_LOCALE_COLLATE USE_LOCALE_CTYPE
                        USE_LOCALE_NUMERIC USE_PERLIO USE_PERL_ATOF
  Built under MSWin32
  Compiled at Mar 12 2013 14:01:07
  %ENV:
    PERL5LIB="C:\strawberry\cpan\build\Math-Prime-Util-GMP-0.15-SEOz13/blib/arch;C:\strawberry\cpan\build\Math-Prime-Util-GMP-0.15-SEOz13/blib/lib;C:\strawberry\cpan\build\Crypt-Random-Seed-0.03-cWGCr2/blib/arch;C:\strawberry\cpan\build\Crypt-Random-Seed-0.03-cWGCr2/blib/lib;C:\strawberry\cpan\build\Crypt-Random-TESHA2-0.01-HPotVg/blib/arch;C:\strawberry\cpan\build\Crypt-Random-TESHA2-0.01-HPotVg/blib/lib"
    PERL5_CPANPLUS_IS_RUNNING="972"
    PERL5_CPAN_IS_RUNNING="972"
    PERL5_CPAN_IS_RUNNING_IN_RECURSION="812,972"
    PERL_CR_SMOKER_CURRENT="Crypt-DSA-GMP-0.02"
    PERL_EXTUTILS_AUTOINSTALL="--defaultdeps"
    PERL_MM_USE_DEFAULT="1"
  @INC:
    C:\strawberry\cpan\build\Math-Prime-Util-GMP-0.15-SEOz13/blib/arch
    C:\strawberry\cpan\build\Math-Prime-Util-GMP-0.15-SEOz13/blib/lib
    C:\strawberry\cpan\build\Crypt-Random-Seed-0.03-cWGCr2/blib/arch
    C:\strawberry\cpan\build\Crypt-Random-Seed-0.03-cWGCr2/blib/lib
    C:\strawberry\cpan\build\Crypt-Random-TESHA2-0.01-HPotVg/blib/arch
    C:\strawberry\cpan\build\Crypt-Random-TESHA2-0.01-HPotVg/blib/lib
    C:/strawberry/perl/site/lib
    C:/strawberry/perl/vendor/lib
    C:/strawberry/perl/lib
    .