Back
From: metabase:user:e3434da8-b236-11df-85ca-0247c6d74bde
Subject: PASS Data-Monad-CondVar-0.02 v5.15.2 GNU/Linux
Date: 2011-10-23T20:31:21Z
This distribution has been tested as part of the CPAN Testers
project, supporting the Perl programming language. See
http://wiki.cpantesters.org/ for more information or email
questions to cpan-testers-discuss@perl.org
--
Dear Masahiro Honma,
This is a computer-generated report for Data-Monad-CondVar-0.02
on perl 5.15.2, created by CPAN-Reporter-1.2002.
Thank you for uploading your work to CPAN. Congratulations!
All tests were successful.
Sections of this report:
* Tester comments
* Program output
* Prerequisites
* Environment and other context
------------------------------
TESTER COMMENTS
------------------------------
Additional comments from tester:
this report is from an automated smoke testing program
and was not reviewed by a human for accuracy
------------------------------
PROGRAM OUTPUT
------------------------------
Output from '/usr/bin/make test':
PERL_DL_NONLAZY=1 /home/perl5152/testing/bin/perl5.15.2 "-MExtUtils::Command::MM" "-e" "test_harness(0, 'inc', 'blib/lib', 'blib/arch')" t/*.t t/*/*.t
t/00_compile.t .............. ok
t/condvar/all.t ............. ok
t/condvar/any.t ............. ok
t/condvar/ap.t .............. ok
t/condvar/basic.t ........... ok
t/condvar/call_cc-error.t ... ok
t/condvar/call_cc.t ......... ok
t/condvar/cancel.t .......... ok
t/condvar/catch.t ........... ok
t/condvar/errors.t .......... ok
t/condvar/fail.t ............ ok
t/condvar/filter.t .......... ok
t/condvar/flat_map-error.t .. ok
t/condvar/flat_map.t ........ ok
t/condvar/flatten.t ......... ok
t/condvar/for.t ............. ok
t/condvar/isa_uniqueness.t .. ok
t/condvar/map.t ............. ok
t/condvar/map_multi.t ....... ok
t/condvar/memory_leaks.t .... skipped: Test requires module 'Test::LeakTrace' but it's not found
t/condvar/or.t .............. ok
t/condvar/retry.t ........... ok
t/condvar/sequence.t ........ ok
t/condvar/sleep.t ........... ok
t/condvar/timeout.t ......... ok
t/condvar/unit.t ............ ok
t/condvar/while.t ........... ok
All tests successful.
Files=27, Tests=73, 9 wallclock secs ( 0.11 usr 0.04 sys + 1.22 cusr 0.29 csys = 1.66 CPU)
Result: PASS
------------------------------
PREREQUISITES
------------------------------
Prerequisite modules loaded:
requires:
Module Need Have
------------------- ---- -----
AnyEvent 0 6.1
Data::Monad 0 0.02
parent 0 0.225
build_requires:
Module Need Have
------------------- ---- -----
ExtUtils::MakeMaker 6.42 6.59
Test::More 0.94 0.98
Test::Requires 0 0.06
configure_requires:
Module Need Have
------------------- ---- -----
ExtUtils::MakeMaker 6.42 6.59
------------------------------
ENVIRONMENT AND OTHER CONTEXT
------------------------------
Environment variables:
AUTOMATED_TESTING = 1
LANG = en_GB.utf8
LC_COLLATE = C
LC_MONETARY = nl_NL.utf8
PATH = /home/tester/perl5/perlbrew/bin:/home/tester/perl5/perlbrew/perls/perl-5.15.2/bin:/usr/lib64/qt-3.3/bin:/usr/lib64/ccache:/usr/local/bin:/bin:/usr/bin:/usr/local/sbin:/usr/sbin:/sbin:/home/tester/bin:/home/tester/bin
PATH_WITHOUT_PERLBREW = /usr/lib64/qt-3.3/bin:/usr/lib64/ccache:/usr/local/bin:/bin:/usr/bin:/usr/local/sbin:/usr/sbin:/sbin:/home/tester/bin
PERL5LIB = /home/perl5152/.cpan/build/Data-Monad-0.02-C4AIvy/blib/arch:/home/perl5152/.cpan/build/Data-Monad-0.02-C4AIvy/blib/lib:/home/perl5152/.cpan/build/AnyEvent-6.1-KcyRPQ/blib/arch:/home/perl5152/.cpan/build/AnyEvent-6.1-KcyRPQ/blib/lib
PERL5OPT =
PERL5_CPANPLUS_IS_RUNNING = 14905
PERL5_CPAN_IS_RUNNING = 14905
PERL5_CPAN_IS_RUNNING_IN_RECURSION = 6308,14905
PERLBREW_PATH = /home/tester/perl5/perlbrew/bin:/home/tester/perl5/perlbrew/perls/perl-5.15.2/bin
PERLBREW_PERL = perl-5.15.2
PERLBREW_ROOT = /home/tester/perl5/perlbrew
PERLBREW_VERSION = 0.15
PERL_CR_SMOKER_CURRENT = Data-Monad-CondVar-0.02
PERL_EXTUTILS_AUTOINSTALL = --defaultdeps
PERL_MM_USE_DEFAULT = 1
SHELL = /bin/bash
TERM = screen
Perl special variables (and OS-specific diagnostics, for MSWin32):
$^X = /home/perl5152/testing/bin/perl5.15.2
$UID/$EUID = 512 / 512
$GID = 512 512
$EGID = 512 512
Perl module toolchain versions installed:
Module Have
------------------- --------
CPAN 1.9800
CPAN::Meta 2.112150
Cwd 3.37
ExtUtils::CBuilder 0.280204
ExtUtils::Command 1.17
ExtUtils::Install 1.57
ExtUtils::MakeMaker 6.59
ExtUtils::Manifest 1.60
ExtUtils::ParseXS 3.03_01
File::Spec 3.34
JSON 2.53
JSON::PP 2.27200
Module::Build 0.39_01
Module::Signature n/a
Parse::CPAN::Meta 1.4401
Test::Harness 3.23
Test::More 0.98
YAML n/a
YAML::Syck n/a
version 0.94
--
Summary of my perl5 (revision 5 version 15 subversion 2) configuration:
Platform:
osname=linux, osvers=2.6.38.8-35.fc15.x86_64, archname=x86_64-linux-thread-multi
uname='linux firenze.fritz.box 2.6.38.8-35.fc15.x86_64 #1 smp wed jul 6 13:58:54 utc 2011 x86_64 x86_64 x86_64 gnulinux '
config_args='-des -Dprefix=/home/perl5152/testing/ -Dusethreads -Dusedevel'
hint=recommended, useposix=true, d_sigaction=define
useithreads=define, usemultiplicity=define
useperlio=define, d_sfio=undef, uselargefiles=define, usesocks=undef
use64bitint=define, use64bitall=define, uselongdouble=undef
usemymalloc=n, bincompat5005=undef
Compiler:
cc='cc', ccflags ='-D_REENTRANT -D_GNU_SOURCE -fno-strict-aliasing -pipe -fstack-protector -I/usr/local/include -D_LARGEFILE_SOURCE -D_FILE_OFFSET_BITS=64',
optimize='-O2',
cppflags='-D_REENTRANT -D_GNU_SOURCE -fno-strict-aliasing -pipe -fstack-protector -I/usr/local/include'
ccversion='', gccversion='4.6.0 20110530 (Red Hat 4.6.0-9)', gccosandvers=''
intsize=4, longsize=8, ptrsize=8, doublesize=8, byteorder=12345678
d_longlong=define, longlongsize=8, d_longdbl=define, longdblsize=16
ivtype='long', ivsize=8, nvtype='double', nvsize=8, Off_t='off_t', lseeksize=8
alignbytes=8, prototype=define
Linker and Libraries:
ld='cc', ldflags =' -fstack-protector -L/usr/local/lib'
libpth=/usr/local/lib /lib/../lib64 /usr/lib/../lib64 /lib /usr/lib /lib64 /usr/lib64 /usr/local/lib64
libs=-lnsl -lgdbm -ldb -ldl -lm -lcrypt -lutil -lpthread -lc -lgdbm_compat
perllibs=-lnsl -ldl -lm -lcrypt -lutil -lpthread -lc
libc=, so=so, useshrplib=false, libperl=libperl.a
gnulibc_version='2.14'
Dynamic Linking:
dlsrc=dl_dlopen.xs, dlext=so, d_dlsymun=undef, ccdlflags='-Wl,-E'
cccdlflags='-fPIC', lddlflags='-shared -O2 -L/usr/local/lib -fstack-protector'
Characteristics of this binary (from libperl):
Compile-time options: HAS_TIMES MULTIPLICITY PERLIO_LAYERS
PERL_DONT_CREATE_GVSV PERL_IMPLICIT_CONTEXT
PERL_MALLOC_WRAP PERL_PRESERVE_IVUV PERL_USE_DEVEL
USE_64_BIT_ALL USE_64_BIT_INT USE_ITHREADS
USE_LARGE_FILES USE_LOCALE USE_LOCALE_COLLATE
USE_LOCALE_CTYPE USE_LOCALE_NUMERIC USE_PERLIO
USE_PERL_ATOF USE_REENTRANT_API
Built under linux
Compiled at Aug 21 2011 23:35:28
%ENV:
PERL5LIB="/home/perl5152/.cpan/build/Data-Monad-0.02-C4AIvy/blib/arch:/home/perl5152/.cpan/build/Data-Monad-0.02-C4AIvy/blib/lib:/home/perl5152/.cpan/build/AnyEvent-6.1-KcyRPQ/blib/arch:/home/perl5152/.cpan/build/AnyEvent-6.1-KcyRPQ/blib/lib"
PERL5OPT=""
PERL5_CPANPLUS_IS_RUNNING="14905"
PERL5_CPAN_IS_RUNNING="14905"
PERL5_CPAN_IS_RUNNING_IN_RECURSION="6308,14905"
PERLBREW_PATH="/home/tester/perl5/perlbrew/bin:/home/tester/perl5/perlbrew/perls/perl-5.15.2/bin"
PERLBREW_PERL="perl-5.15.2"
PERLBREW_ROOT="/home/tester/perl5/perlbrew"
PERLBREW_VERSION="0.15"
PERL_CR_SMOKER_CURRENT="Data-Monad-CondVar-0.02"
PERL_EXTUTILS_AUTOINSTALL="--defaultdeps"
PERL_MM_USE_DEFAULT="1"
@INC:
/home/perl5152/.cpan/build/Data-Monad-0.02-C4AIvy/blib/arch
/home/perl5152/.cpan/build/Data-Monad-0.02-C4AIvy/blib/lib
/home/perl5152/.cpan/build/AnyEvent-6.1-KcyRPQ/blib/arch
/home/perl5152/.cpan/build/AnyEvent-6.1-KcyRPQ/blib/lib
/home/perl5152/testing/lib/site_perl/5.15.2/x86_64-linux-thread-multi
/home/perl5152/testing/lib/site_perl/5.15.2
/home/perl5152/testing/lib/5.15.2/x86_64-linux-thread-multi
/home/perl5152/testing/lib/5.15.2
.