Report for Dist-Zilla-Util-Git-Wrapper-0.003000

Back
From: metabase:user:320bfe00-2aae-11df-837a-5e0a49663a4f
Subject: PASS Dist-Zilla-Util-Git-Wrapper-0.003000 v5.21.1 GNU/Linux
Date: 2014-08-02T06:33:52Z

This distribution has been tested as part of the CPAN Testers
project, supporting the Perl programming language.  See
http://wiki.cpantesters.org/ for more information or email
questions to cpan-testers-discuss@perl.org


--
Dear Kent Fredric,

This is a computer-generated report for Dist-Zilla-Util-Git-Wrapper-0.003000
on perl 5.21.1, created by CPAN-Reporter-1.2011.

Thank you for uploading your work to CPAN.  Congratulations!
All tests were successful.

Sections of this report:

    * Tester comments
    * Program output
    * Prerequisites
    * Environment and other context

------------------------------
TESTER COMMENTS
------------------------------

Additional comments from tester:

this report is from an automated smoke testing program
and was not reviewed by a human for accuracy

------------------------------
PROGRAM OUTPUT
------------------------------

Output from './Build test':

t/00-compile/lib_Dist_Zilla_UtilRole_MaybeGit_pm.t .. ok
t/00-compile/lib_Dist_Zilla_Util_Git_Wrapper_pm.t ... ok
# Git Version: 2.0.0
t/00-report-git-version.t ........................... ok
# 

# Generated by Dist::Zilla::Plugin::ReportVersions::Tiny v1.10
# perl: 5.021001 (wanted 5.008) on linux from /home/sand/src/perl/repoperls/installed-perls/perl/v5.21.1/165a/bin/perl
# 
# Dist::Zilla::UtilRole::MaybeZilla             => 0.001000   (want any version)
# Git::Wrapper                                  => 0.035      (want any version)
# Log::Contextual::LogDispatchouli              => 0.001000   (want any version)
# Log::Dispatchouli                             => 2.010      (want any version)
# Module::Build                                 => 0.4206     (want 0.4203) 
# Moose                                         => 2.1210     (want any version)
# Moose::Role                                   => 2.1210     (want any version)
# Path::Tiny                                    => 0.055      (want any version)
# Sort::Versions                                => 1.60       (want any version)
# Test::Fatal                                   => 0.013      (want any version)
# Test::More                                    => 1.301001018 (want 1.001002)
# strict                                        => 1.08       (want any version)
# utf8                                          => 1.14       (want any version)
# warnings                                      => 1.24       (want any version)
# 
# Thanks for using my code.  I hope it works for you.
# If not, please try and include this output in the bug report.
# That will help me reproduce the issue and solve your problem.
# 
t/000-report-versions-tiny.t ........................ ok
t/basic.t ........................................... ok
t/utilrole.t ........................................ ok
All tests successful.
Files=6, Tests=12,  5 wallclock secs ( 0.04 usr  0.00 sys +  2.05 cusr  0.14 csys =  2.23 CPU)
Result: PASS

------------------------------
PREREQUISITES
------------------------------

Prerequisite modules loaded:

requires:

    Module                            Need     Have        
    --------------------------------- -------- ------------
    Dist::Zilla::UtilRole::MaybeZilla 0        0.001000    
    Git::Wrapper                      0        0.035       
    Moose                             0        2.1210      
    Moose::Role                       0        2.1210      
    perl                              5.008    5.021001    
    strict                            0        1.08        
    utf8                              0        1.14        
    warnings                          0        1.24        

build_requires:

    Module                            Need     Have        
    --------------------------------- -------- ------------
    Log::Contextual::LogDispatchouli  0        0.001000    
    Log::Dispatchouli                 0        2.010       
    Module::Build                     0.4203   0.4206      
    Path::Tiny                        0        0.055       
    Sort::Versions                    0        1.60        
    Test::Fatal                       0        0.013       
    Test::More                        1.001002 1.301001_018

configure_requires:

    Module                            Need     Have        
    --------------------------------- -------- ------------
    Module::Build                     0.4203   0.4206      


------------------------------
ENVIRONMENT AND OTHER CONTEXT
------------------------------

Environment variables:

    AUTOMATED_TESTING = 1
    LANG = en_US.UTF-8
    LANGUAGE = en_US:en
    PATH = /usr/lib/ccache:/home/sand/bin:/usr/local/bin:/usr/bin:/bin:/usr/games:/usr/local/perl/bin:/usr/X11/bin:/sbin:/usr/sbin
    PERL5LIB = 
    PERL5OPT = 
    PERL5_CPANPLUS_IS_RUNNING = 29741
    PERL5_CPAN_IS_RUNNING = 29741
    PERL_MM_USE_DEFAULT = 1
    SHELL = /usr/bin/zsh
    TERM = screen

Perl special variables (and OS-specific diagnostics, for MSWin32):

    $^X = /home/sand/src/perl/repoperls/installed-perls/perl/v5.21.1/165a/bin/perl
    $UID/$EUID = 1005 / 1005
    $GID = 1005 1005
    $EGID = 1005 1005

Perl module toolchain versions installed:

    Module              Have        
    ------------------- ------------
    CPAN                2.05        
    CPAN::Meta          2.142060    
    Cwd                 3.48        
    ExtUtils::CBuilder  0.280216    
    ExtUtils::Command   1.18        
    ExtUtils::Install   1.68        
    ExtUtils::MakeMaker 6.98        
    ExtUtils::Manifest  1.63        
    ExtUtils::ParseXS   3.25        
    File::Spec          3.48        
    JSON                2.90        
    JSON::PP            2.27203     
    Module::Build       0.4206      
    Module::Signature   0.73        
    Parse::CPAN::Meta   1.4414      
    Test::Harness       3.32        
    Test::More          1.301001_018
    YAML                0.98        
    YAML::Syck          1.27        
    version             0.9908      


--

Summary of my perl5 (revision 5 version 21 subversion 1) configuration:
  Commit id: 62406c838c92e5d5cbf29c4f06850350380f4ef5
  Platform:
    osname=linux, osvers=3.14-2-amd64, archname=x86_64-linux
    uname='linux k83 3.14-2-amd64 #1 smp debian 3.14.13-2 (2014-07-24) x86_64 gnulinux '
    config_args='-Dprefix=/home/sand/src/perl/repoperls/installed-perls/perl/v5.21.1/165a -Dmyhostname=k83 -Dinstallusrbinperl=n -Uversiononly -Dusedevel -des -Ui_db -Uuseithreads -Uuselongdouble -DDEBUGGING=-g'
    hint=recommended, useposix=true, d_sigaction=define
    useithreads=undef, usemultiplicity=undef
    use64bitint=define, use64bitall=define, uselongdouble=undef
    usemymalloc=n, bincompat5005=undef
  Compiler:
    cc='cc', ccflags ='-fwrapv -fno-strict-aliasing -pipe -fstack-protector -I/usr/local/include -D_LARGEFILE_SOURCE -D_FILE_OFFSET_BITS=64',
    optimize='-O2 -g',
    cppflags='-fwrapv -fno-strict-aliasing -pipe -fstack-protector -I/usr/local/include'
    ccversion='', gccversion='4.9.1', gccosandvers=''
    intsize=4, longsize=8, ptrsize=8, doublesize=8, byteorder=12345678
    d_longlong=define, longlongsize=8, d_longdbl=define, longdblsize=16
    ivtype='long', ivsize=8, nvtype='double', nvsize=8, Off_t='off_t', lseeksize=8
    alignbytes=8, prototype=define
  Linker and Libraries:
    ld='cc', ldflags =' -fstack-protector -L/usr/local/lib'
    libpth=/usr/local/lib /usr/lib/gcc/x86_64-linux-gnu/4.9/include-fixed /usr/include/x86_64-linux-gnu /usr/lib /lib/x86_64-linux-gnu /lib/../lib /usr/lib/x86_64-linux-gnu /usr/lib/../lib /lib
    libs=-lnsl -lgdbm -ldb -ldl -lm -lcrypt -lutil -lc -lgdbm_compat
    perllibs=-lnsl -ldl -lm -lcrypt -lutil -lc
    libc=libc-2.19.so, so=so, useshrplib=false, libperl=libperl.a
    gnulibc_version='2.19'
  Dynamic Linking:
    dlsrc=dl_dlopen.xs, dlext=so, d_dlsymun=undef, ccdlflags='-Wl,-E'
    cccdlflags='-fPIC', lddlflags='-shared -O2 -g -L/usr/local/lib -fstack-protector'


Characteristics of this binary (from libperl): 
  Compile-time options: HAS_TIMES PERLIO_LAYERS PERL_DONT_CREATE_GVSV
                        PERL_HASH_FUNC_ONE_AT_A_TIME_HARD PERL_MALLOC_WRAP
                        PERL_NEW_COPY_ON_WRITE PERL_PRESERVE_IVUV
                        PERL_USE_DEVEL USE_64_BIT_ALL USE_64_BIT_INT
                        USE_LARGE_FILES USE_LOCALE USE_LOCALE_COLLATE
                        USE_LOCALE_CTYPE USE_LOCALE_NUMERIC USE_PERLIO
                        USE_PERL_ATOF
  Built under linux
  Compiled at Aug  1 2014 06:00:43
  %ENV:
    PERL5LIB=""
    PERL5OPT=""
    PERL5_CPANPLUS_IS_RUNNING="29741"
    PERL5_CPAN_IS_RUNNING="29741"
    PERL_MM_USE_DEFAULT="1"
  @INC:
    /home/sand/src/perl/repoperls/installed-perls/perl/v5.21.1/165a/lib/site_perl/5.21.1/x86_64-linux
    /home/sand/src/perl/repoperls/installed-perls/perl/v5.21.1/165a/lib/site_perl/5.21.1
    /home/sand/src/perl/repoperls/installed-perls/perl/v5.21.1/165a/lib/5.21.1/x86_64-linux
    /home/sand/src/perl/repoperls/installed-perls/perl/v5.21.1/165a/lib/5.21.1
    .