Back
From: metabase:user:322078bc-2aae-11df-837a-5e0a49663a4f
Subject: PASS List-Priority-0.04 v5.8.9 Debian GNU/kFreeBSD
Date: 2011-12-30T23:14:06Z
This distribution has been tested as part of the CPAN Testers
project, supporting the Perl programming language. See
http://wiki.cpantesters.org/ for more information or email
questions to cpan-testers-discuss@perl.org
--
Dear MGOULD,
This is a computer-generated error report created automatically by
CPANPLUS, version 0.9113. Testers personal comments may appear
at the end of this report.
MAKE TEST passed: PERL_DL_NONLAZY=1 /home/cpan/pit/bare/perl-5.8.9/bin/perl "-MExtUtils::Command::MM" "-e" "test_harness(0, 'blib/lib', 'blib/arch')" t/*.t
t/00-load.t ........ ok
t/02-small-list.t .. ok
t/03-capacity.t .... ok
t/04-duplicates.t .. ok
All tests successful.
Files=4, Tests=40, 0 wallclock secs ( 0.00 usr 0.10 sys + 0.02 cusr 0.20 csys = 0.32 CPU)
Result: PASS
PERL_DL_NONLAZY=1 /home/cpan/pit/bare/perl-5.8.9/bin/perl "-Iblib/lib" "-Iblib/arch" test.pl
1..1
# Running under perl version 5.008009 for gnukfreebsd
# Current time local: Fri Dec 30 23:13:37 2011
# Current time GMT: Fri Dec 30 23:13:37 2011
# Using Test.pm version 1.25
ok 1
[MSG] [Fri Dec 30 23:13:37 2011] Sending test report for 'List-Priority-0.04'
PREREQUISITES:
Here is a list of prerequisites you specified and versions we
managed to load:
Module Name Have Want
ExtUtils::MakeMaker 6.62 0
Test::More 0.98 0.88
Perl module toolchain versions installed:
Module Name Have
CPANPLUS 0.9113
CPANPLUS::Dist::Build 0.60
Cwd 3.33
ExtUtils::CBuilder 0.280202
ExtUtils::Command 1.16
ExtUtils::Install 1.54
ExtUtils::MakeMaker 6.62
ExtUtils::Manifest 1.60
ExtUtils::ParseXS 3.07
File::Spec 3.33
Module::Build 0.3800
Test::Harness 3.23
Test::More 0.98
version 0.95
******************************** NOTE ********************************
The comments above are created mechanically, possibly without manual
checking by the sender. As there are many people performing automatic
tests on each upload to CPAN, it is likely that you will receive
identical messages about the same problem.
If you believe that the message is mistaken, please reply to the first
one with correction and/or additional informations, and do not take
it personally. We appreciate your patience. :)
**********************************************************************
Additional comments:
This report was machine-generated by CPANPLUS::Dist::YACSmoke 0.66.
Powered by minismokebox version 0.54
------------------------------
ENVIRONMENT AND OTHER CONTEXT
------------------------------
Environment variables:
AUTOMATED_TESTING = 1
LANG = en_GB.UTF-8
LANGUAGE = en_GB:en
PATH = /usr/local/bin:/usr/bin:/bin:/usr/local/games:/usr/games
PERL5LIB = :/home/cpan/pit/bare/conf/perl-5.8.9/.cpanplus/5.8.9/build/List-Priority-0.04/blib/lib:/home/cpan/pit/bare/conf/perl-5.8.9/.cpanplus/5.8.9/build/List-Priority-0.04/blib/arch
PERL5_CPANPLUS_IS_RUNNING = 41201
PERL5_CPANPLUS_IS_VERSION = 0.9113
PERL5_MINISMOKEBOX = 0.54
PERL5_YACSMOKE_BASE = /home/cpan/pit/bare/conf/perl-5.8.9
PERL_EXTUTILS_AUTOINSTALL = --defaultdeps
PERL_MM_USE_DEFAULT = 1
SHELL = /bin/bash
TERM = screen
Perl special variables (and OS-specific diagnostics, for MSWin32):
Perl: $^X = /home/cpan/pit/bare/perl-5.8.9/bin/perl
UID: $< = 1001
EUID: $> = 1001
GID: $( = 1001 1001
EGID: $) = 1001 1001
-------------------------------
--
Summary of my perl5 (revision 5 version 8 subversion 9) configuration:
Platform:
osname=gnukfreebsd, osvers=8.1-1-686, archname=i686-gnukfreebsd
uname='gnukfreebsd kaiser 8.1-1-686 #0 wed feb 23 16:08:54 utc 2011 i686 i386 amd athlon(tm) neo x2 dual core processor 6850e gnukfreebsd '
config_args='-des -Dprefix=/home/cpan/pit/bare/perl-5.8.9'
hint=recommended, useposix=true, d_sigaction=define
usethreads=undef use5005threads=undef useithreads=undef usemultiplicity=undef
useperlio=define d_sfio=undef uselargefiles=define usesocks=undef
use64bitint=undef use64bitall=undef uselongdouble=undef
usemymalloc=n, bincompat5005=undef
Compiler:
cc='cc', ccflags ='-fno-strict-aliasing -pipe -I/usr/local/include -D_LARGEFILE_SOURCE -D_FILE_OFFSET_BITS=64',
optimize='-O2',
cppflags='-fno-strict-aliasing -pipe -I/usr/local/include'
ccversion='', gccversion='4.4.5', gccosandvers=''
intsize=4, longsize=4, ptrsize=4, doublesize=8, byteorder=1234
d_longlong=define, longlongsize=8, d_longdbl=define, longdblsize=12
ivtype='long', ivsize=4, nvtype='double', nvsize=8, Off_t='off_t', lseeksize=8
alignbytes=4, prototype=define
Linker and Libraries:
ld='cc', ldflags =' -L/usr/local/lib'
libpth=/usr/local/lib /lib /usr/lib
libs=-lnsl -lgdbm -ldb -ldl -lm -lcrypt -lutil -lc
perllibs=-lnsl -ldl -lm -lcrypt -lutil -lc
libc=, so=so, useshrplib=false, libperl=libperl.a
gnulibc_version='2.11.2'
Dynamic Linking:
dlsrc=dl_dlopen.xs, dlext=so, d_dlsymun=undef, ccdlflags='-Wl,-E'
cccdlflags='-fpic', lddlflags='-shared -L/usr/local/lib'
Characteristics of this binary (from libperl):
Compile-time options: PERL_MALLOC_WRAP USE_FAST_STDIO USE_LARGE_FILES
USE_PERLIO
Built under gnukfreebsd
Compiled at Aug 23 2011 12:02:09
%ENV:
PERL5LIB=":/home/cpan/pit/bare/conf/perl-5.8.9/.cpanplus/5.8.9/build/List-Priority-0.04/blib/lib:/home/cpan/pit/bare/conf/perl-5.8.9/.cpanplus/5.8.9/build/List-Priority-0.04/blib/arch"
PERL5_CPANPLUS_IS_RUNNING="41201"
PERL5_CPANPLUS_IS_VERSION="0.9113"
PERL5_MINISMOKEBOX="0.54"
PERL5_YACSMOKE_BASE="/home/cpan/pit/bare/conf/perl-5.8.9"
PERL_EXTUTILS_AUTOINSTALL="--defaultdeps"
PERL_MM_USE_DEFAULT="1"
@INC:
/home/cpan/pit/bare/conf/perl-5.8.9/.cpanplus/5.8.9/build/List-Priority-0.04/blib/lib
/home/cpan/pit/bare/conf/perl-5.8.9/.cpanplus/5.8.9/build/List-Priority-0.04/blib/arch
/home/cpan/pit/bare/perl-5.8.9/lib/5.8.9/i686-gnukfreebsd
/home/cpan/pit/bare/perl-5.8.9/lib/5.8.9
/home/cpan/pit/bare/perl-5.8.9/lib/site_perl/5.8.9/i686-gnukfreebsd
/home/cpan/pit/bare/perl-5.8.9/lib/site_perl/5.8.9
.