Report for Dancer2-Plugin-REST-0.26

Back
From: metabase:user:30f4dfbe-2aae-11df-837a-5e0a49663a4f
Subject: PASS Dancer2-Plugin-REST-0.26 v5.20.0 Mac OS X
Date: 2015-10-16T02:45:33Z

This distribution has been tested as part of the CPAN Testers
project, supporting the Perl programming language.  See
http://wiki.cpantesters.org/ for more information or email
questions to cpan-testers-discuss@perl.org


--
Dear Yanick Champoux,

This is a computer-generated report for Dancer2-Plugin-REST-0.26
on perl 5.20.0, created by CPAN-Reporter-1.2015.

Thank you for uploading your work to CPAN.  Congratulations!
All tests were successful.

Sections of this report:

    * Tester comments
    * Program output
    * Prerequisites
    * Environment and other context

------------------------------
TESTER COMMENTS
------------------------------

Additional comments from tester:

this report is from an automated smoke testing program
and was not reviewed by a human for accuracy

------------------------------
PROGRAM OUTPUT
------------------------------

Output from '/sw/bin/make test':

PERL_DL_NONLAZY=1 "/Users/hornenj/perl5/perlbrew/perls/perl-5.20.0/bin/perl" "-MExtUtils::Command::MM" "-MTest::Harness" "-e" "undef *Test::Harness::Switches; test_harness(0, 'blib/lib', 'blib/arch')" t/*.t
t/00-compile.t ........................ ok
# 
# Versions for all modules listed in MYMETA.json (including optional ones):
# 
# === Configure Requires ===
# 
#     Module              Want Have
#     ------------------- ---- ----
#     ExtUtils::MakeMaker  any 7.04
# 
# === Build Requires ===
# 
#     Module              Want Have
#     ------------------- ---- ----
#     ExtUtils::MakeMaker  any 7.04
# 
# === Test Requires ===
# 
#     Module                 Want     Have
#     ---------------------- ---- --------
#     Dancer2::Core::Request  any 0.162000
#     Data::Dumper            any    2.154
#     ExtUtils::MakeMaker     any     7.04
#     File::Spec              any     3.47
#     HTTP::Request::Common   any     6.04
#     IO::Handle              any     1.35
#     IPC::Open3              any     1.16
#     JSON                    any     2.90
#     Module::Runtime         any    0.014
#     Plack::Test             any    undef
#     Test::More              any 1.001014
# 
# === Test Recommends ===
# 
#     Module         Want     Have
#     ---------- -------- --------
#     CPAN::Meta 2.120900 2.150001
# 
# === Runtime Requires ===
# 
#     Module                 Want     Have
#     --------------- ----------- --------
#     Carp                    any     1.36
#     Class::Load             any     0.22
#     Dancer2         0.149000_01 0.162000
#     Dancer2::Plugin         any 0.162000
#     Moo::Role               any 2.000001
#     strict                  any     1.08
#     warnings                any     1.23
# 
t/00-report-prereqs.t ................. ok
t/02_prepare_serializer_for_format.t .. ok
t/03_resource.t ....................... ok
t/04_helpers.t ........................ ok
t/04_plugin_settings.t ................ ok
t/05_named_captures.t ................. ok
t/06_tcp_server.t ..................... ok
All tests successful.
Files=8, Tests=46,  2 wallclock secs ( 0.03 usr  0.02 sys +  1.35 cusr  0.47 csys =  1.87 CPU)
Result: PASS

------------------------------
PREREQUISITES
------------------------------

Prerequisite modules loaded:

requires:

    Module                 Need        Have    
    ---------------------- ----------- --------
    Carp                   0           1.36    
    Class::Load            0           0.22    
    Dancer2                0.149000_01 0.162000
    Dancer2::Plugin        0           0.162000
    Moo::Role              0           2.000001
    perl                   5.006       5.020000
    strict                 0           1.08    
    warnings               0           1.23    

build_requires:

    Module                 Need        Have    
    ---------------------- ----------- --------
    Dancer2::Core::Request 0           0.162000
    Data::Dumper           0           2.154   
    ExtUtils::MakeMaker    0           7.04    
    File::Spec             0           3.47    
    HTTP::Request::Common  0           6.04    
    IO::Handle             0           1.35    
    IPC::Open3             0           1.16    
    JSON                   0           2.90    
    Module::Runtime        0           0.014   
    Plack::Test            0           0       
    Test::More             0           1.001014

configure_requires:

    Module                 Need        Have    
    ---------------------- ----------- --------
    ExtUtils::MakeMaker    0           7.04    


------------------------------
ENVIRONMENT AND OTHER CONTEXT
------------------------------

Environment variables:

    AUTOMATED_TESTING = 1
    LANG = en_US.UTF-8
    LC_ALL = POSIX
    LD_LIBRARY_PATH = :/net/traces01.be-md.ncbi.nlm.nih.gov/trace_software/vdb/mac/release/x86_64/lib
    NO_NETWORK_TESTING = 1
    PATH = /Users/hornenj/perl5/perlbrew/bin:/Users/hornenj/perl5/perlbrew/perls/perl-5.20.0/bin:/Users/hornenj/perl5/perlbrew/bin:/Users/hornenj/perl5/perlbrew/perls/perl-5.14.2/bin:/Users/hornenj/bin:/sw/lib/perl5/ExtUtils:/sw/bin:/am/ncbiapdata/bin:/usr/bin:/bin:/usr/X11R6/bin:/netopt/ncbi_tools/bin:/usr/local/ncbi/blast/bin:/net/traces01.be-md.ncbi.nlm.nih.gov/trace_software/vdb/mac/release/x86_64/bin
    PERL5LIB = /Users/hornenj/.cpan/build/Dancer2-0.162000-_98GoJ/blib/arch:/Users/hornenj/.cpan/build/Dancer2-0.162000-_98GoJ/blib/lib:/Users/hornenj/.cpan/build/App-Cmd-0.328-qRYX94/blib/arch:/Users/hornenj/.cpan/build/App-Cmd-0.328-qRYX94/blib/lib:/Users/hornenj/.cpan/build/IO-TieCombine-1.004-NGV_aP/blib/arch:/Users/hornenj/.cpan/build/IO-TieCombine-1.004-NGV_aP/blib/lib:/Users/hornenj/.cpan/build/Return-MultiLevel-0.04-ZrxSd9/blib/arch:/Users/hornenj/.cpan/build/Return-MultiLevel-0.04-ZrxSd9/blib/lib:/Users/hornenj/.cpan/build/Data-Munge-0.095-O4hBp7/blib/arch:/Users/hornenj/.cpan/build/Data-Munge-0.095-O4hBp7/blib/lib:/Users/hornenj/.cpan/build/Template-Tiny-1.12-ydACv1/blib/arch:/Users/hornenj/.cpan/build/Template-Tiny-1.12-ydACv1/blib/lib:/Users/hornenj/.cpan/build/Config-Any-0.26-scIoss/blib/arch:/Users/hornenj/.cpan/build/Config-Any-0.26-scIoss/blib/lib:/Users/hornenj/.cpan/build/Hash-Merge-Simple-0.051-gO3U21/blib/arch:/Users/hornenj/.cpan/build/Hash-Merge-Simple-0.051-gO3U21/blib/lib:/Users/hornenj/.cpan/build/Plack-Middleware-FixMissingBodyInRedirect-0.12-3oG7kA/blib/arch:/Users/hornenj/.cpan/build/Plack-Middleware-FixMissingBodyInRedirect-0.12-3oG7kA/blib/lib:/Users/hornenj/.cpan/build/Plack-Middleware-RemoveRedundantBody-0.05-lnmQzL/blib/arch:/Users/hornenj/.cpan/build/Plack-Middleware-RemoveRedundantBody-0.05-lnmQzL/blib/lib:/Users/hornenj/.cpan/build/Safe-Isa-1.000005-dprT9c/blib/arch:/Users/hornenj/.cpan/build/Safe-Isa-1.000005-dprT9c/blib/lib
    PERL5OPT = 
    PERL5_CPANPLUS_IS_RUNNING = 38728
    PERL5_CPAN_IS_RUNNING = 38728
    PERL5_MINISMOKEBOX = 0.58
    PERLBREW_BASHRC_VERSION = 0.73
    PERLBREW_HOME = /Users/hornenj/.perlbrew
    PERLBREW_LIB = 
    PERLBREW_MANPATH = /Users/hornenj/perl5/perlbrew/perls/perl-5.20.0/man
    PERLBREW_PATH = /Users/hornenj/perl5/perlbrew/bin:/Users/hornenj/perl5/perlbrew/perls/perl-5.20.0/bin
    PERLBREW_PERL = perl-5.20.0
    PERLBREW_ROOT = /Users/hornenj/perl5/perlbrew
    PERLBREW_VERSION = 0.73
    PERL_EXTUTILS_AUTOINSTALL = --defaultdeps
    PERL_LOCAL_LIB_ROOT = 
    PERL_MM_USE_DEFAULT = 1
    SHELL = /bin/bash
    TERM = xterm-256color
    TMPDIR = /var/folders/pz/pd7y1qjs6s3cbk170cw50fjc000c61/T/
    VERSIONER_PERL_PREFER_32_BIT = no
    VERSIONER_PERL_VERSION = 5.18
    ac_cv_path_INTLTOOL_PERL = /usr/bin/perl

Perl special variables (and OS-specific diagnostics, for MSWin32):

    $^X = /Users/hornenj/perl5/perlbrew/perls/perl-5.20.0/bin/perl
    $UID/$EUID = 12481 / 12481
    $GID = 14 14 5344 37191 527 241
    $EGID = 14 14 5344 37191 527 241

Perl module toolchain versions installed:

    Module              Have    
    ------------------- --------
    CPAN                2.05    
    CPAN::Meta          2.150001
    Cwd                 3.47    
    ExtUtils::CBuilder  0.280223
    ExtUtils::Command   1.20    
    ExtUtils::Install   2.04    
    ExtUtils::MakeMaker 7.04    
    ExtUtils::Manifest  1.70    
    ExtUtils::ParseXS   3.24    
    File::Spec          3.47    
    JSON                2.90    
    JSON::PP            2.27300 
    Module::Build       0.4212  
    Module::Signature   n/a     
    Parse::CPAN::Meta   1.4414  
    Test::Harness       3.35    
    Test::More          1.001014
    YAML                1.15    
    YAML::Syck          1.29    
    version             0.9912  


--

Summary of my perl5 (revision 5 version 20 subversion 0) configuration:
   
  Platform:
    osname=darwin, osvers=12.5.0, archname=darwin-thread-multi-2level
    uname='darwin ncbimac2008.ncbi.nlm.nih.gov 12.5.0 darwin kernel version 12.5.0: sun sep 29 13:33:47 pdt 2013; root:xnu-2050.48.12~1release_x86_64 x86_64 '
    config_args='-de -Dprefix=/Users/hornenj/perl5/perlbrew/perls/perl-5.20.0 -Duseithreads -Dusemultiplicity -Accflags=-O2 -W -Wformat=2 -Wswitch -Wshadow -Wwrite-strings -Wuninitialized -Wall -pipe -mtune=native -march=native -fomit-frame-pointer -msse2 -msse -mmmx -pedantic -D_FORTIFY_SOURCE=2 -Wpointer-arith -Wstrict-prototypes -fstack-protector -Wstack-protector -Wextra -Wbad-function-cast -Wcast-align -Wcast-qual -Wdisabled-optimization -Wendif-labels -Wfloat-equal -Wformat-nonliteral -Winline -Wmissing-declarations -Wmissing-prototypes -Wnested-externs -Wpointer-arith -Wundef -Wformat-security -fassociative-math -Acc=cc -Aeval:scriptdir=/Users/hornenj/perl5/perlbrew/perls/perl-5.20.0/bin'
    hint=recommended, useposix=true, d_sigaction=define
    useithreads=define, usemultiplicity=define
    use64bitint=define, use64bitall=define, uselongdouble=undef
    usemymalloc=n, bincompat5005=undef
  Compiler:
    cc=' cc', ccflags ='-fno-common -DPERL_DARWIN -O2 -W -Wformat=2 -Wswitch -Wshadow -Wwrite-strings -Wuninitialized -Wall -pipe -mtune=native -march=native -fomit-frame-pointer -msse2 -msse -mmmx -pedantic -D_FORTIFY_SOURCE=2 -Wpointer-arith -Wstrict-prototypes -fstack-protector -Wstack-protector -Wextra -Wbad-function-cast -Wcast-align -Wcast-qual -Wdisabled-optimization -Wendif-labels -Wfloat-equal -Wformat-nonliteral -Winline -Wmissing-declarations -Wmissing-prototypes -Wnested-externs -Wpointer-arith -Wundef -Wformat-security -fassociative-math -fno-strict-aliasing -I/usr/local/include',
    optimize='-O3',
    cppflags='-fno-common -DPERL_DARWIN -O2 -W -Wformat=2 -Wswitch -Wshadow -Wwrite-strings -Wuninitialized -Wall -pipe -mtune=native -march=native -fomit-frame-pointer -msse2 -msse -mmmx -pedantic -D_FORTIFY_SOURCE=2 -Wpointer-arith -Wstrict-prototypes -fstack-protector -Wstack-protector -Wextra -Wbad-function-cast -Wcast-align -Wcast-qual -Wdisabled-optimization -Wendif-labels -Wfloat-equal -Wformat-nonliteral -Winline -Wmissing-declarations -Wmissing-prototypes -Wnested-externs -Wpointer-arith -Wundef -Wformat-security -fassociative-math -fno-strict-aliasing -I/usr/local/include'
    ccversion='', gccversion='4.2.1 Compatible Apple LLVM 4.2 (clang-425.0.24)', gccosandvers=''
    intsize=4, longsize=8, ptrsize=8, doublesize=8, byteorder=12345678
    d_longlong=define, longlongsize=8, d_longdbl=define, longdblsize=16
    ivtype='long', ivsize=8, nvtype='double', nvsize=8, Off_t='off_t', lseeksize=8
    alignbytes=8, prototype=define
  Linker and Libraries:
    ld='env MACOSX_DEPLOYMENT_TARGET=10.3 cc', ldflags =' -fstack-protector -L/usr/local/lib'
    libpth=/usr/local/lib /usr/bin/../lib/clang/4.2/lib /usr/lib
    libs=-ldbm -ldl -lm -lutil -lc
    perllibs=-ldl -lm -lutil -lc
    libc=, so=dylib, useshrplib=false, libperl=libperl.a
    gnulibc_version=''
  Dynamic Linking:
    dlsrc=dl_dlopen.xs, dlext=bundle, d_dlsymun=undef, ccdlflags=' '
    cccdlflags=' ', lddlflags=' -bundle -undefined dynamic_lookup -L/usr/local/lib -fstack-protector'


Characteristics of this binary (from libperl): 
  Compile-time options: HAS_TIMES MULTIPLICITY PERLIO_LAYERS
                        PERL_DONT_CREATE_GVSV
                        PERL_HASH_FUNC_ONE_AT_A_TIME_HARD
                        PERL_IMPLICIT_CONTEXT PERL_MALLOC_WRAP
                        PERL_NEW_COPY_ON_WRITE PERL_PRESERVE_IVUV
                        USE_64_BIT_ALL USE_64_BIT_INT USE_ITHREADS
                        USE_LARGE_FILES USE_LOCALE USE_LOCALE_COLLATE
                        USE_LOCALE_CTYPE USE_LOCALE_NUMERIC USE_PERLIO
                        USE_PERL_ATOF USE_REENTRANT_API
  Built under darwin
  Compiled at May 28 2014 08:29:41
  %ENV:
    PERL5LIB="/Users/hornenj/.cpan/build/Dancer2-0.162000-_98GoJ/blib/arch:/Users/hornenj/.cpan/build/Dancer2-0.162000-_98GoJ/blib/lib:/Users/hornenj/.cpan/build/App-Cmd-0.328-qRYX94/blib/arch:/Users/hornenj/.cpan/build/App-Cmd-0.328-qRYX94/blib/lib:/Users/hornenj/.cpan/build/IO-TieCombine-1.004-NGV_aP/blib/arch:/Users/hornenj/.cpan/build/IO-TieCombine-1.004-NGV_aP/blib/lib:/Users/hornenj/.cpan/build/Return-MultiLevel-0.04-ZrxSd9/blib/arch:/Users/hornenj/.cpan/build/Return-MultiLevel-0.04-ZrxSd9/blib/lib:/Users/hornenj/.cpan/build/Data-Munge-0.095-O4hBp7/blib/arch:/Users/hornenj/.cpan/build/Data-Munge-0.095-O4hBp7/blib/lib:/Users/hornenj/.cpan/build/Template-Tiny-1.12-ydACv1/blib/arch:/Users/hornenj/.cpan/build/Template-Tiny-1.12-ydACv1/blib/lib:/Users/hornenj/.cpan/build/Config-Any-0.26-scIoss/blib/arch:/Users/hornenj/.cpan/build/Config-Any-0.26-scIoss/blib/lib:/Users/hornenj/.cpan/build/Hash-Merge-Simple-0.051-gO3U21/blib/arch:/Users/hornenj/.cpan/build/Hash-Merge-Simple-0.051-gO3U21/blib/lib:/Users/hornenj/.cpan/build/Plack-Middleware-FixMissingBodyInRedirect-0.12-3oG7kA/blib/arch:/Users/hornenj/.cpan/build/Plack-Middleware-FixMissingBodyInRedirect-0.12-3oG7kA/blib/lib:/Users/hornenj/.cpan/build/Plack-Middleware-RemoveRedundantBody-0.05-lnmQzL/blib/arch:/Users/hornenj/.cpan/build/Plack-Middleware-RemoveRedundantBody-0.05-lnmQzL/blib/lib:/Users/hornenj/.cpan/build/Safe-Isa-1.000005-dprT9c/blib/arch:/Users/hornenj/.cpan/build/Safe-Isa-1.000005-dprT9c/blib/lib"
    PERL5OPT=""
    PERL5_CPANPLUS_IS_RUNNING="38728"
    PERL5_CPAN_IS_RUNNING="38728"
    PERL5_MINISMOKEBOX="0.58"
    PERLBREW_BASHRC_VERSION="0.73"
    PERLBREW_HOME="/Users/hornenj/.perlbrew"
    PERLBREW_LIB=""
    PERLBREW_MANPATH="/Users/hornenj/perl5/perlbrew/perls/perl-5.20.0/man"
    PERLBREW_PATH="/Users/hornenj/perl5/perlbrew/bin:/Users/hornenj/perl5/perlbrew/perls/perl-5.20.0/bin"
    PERLBREW_PERL="perl-5.20.0"
    PERLBREW_ROOT="/Users/hornenj/perl5/perlbrew"
    PERLBREW_VERSION="0.73"
    PERL_EXTUTILS_AUTOINSTALL="--defaultdeps"
    PERL_LOCAL_LIB_ROOT=""
    PERL_MM_USE_DEFAULT="1"
  @INC:
    /Users/hornenj/.cpan/build/Dancer2-0.162000-_98GoJ/blib/arch
    /Users/hornenj/.cpan/build/Dancer2-0.162000-_98GoJ/blib/lib
    /Users/hornenj/.cpan/build/App-Cmd-0.328-qRYX94/blib/arch
    /Users/hornenj/.cpan/build/App-Cmd-0.328-qRYX94/blib/lib
    /Users/hornenj/.cpan/build/IO-TieCombine-1.004-NGV_aP/blib/arch
    /Users/hornenj/.cpan/build/IO-TieCombine-1.004-NGV_aP/blib/lib
    /Users/hornenj/.cpan/build/Return-MultiLevel-0.04-ZrxSd9/blib/arch
    /Users/hornenj/.cpan/build/Return-MultiLevel-0.04-ZrxSd9/blib/lib
    /Users/hornenj/.cpan/build/Data-Munge-0.095-O4hBp7/blib/arch
    /Users/hornenj/.cpan/build/Data-Munge-0.095-O4hBp7/blib/lib
    /Users/hornenj/.cpan/build/Template-Tiny-1.12-ydACv1/blib/arch
    /Users/hornenj/.cpan/build/Template-Tiny-1.12-ydACv1/blib/lib
    /Users/hornenj/.cpan/build/Config-Any-0.26-scIoss/blib/arch
    /Users/hornenj/.cpan/build/Config-Any-0.26-scIoss/blib/lib
    /Users/hornenj/.cpan/build/Hash-Merge-Simple-0.051-gO3U21/blib/arch
    /Users/hornenj/.cpan/build/Hash-Merge-Simple-0.051-gO3U21/blib/lib
    /Users/hornenj/.cpan/build/Plack-Middleware-FixMissingBodyInRedirect-0.12-3oG7kA/blib/arch
    /Users/hornenj/.cpan/build/Plack-Middleware-FixMissingBodyInRedirect-0.12-3oG7kA/blib/lib
    /Users/hornenj/.cpan/build/Plack-Middleware-RemoveRedundantBody-0.05-lnmQzL/blib/arch
    /Users/hornenj/.cpan/build/Plack-Middleware-RemoveRedundantBody-0.05-lnmQzL/blib/lib
    /Users/hornenj/.cpan/build/Safe-Isa-1.000005-dprT9c/blib/arch
    /Users/hornenj/.cpan/build/Safe-Isa-1.000005-dprT9c/blib/lib
    /Users/hornenj/perl5/perlbrew/perls/perl-5.20.0/lib/site_perl/5.20.0/darwin-thread-multi-2level
    /Users/hornenj/perl5/perlbrew/perls/perl-5.20.0/lib/site_perl/5.20.0
    /Users/hornenj/perl5/perlbrew/perls/perl-5.20.0/lib/5.20.0/darwin-thread-multi-2level
    /Users/hornenj/perl5/perlbrew/perls/perl-5.20.0/lib/5.20.0
    .