WebAPI-DBIC v0.004002 Perl 5 v5.37.10 x86_64-linux-thread-multi

Status
Pass
From
Andreas J. König (ANDK)
Dist
WebAPI-DBIC v0.004002
Platform
Perl 5 v5.37.10 x86_64-linux-thread-multi
Date
2023-04-04 16:58:49
ID
f89424c8-d309-11ed-b5db-a912a29da699
This distribution has been tested as part of the CPAN Testers
project, supporting the Perl programming language.  See
http://wiki.cpantesters.org/ for more information or email
questions to cpan-testers-discuss@perl.org


--
Dear Tim Bunce,

This is a computer-generated report for WebAPI-DBIC-0.004002
on perl 5.37.10, created by CPAN-Reporter-1.2018.

Thank you for uploading your work to CPAN.  Congratulations!
All tests were successful.

Sections of this report:

    * Tester comments
    * Program output
    * Prerequisites
    * Environment and other context

------------------------------
TESTER COMMENTS
------------------------------

Additional comments from tester:

this report is from an automated smoke testing program
and was not reviewed by a human for accuracy

------------------------------
PROGRAM OUTPUT
------------------------------

Output from '/usr/bin/make test':

PERL_DL_NONLAZY=1 "/tmp/basesmoker-reloperl-ABGN/bin/perl" "-MExtUtils::Command::MM" "-MTest::Harness" "-e" "undef *Test::Harness::Switches; test_harness(0, 'blib/lib', 'blib/arch')" t/*.t t/media-active-model/*.t t/media-hal/*.t t/media-jsonapi/*.t
t/00-compile.t .......................... ok
t/10-basics-req.t ....................... ok
t/11-paging-req.t ....................... ok
t/12-searching-req.t .................... ok
t/13-fields-req.t ....................... ok
t/14-distinct-req.t ..................... ok
t/30-ordering-req.t ..................... ok
t/50-modify-req.t ....................... ok
t/53-put_rel-req.t ...................... ok
Exception: DBIx::Class::Row::get_column(): No such column 'nonesuch' on TestSchema::Result::Artist at /tmp/loop_over_bdir-95083-HAJg94/WebAPI-DBIC-0.004002-0/blib/lib/WebAPI/DBIC/Resource/Role/ItemInvoke.pm line 57
t/60-invoke-req.t ....................... ok
t/90-root-req.t ......................... ok
t/media-active-model/10-basics-req.t .... ok
Child result class TestSchema::Result::CD_to_Producer has multiple keys (cd producer) so relations like cd_to_producer won't have links generated.
t/media-active-model/40-prefetch-req.t .. ok
TestSchema::Result::Artist relationship cds_90s has coderef-based condition which is not handled yet - unknown crosstable_cond_key
t/media-hal/10-basics-req.t ............. ok
TestSchema::Result::Artist relationship cds_90s has coderef-based condition which is not handled yet - unknown crosstable_cond_key
t/media-hal/11-paging-req.t ............. ok
TestSchema::Result::Artist relationship cds_90s has coderef-based condition which is not handled yet - unknown crosstable_cond_key
t/media-hal/12-searching-req.t .......... ok
TestSchema::Result::Artist relationship cds_90s has coderef-based condition which is not handled yet - unknown crosstable_cond_key
t/media-hal/13-fields-req.t ............. ok
t/media-hal/14-distinct-req.t ........... ok
t/media-hal/30-ordering-req.t ........... ok
TestSchema::Result::Artist relationship cds_90s has coderef-based condition which is not handled yet - unknown crosstable_cond_key
t/media-hal/40-prefetch-req.t ........... ok
TestSchema::Result::Artist relationship cds_90s has coderef-based condition which is not handled yet - unknown crosstable_cond_key
t/media-hal/50-modify-req.t ............. ok
TestSchema::Result::Track relationship next_tracks has coderef-based condition which is not handled yet - unknown crosstable_cond_key
t/media-hal/52-post_rel-req.t ........... ok
TestSchema::Result::Track relationship next_tracks has coderef-based condition which is not handled yet - unknown crosstable_cond_key
t/media-hal/53-put_rel-req.t ............ ok
t/media-hal/90-root-req.t ............... ok
t/media-jsonapi/10-basics-req.t ......... ok
Result class TestSchema::Result::CD_to_Producer has multiple keys (cd producer) so relations like cd_to_producer won't have links generated.
t/media-jsonapi/40-prefetch-req.t ....... ok
t/release-pod-syntax.t .................. skipped: these tests are for release candidate testing
All tests successful.
Files=27, Tests=151, 62 wallclock secs ( 0.15 usr  0.08 sys + 37.48 cusr  5.28 csys = 42.99 CPU)
Result: PASS

------------------------------
PREREQUISITES
------------------------------

Prerequisite modules loaded:

requires:

    Module                      Need                 Have    
    --------------------------- -------------------- --------
    Alien::Web::HalBrowser      0                    1       
    Data::Dumper::Concise       0                    2.023   
    DBD::SQLite                 1.46                 1.72    
    DBIx::Class                 0.08250              0.082843
    HTTP::Headers::ActionPack   0                    0.09    
    HTTP::Throwable             0                    0.028   
    JSON::MaybeXS               0                    1.004004
    Lingua::EN::Inflect         1.894                1.905   
    Lingua::EN::Inflect::Number 1.11                 1.12    
    List::MoreUtils             0.408                0.430   
    List::Util                  0                    1.63    
    Module::Runtime             0                    0.016   
    Moo                         1.001000             2.005005
    MooX::StrictConstructor     0.006                0.011   
    namespace::clean            0.25                 0.27    
    parent                      0                    0.241   
    Path::Router                0.14                 0.15    
    perl                        5.010                5.037010
    Plack                       1.0033               1.0050  
    Plack::App::File            0                    0       
    Plack::App::Path::Router    0.08                 0.08    
    Safe::Isa                   0                    1.000010
    Scalar::Util                0                    1.63    
    SQL::Translator             0.11018              1.63    
    String::CamelCase           0                    0.04    
    Sub::Exporter               0                    0.989   
    Sub::Quote                  0                    2.006008
    Sub::Util                   0                    1.63    
    Try::Tiny                   0                    0.31    
    URI                         0                    5.17    
    Web::Machine                0.15                 0.17    

build_requires:

    Module                      Need                 Have    
    --------------------------- -------------------- --------
    autodie                     0                    2.36    
    Cpanel::JSON::XS            >= 3.0110, != 3.0112 4.36    
    Data::Printer               0                    1.001000
    DBIx::Class::Fixtures       1.001025             1.001039
    ExtUtils::MakeMaker         0                    7.70    
    Module::Pluggable           0                    5.2     
    Sort::Key                   0                    1.33    
    Test::Compile               v1.1.0               v3.1.1  
    Test::DBIx::Class           0.43                 0.52    
    Test::HTTP::Response        0                    0.06    
    Test::More                  0.98                 1.302194
    Test::Most                  0                    0.38    
    Test::Pod                   0                    1.52    
    ToolSet                     0                    1.03    

configure_requires:

    Module                      Need                 Have    
    --------------------------- -------------------- --------
    ExtUtils::MakeMaker         0                    7.70    


------------------------------
ENVIRONMENT AND OTHER CONTEXT
------------------------------

Environment variables:

    AUTOMATED_TESTING = 1
    LANG = en_US.UTF-8
    LC_ADDRESS = de_DE.UTF-8
    LC_IDENTIFICATION = de_DE.UTF-8
    LC_MEASUREMENT = de_DE.UTF-8
    LC_MONETARY = de_DE.UTF-8
    LC_NAME = de_DE.UTF-8
    LC_NUMERIC = de_DE.UTF-8
    LC_PAPER = de_DE.UTF-8
    LC_TELEPHONE = de_DE.UTF-8
    LC_TIME = de_DE.UTF-8
    PATH = /home/sand/bin:/usr/local/bin:/usr/local/sbin:/usr/sbin:/usr/bin:/sbin:/bin:/usr/games:/usr/local/games:/snap/bin:/usr/local/perl/bin:/usr/X11/bin
    PERL = /tmp/basesmoker-reloperl-ABGN/bin/perl
    PERL5LIB = /tmp/loop_over_bdir-95083-HAJg94/Business-Shipping-DataFiles-1.02-0/blib/arch:/tmp/loop_over_bdir-95083-HAJg94/Business-Shipping-DataFiles-1.02-0/blib/lib:/tmp/loop_over_bdir-95083-HAJg94/ProjectBuilder-0.14.1-0/blib/arch:/tmp/loop_over_bdir-95083-HAJg94/ProjectBuilder-0.14.1-0/blib/lib:/tmp/loop_over_bdir-95083-HAJg94/Simulation-Automate-1.0.1-0/blib/arch:/tmp/loop_over_bdir-95083-HAJg94/Simulation-Automate-1.0.1-0/blib/lib:/tmp/loop_over_bdir-95083-HAJg94/RDF-NLP-SPARQLQuery-0.1-0/blib/arch:/tmp/loop_over_bdir-95083-HAJg94/RDF-NLP-SPARQLQuery-0.1-0/blib/lib:/tmp/loop_over_bdir-95083-HAJg94/EJBCA-CrlPublish-0.60-0/blib/arch:/tmp/loop_over_bdir-95083-HAJg94/EJBCA-CrlPublish-0.60-0/blib/lib:/tmp/loop_over_bdir-95083-HAJg94/shishi-0.0.1-0/blib/arch:/tmp/loop_over_bdir-95083-HAJg94/shishi-0.0.1-0/blib/lib:/tmp/loop_over_bdir-95083-HAJg94/Dpkg-1.21.19-0/blib/arch:/tmp/loop_over_bdir-95083-HAJg94/Dpkg-1.21.19-0/blib/lib:/tmp/loop_over_bdir-95083-HAJg94/perl-Hardware-UPS-Perl-0.43-0/blib/arch:/tmp/loop_over_bdir-95083-HAJg94/perl-Hardware-UPS-Perl-0.43-0/blib/lib:/tmp/loop_over_bdir-95083-HAJg94/HTML-Menu-TreeView-1.22-0/blib/arch:/tmp/loop_over_bdir-95083-HAJg94/HTML-Menu-TreeView-1.22-0/blib/lib:/tmp/loop_over_bdir-95083-HAJg94/Net-OpenVPN-DDNS-0.1-0/blib/arch:/tmp/loop_over_bdir-95083-HAJg94/Net-OpenVPN-DDNS-0.1-0/blib/lib:/tmp/loop_over_bdir-95083-HAJg94/Devel-Required-0.16-0/blib/arch:/tmp/loop_over_bdir-95083-HAJg94/Devel-Required-0.16-0/blib/lib:/tmp/loop_over_bdir-95083-HAJg94/MP3-PodcastFetch-1.05-0/blib/arch:/tmp/loop_over_bdir-95083-HAJg94/MP3-PodcastFetch-1.05-0/blib/lib:/tmp/loop_over_bdir-95083-HAJg94/Linux-InitFS-0.2-0/blib/arch:/tmp/loop_over_bdir-95083-HAJg94/Linux-InitFS-0.2-0/blib/lib
    PERL5OPT = 
    PERL5_CPANPLUS_IS_RUNNING = 95091
    PERL5_CPAN_IS_RUNNING = 95091
    PERL_CANARY_STABILITY_NOPROMPT = 1
    PERL_MM_USE_DEFAULT = 1
    PERL_USE_UNSAFE_INC = 1
    SHELL = /usr/bin/zsh
    TERM = screen

Perl special variables (and OS-specific diagnostics, for MSWin32):

    $^X = /tmp/basesmoker-reloperl-ABGN/bin/perl
    $UID/$EUID = 1005 / 1005
    $GID = 1005 1005
    $EGID = 1005 1005

Perl module toolchain versions installed:

    Module              Have    
    ------------------- --------
    CPAN                2.34    
    CPAN::Meta          2.150010
    Cwd                 3.89    
    ExtUtils::CBuilder  0.280238
    ExtUtils::Command   7.70    
    ExtUtils::Install   2.22    
    ExtUtils::MakeMaker 7.70    
    ExtUtils::Manifest  1.73    
    ExtUtils::ParseXS   3.49    
    File::Spec          3.88    
    JSON                4.10    
    JSON::PP            4.16    
    Module::Build       0.4232  
    Module::Signature   0.88    
    Parse::CPAN::Meta   2.150010
    Test::Harness       3.44    
    Test::More          1.302194
    YAML                1.30    
    YAML::Syck          1.34    
    version             0.9929  


--

Summary of my perl5 (revision 5 version 37 subversion 10) configuration:
  Commit id: d62f5d9eddd273f5a82c0dbad932a8f4d18f9488
  Platform:
    osname=linux
    osvers=5.19.0-38-generic
    archname=x86_64-linux-thread-multi
    uname='linux k93jammy 5.19.0-38-generic #39~22.04.1-ubuntu smp preempt_dynamic fri mar 17 21:16:15 utc 2 x86_64 x86_64 x86_64 gnulinux '
    config_args='-Dprefix=/home/sand/src/perl/repoperls/installed-perls/host/k93jammy/v5.37.10/b4f3 -Dmyhostname=k93jammy -Dinstallusrbinperl=n -Uversiononly -Dusedevel -des -Ui_db -Dlibswanted=cl pthread socket inet nsl gdbm dbm malloc dl ld sun m crypt sec util c cposix posix ucb BSD gdbm_compat -Duseithreads -Uuselongdouble -DEBUGGING=-g'
    hint=recommended
    useposix=true
    d_sigaction=define
    useithreads=define
    usemultiplicity=define
    use64bitint=define
    use64bitall=define
    uselongdouble=undef
    usemymalloc=n
    default_inc_excludes_dot=define
  Compiler:
    cc='cc'
    ccflags ='-D_REENTRANT -D_GNU_SOURCE -fwrapv -fno-strict-aliasing -pipe -fstack-protector-strong -I/usr/local/include -D_LARGEFILE_SOURCE -D_FILE_OFFSET_BITS=64'
    optimize='-O2 -g'
    cppflags='-D_REENTRANT -D_GNU_SOURCE -fwrapv -fno-strict-aliasing -pipe -fstack-protector-strong -I/usr/local/include'
    ccversion=''
    gccversion='11.3.0'
    gccosandvers=''
    intsize=4
    longsize=8
    ptrsize=8
    doublesize=8
    byteorder=12345678
    doublekind=3
    d_longlong=define
    longlongsize=8
    d_longdbl=define
    longdblsize=16
    longdblkind=3
    ivtype='long'
    ivsize=8
    nvtype='double'
    nvsize=8
    Off_t='off_t'
    lseeksize=8
    alignbytes=8
    prototype=define
  Linker and Libraries:
    ld='cc'
    ldflags =' -fstack-protector-strong -L/usr/local/lib'
    libpth=/usr/local/lib /usr/lib/x86_64-linux-gnu /usr/lib /usr/lib64
    libs=-lpthread -lnsl -ldl -lm -lcrypt -lutil -lc
    perllibs=-lpthread -lnsl -ldl -lm -lcrypt -lutil -lc
    libc=/lib/x86_64-linux-gnu/libc.so.6
    so=so
    useshrplib=false
    libperl=libperl.a
    gnulibc_version='2.35'
  Dynamic Linking:
    dlsrc=dl_dlopen.xs
    dlext=so
    d_dlsymun=undef
    ccdlflags='-Wl,-E'
    cccdlflags='-fPIC'
    lddlflags='-shared -O2 -g -L/usr/local/lib -fstack-protector-strong'


Characteristics of this binary (from libperl): 
  Compile-time options:
    HAS_TIMES
    MULTIPLICITY
    PERLIO_LAYERS
    PERL_COPY_ON_WRITE
    PERL_DONT_CREATE_GVSV
    PERL_HASH_FUNC_SIPHASH13
    PERL_HASH_USE_SBOX32
    PERL_MALLOC_WRAP
    PERL_OP_PARENT
    PERL_PRESERVE_IVUV
    PERL_USE_DEVEL
    PERL_USE_SAFE_PUTENV
    USE_64_BIT_ALL
    USE_64_BIT_INT
    USE_ITHREADS
    USE_LARGE_FILES
    USE_LOCALE
    USE_LOCALE_COLLATE
    USE_LOCALE_CTYPE
    USE_LOCALE_NUMERIC
    USE_LOCALE_TIME
    USE_PERLIO
    USE_PERL_ATOF
    USE_REENTRANT_API
    USE_THREAD_SAFE_LOCALE
  Built under linux
  Compiled at Apr  1 2023 07:03:51
  %ENV:
    PERL="/tmp/basesmoker-reloperl-ABGN/bin/perl"
    PERL5LIB="/tmp/loop_over_bdir-95083-HAJg94/Business-Shipping-DataFiles-1.02-0/blib/arch:/tmp/loop_over_bdir-95083-HAJg94/Business-Shipping-DataFiles-1.02-0/blib/lib:/tmp/loop_over_bdir-95083-HAJg94/ProjectBuilder-0.14.1-0/blib/arch:/tmp/loop_over_bdir-95083-HAJg94/ProjectBuilder-0.14.1-0/blib/lib:/tmp/loop_over_bdir-95083-HAJg94/Simulation-Automate-1.0.1-0/blib/arch:/tmp/loop_over_bdir-95083-HAJg94/Simulation-Automate-1.0.1-0/blib/lib:/tmp/loop_over_bdir-95083-HAJg94/RDF-NLP-SPARQLQuery-0.1-0/blib/arch:/tmp/loop_over_bdir-95083-HAJg94/RDF-NLP-SPARQLQuery-0.1-0/blib/lib:/tmp/loop_over_bdir-95083-HAJg94/EJBCA-CrlPublish-0.60-0/blib/arch:/tmp/loop_over_bdir-95083-HAJg94/EJBCA-CrlPublish-0.60-0/blib/lib:/tmp/loop_over_bdir-95083-HAJg94/shishi-0.0.1-0/blib/arch:/tmp/loop_over_bdir-95083-HAJg94/shishi-0.0.1-0/blib/lib:/tmp/loop_over_bdir-95083-HAJg94/Dpkg-1.21.19-0/blib/arch:/tmp/loop_over_bdir-95083-HAJg94/Dpkg-1.21.19-0/blib/lib:/tmp/loop_over_bdir-95083-HAJg94/perl-Hardware-UPS-Perl-0.43-0/blib/arch:/tmp/loop_over_bdir-95083-HAJg94/perl-Hardware-UPS-Perl-0.43-0/blib/lib:/tmp/loop_over_bdir-95083-HAJg94/HTML-Menu-TreeView-1.22-0/blib/arch:/tmp/loop_over_bdir-95083-HAJg94/HTML-Menu-TreeView-1.22-0/blib/lib:/tmp/loop_over_bdir-95083-HAJg94/Net-OpenVPN-DDNS-0.1-0/blib/arch:/tmp/loop_over_bdir-95083-HAJg94/Net-OpenVPN-DDNS-0.1-0/blib/lib:/tmp/loop_over_bdir-95083-HAJg94/Devel-Required-0.16-0/blib/arch:/tmp/loop_over_bdir-95083-HAJg94/Devel-Required-0.16-0/blib/lib:/tmp/loop_over_bdir-95083-HAJg94/MP3-PodcastFetch-1.05-0/blib/arch:/tmp/loop_over_bdir-95083-HAJg94/MP3-PodcastFetch-1.05-0/blib/lib:/tmp/loop_over_bdir-95083-HAJg94/Linux-InitFS-0.2-0/blib/arch:/tmp/loop_over_bdir-95083-HAJg94/Linux-InitFS-0.2-0/blib/lib"
    PERL5OPT=""
    PERL5_CPANPLUS_IS_RUNNING="95091"
    PERL5_CPAN_IS_RUNNING="95091"
    PERL_CANARY_STABILITY_NOPROMPT="1"
    PERL_MM_USE_DEFAULT="1"
    PERL_USE_UNSAFE_INC="1"
  @INC:
    /tmp/loop_over_bdir-95083-HAJg94/Business-Shipping-DataFiles-1.02-0/blib/arch
    /tmp/loop_over_bdir-95083-HAJg94/Business-Shipping-DataFiles-1.02-0/blib/lib
    /tmp/loop_over_bdir-95083-HAJg94/ProjectBuilder-0.14.1-0/blib/arch
    /tmp/loop_over_bdir-95083-HAJg94/ProjectBuilder-0.14.1-0/blib/lib
    /tmp/loop_over_bdir-95083-HAJg94/Simulation-Automate-1.0.1-0/blib/arch
    /tmp/loop_over_bdir-95083-HAJg94/Simulation-Automate-1.0.1-0/blib/lib
    /tmp/loop_over_bdir-95083-HAJg94/RDF-NLP-SPARQLQuery-0.1-0/blib/arch
    /tmp/loop_over_bdir-95083-HAJg94/RDF-NLP-SPARQLQuery-0.1-0/blib/lib
    /tmp/loop_over_bdir-95083-HAJg94/EJBCA-CrlPublish-0.60-0/blib/arch
    /tmp/loop_over_bdir-95083-HAJg94/EJBCA-CrlPublish-0.60-0/blib/lib
    /tmp/loop_over_bdir-95083-HAJg94/shishi-0.0.1-0/blib/arch
    /tmp/loop_over_bdir-95083-HAJg94/shishi-0.0.1-0/blib/lib
    /tmp/loop_over_bdir-95083-HAJg94/Dpkg-1.21.19-0/blib/arch
    /tmp/loop_over_bdir-95083-HAJg94/Dpkg-1.21.19-0/blib/lib
    /tmp/loop_over_bdir-95083-HAJg94/perl-Hardware-UPS-Perl-0.43-0/blib/arch
    /tmp/loop_over_bdir-95083-HAJg94/perl-Hardware-UPS-Perl-0.43-0/blib/lib
    /tmp/loop_over_bdir-95083-HAJg94/HTML-Menu-TreeView-1.22-0/blib/arch
    /tmp/loop_over_bdir-95083-HAJg94/HTML-Menu-TreeView-1.22-0/blib/lib
    /tmp/loop_over_bdir-95083-HAJg94/Net-OpenVPN-DDNS-0.1-0/blib/arch
    /tmp/loop_over_bdir-95083-HAJg94/Net-OpenVPN-DDNS-0.1-0/blib/lib
    /tmp/loop_over_bdir-95083-HAJg94/Devel-Required-0.16-0/blib/arch
    /tmp/loop_over_bdir-95083-HAJg94/Devel-Required-0.16-0/blib/lib
    /tmp/loop_over_bdir-95083-HAJg94/MP3-PodcastFetch-1.05-0/blib/arch
    /tmp/loop_over_bdir-95083-HAJg94/MP3-PodcastFetch-1.05-0/blib/lib
    /tmp/loop_over_bdir-95083-HAJg94/Linux-InitFS-0.2-0/blib/arch
    /tmp/loop_over_bdir-95083-HAJg94/Linux-InitFS-0.2-0/blib/lib
    /home/sand/src/perl/repoperls/installed-perls/host/k93jammy/v5.37.10/b4f3/lib/site_perl/5.37.10/x86_64-linux-thread-multi
    /home/sand/src/perl/repoperls/installed-perls/host/k93jammy/v5.37.10/b4f3/lib/site_perl/5.37.10
    /home/sand/src/perl/repoperls/installed-perls/host/k93jammy/v5.37.10/b4f3/lib/5.37.10/x86_64-linux-thread-multi
    /home/sand/src/perl/repoperls/installed-perls/host/k93jammy/v5.37.10/b4f3/lib/5.37.10
    .