Report for XML-ExtOn-0.17

Back
From: metabase:user:322078bc-2aae-11df-837a-5e0a49663a4f
Subject: PASS XML-ExtOn-0.17 v5.14.1 NetBSD
Date: 2011-10-28T05:09:10Z

This distribution has been tested as part of the CPAN Testers
project, supporting the Perl programming language.  See
http://wiki.cpantesters.org/ for more information or email
questions to cpan-testers-discuss@perl.org


--

Dear Zahatski Aliaksandr,

This is a computer-generated error report created automatically by
CPANPLUS, version 0.9111. Testers personal comments may appear
at the end of this report.

MAKE TEST passed:
t/008_TieAttrs.t .......... ok
t/009_Attributes.t ........ ok
t/009_Context.t ........... ok
t/010_Element.t ........... ok
Use of uninitialized value $uri in concatenation (.) or string at /home/cpan/pit/64bit/conf/perl-5.14.1/.cpanplus/5.14.1/build/XML-Filter-SAX1toSAX2-0.03/blib/lib/XML/Filter/SAX1toSAX2.pm line 81.
Use of uninitialized value in substitution iterator at /home/cpan/pit/64bit/conf/perl-5.14.1/.cpanplus/5.14.1/build/XML-SAX-Writer-0.53/blib/lib/XML/SAX/Writer.pm line 152.
Use of uninitialized value in substitution iterator at /home/cpan/pit/64bit/conf/perl-5.14.1/.cpanplus/5.14.1/build/XML-SAX-Writer-0.53/blib/lib/XML/SAX/Writer.pm line 152.
Use of uninitialized value in substitution iterator at /home/cpan/pit/64bit/conf/perl-5.14.1/.cpanplus/5.14.1/build/XML-SAX-Writer-0.53/blib/lib/XML/SAX/Writer.pm line 152.
Use of uninitialized value in substitution iterator at /home/cpan/pit/64bit/conf/perl-5.14.1/.cpanplus/5.14.1/build/XML-SAX-Writer-0.53/blib/lib/XML/SAX/Writer.pm line 152.
Use of uninitialized value in substitution iterator at /home/cpan/pit/64bit/conf/perl-5.14.1/.cpanplus/5.14.1/build/XML-SAX-Writer-0.53/blib/lib/XML/SAX/Writer.pm line 152.
Use of uninitialized value in substitution iterator at /home/cpan/pit/64bit/conf/perl-5.14.1/.cpanplus/5.14.1/build/XML-SAX-Writer-0.53/blib/lib/XML/SAX/Writer.pm line 152.
Use of uninitialized value in substitution iterator at /home/cpan/pit/64bit/conf/perl-5.14.1/.cpanplus/5.14.1/build/XML-SAX-Writer-0.53/blib/lib/XML/SAX/Writer.pm line 152.
Use of uninitialized value in substitution iterator at /home/cpan/pit/64bit/conf/perl-5.14.1/.cpanplus/5.14.1/build/XML-SAX-Writer-0.53/blib/lib/XML/SAX/Writer.pm line 152.
Use of uninitialized value in substitution iterator at /home/cpan/pit/64bit/conf/perl-5.14.1/.cpanplus/5.14.1/build/XML-SAX-Writer-0.53/blib/lib/XML/SAX/Writer.pm line 152.
Use of uninitialized value in substitution iterator at /home/cpan/pit/64bit/conf/perl-5.14.1/.cpanplus/5.14.1/build/XML-SAX-Writer-0.53/blib/lib/XML/SAX/Writer.pm line 152.
Use of uninitialized value in substitution iterator at /home/cpan/pit/64bit/conf/perl-5.14.1/.cpanplus/5.14.1/build/XML-SAX-Writer-0.53/blib/lib/XML/SAX/Writer.pm line 152.
Use of uninitialized value in substitution iterator at /home/cpan/pit/64bit/conf/perl-5.14.1/.cpanplus/5.14.1/build/XML-SAX-Writer-0.53/blib/lib/XML/SAX/Writer.pm line 152.
Use of uninitialized value in substitution iterator at /home/cpan/pit/64bit/conf/perl-5.14.1/.cpanplus/5.14.1/build/XML-SAX-Writer-0.53/blib/lib/XML/SAX/Writer.pm line 152.
Use of uninitialized value in substitution iterator at /home/cpan/pit/64bit/conf/perl-5.14.1/.cpanplus/5.14.1/build/XML-SAX-Writer-0.53/blib/lib/XML/SAX/Writer.pm line 152.
Use of uninitialized value in substitution iterator at /home/cpan/pit/64bit/conf/perl-5.14.1/.cpanplus/5.14.1/build/XML-SAX-Writer-0.53/blib/lib/XML/SAX/Writer.pm line 152.
Use of uninitialized value in substitution iterator at /home/cpan/pit/64bit/conf/perl-5.14.1/.cpanplus/5.14.1/build/XML-SAX-Writer-0.53/blib/lib/XML/SAX/Writer.pm line 152.
Use of uninitialized value in substitution iterator at /home/cpan/pit/64bit/conf/perl-5.14.1/.cpanplus/5.14.1/build/XML-SAX-Writer-0.53/blib/lib/XML/SAX/Writer.pm line 152.
Use of uninitialized value in substitution iterator at /home/cpan/pit/64bit/conf/perl-5.14.1/.cpanplus/5.14.1/build/XML-SAX-Writer-0.53/blib/lib/XML/SAX/Writer.pm line 152.
Use of uninitialized value in substitution iterator at /home/cpan/pit/64bit/conf/perl-5.14.1/.cpanplus/5.14.1/build/XML-SAX-Writer-0.53/blib/lib/XML/SAX/Writer.pm line 152.
Use of uninitialized value in substitution iterator at /home/cpan/pit/64bit/conf/perl-5.14.1/.cpanplus/5.14.1/build/XML-SAX-Writer-0.53/blib/lib/XML/SAX/Writer.pm line 152.
Use of uninitialized value in substitution iterator at /home/cpan/pit/64bit/conf/perl-5.14.1/.cpanplus/5.14.1/build/XML-SAX-Writer-0.53/blib/lib/XML/SAX/Writer.pm line 152.
Use of uninitialized value in substitution iterator at /home/cpan/pit/64bit/conf/perl-5.14.1/.cpanplus/5.14.1/build/XML-SAX-Writer-0.53/blib/lib/XML/SAX/Writer.pm line 152.
Use of uninitialized value in substitution iterator at /home/cpan/pit/64bit/conf/perl-5.14.1/.cpanplus/5.14.1/build/XML-SAX-Writer-0.53/blib/lib/XML/SAX/Writer.pm line 152.
Use of uninitialized value in substitution iterator at /home/cpan/pit/64bit/conf/perl-5.14.1/.cpanplus/5.14.1/build/XML-SAX-Writer-0.53/blib/lib/XML/SAX/Writer.pm line 152.
Use of uninitialized value in substitution iterator at /home/cpan/pit/64bit/conf/perl-5.14.1/.cpanplus/5.14.1/build/XML-SAX-Writer-0.53/blib/lib/XML/SAX/Writer.pm line 152.
Use of uninitialized value in substitution iterator at /home/cpan/pit/64bit/conf/perl-5.14.1/.cpanplus/5.14.1/build/XML-SAX-Writer-0.53/blib/lib/XML/SAX/Writer.pm line 152.
Use of uninitialized value in substitution iterator at /home/cpan/pit/64bit/conf/perl-5.14.1/.cpanplus/5.14.1/build/XML-SAX-Writer-0.53/blib/lib/XML/SAX/Writer.pm line 152.
Use of uninitialized value in substitution iterator at /home/cpan/pit/64bit/conf/perl-5.14.1/.cpanplus/5.14.1/build/XML-SAX-Writer-0.53/blib/lib/XML/SAX/Writer.pm line 152.
Use of uninitialized value in substitution iterator at /home/cpan/pit/64bit/conf/perl-5.14.1/.cpanplus/5.14.1/build/XML-SAX-Writer-0.53/blib/lib/XML/SAX/Writer.pm line 152.
Use of uninitialized value in substitution iterator at /home/cpan/pit/64bit/conf/perl-5.14.1/.cpanplus/5.14.1/build/XML-SAX-Writer-0.53/blib/lib/XML/SAX/Writer.pm line 152.
Use of uninitialized value in substitution iterator at /home/cpan/pit/64bit/conf/perl-5.14.1/.cpanplus/5.14.1/build/XML-SAX-Writer-0.53/blib/lib/XML/SAX/Writer.pm line 152.
Use of uninitialized value in substitution iterator at /home/cpan/pit/64bit/conf/perl-5.14.1/.cpanplus/5.14.1/build/XML-SAX-Writer-0.53/blib/lib/XML/SAX/Writer.pm line 152.
Use of uninitialized value in substitution iterator at /home/cpan/pit/64bit/conf/perl-5.14.1/.cpanplus/5.14.1/build/XML-SAX-Writer-0.53/blib/lib/XML/SAX/Writer.pm line 152.
Use of uninitialized value in substitution iterator at /home/cpan/pit/64bit/conf/perl-5.14.1/.cpanplus/5.14.1/build/XML-SAX-Writer-0.53/blib/lib/XML/SAX/Writer.pm line 152.
Use of uninitialized value in substitution iterator at /home/cpan/pit/64bit/conf/perl-5.14.1/.cpanplus/5.14.1/build/XML-SAX-Writer-0.53/blib/lib/XML/SAX/Writer.pm line 152.
Use of uninitialized value in substitution iterator at /home/cpan/pit/64bit/conf/perl-5.14.1/.cpanplus/5.14.1/build/XML-SAX-Writer-0.53/blib/lib/XML/SAX/Writer.pm line 152.
Use of uninitialized value in substitution iterator at /home/cpan/pit/64bit/conf/perl-5.14.1/.cpanplus/5.14.1/build/XML-SAX-Writer-0.53/blib/lib/XML/SAX/Writer.pm line 152.
Use of uninitialized value in substitution iterator at /home/cpan/pit/64bit/conf/perl-5.14.1/.cpanplus/5.14.1/build/XML-SAX-Writer-0.53/blib/lib/XML/SAX/Writer.pm line 152.
Use of uninitialized value in substitution iterator at /home/cpan/pit/64bit/conf/perl-5.14.1/.cpanplus/5.14.1/build/XML-SAX-Writer-0.53/blib/lib/XML/SAX/Writer.pm line 152.
Use of uninitialized value in substitution iterator at /home/cpan/pit/64bit/conf/perl-5.14.1/.cpanplus/5.14.1/build/XML-SAX-Writer-0.53/blib/lib/XML/SAX/Writer.pm line 152.
Use of uninitialized value in substitution iterator at /home/cpan/pit/64bit/conf/perl-5.14.1/.cpanplus/5.14.1/build/XML-SAX-Writer-0.53/blib/lib/XML/SAX/Writer.pm line 152.
Use of uninitialized value in substitution iterator at /home/cpan/pit/64bit/conf/perl-5.14.1/.cpanplus/5.14.1/build/XML-SAX-Writer-0.53/blib/lib/XML/SAX/Writer.pm line 152.
Use of uninitialized value in substitution iterator at /home/cpan/pit/64bit/conf/perl-5.14.1/.cpanplus/5.14.1/build/XML-SAX-Writer-0.53/blib/lib/XML/SAX/Writer.pm line 152.
Use of uninitialized value in substitution iterator at /home/cpan/pit/64bit/conf/perl-5.14.1/.cpanplus/5.14.1/build/XML-SAX-Writer-0.53/blib/lib/XML/SAX/Writer.pm line 152.
Use of uninitialized value in substitution iterator at /home/cpan/pit/64bit/conf/perl-5.14.1/.cpanplus/5.14.1/build/XML-SAX-Writer-0.53/blib/lib/XML/SAX/Writer.pm line 152.
Use of uninitialized value in substitution iterator at /home/cpan/pit/64bit/conf/perl-5.14.1/.cpanplus/5.14.1/build/XML-SAX-Writer-0.53/blib/lib/XML/SAX/Writer.pm line 152.
Use of uninitialized value in substitution iterator at /home/cpan/pit/64bit/conf/perl-5.14.1/.cpanplus/5.14.1/build/XML-SAX-Writer-0.53/blib/lib/XML/SAX/Writer.pm line 152.
Use of uninitialized value in substitution iterator at /home/cpan/pit/64bit/conf/perl-5.14.1/.cpanplus/5.14.1/build/XML-SAX-Writer-0.53/blib/lib/XML/SAX/Writer.pm line 152.
Use of uninitialized value in substitution iterator at /home/cpan/pit/64bit/conf/perl-5.14.1/.cpanplus/5.14.1/build/XML-SAX-Writer-0.53/blib/lib/XML/SAX/Writer.pm line 152.
Use of uninitialized value in substitution iterator at /home/cpan/pit/64bit/conf/perl-5.14.1/.cpanplus/5.14.1/build/XML-SAX-Writer-0.53/blib/lib/XML/SAX/Writer.pm line 152.
Use of uninitialized value in substitution iterator at /home/cpan/pit/64bit/conf/perl-5.14.1/.cpanplus/5.14.1/build/XML-SAX-Writer-0.53/blib/lib/XML/SAX/Writer.pm line 152.
Use of uninitialized value in substitution iterator at /home/cpan/pit/64bit/conf/perl-5.14.1/.cpanplus/5.14.1/build/XML-SAX-Writer-0.53/blib/lib/XML/SAX/Writer.pm line 152.
Use of uninitialized value in substitution iterator at /home/cpan/pit/64bit/conf/perl-5.14.1/.cpanplus/5.14.1/build/XML-SAX-Writer-0.53/blib/lib/XML/SAX/Writer.pm line 152.
Use of uninitialized value in substitution iterator at /home/cpan/pit/64bit/conf/perl-5.14.1/.cpanplus/5.14.1/build/XML-SAX-Writer-0.53/blib/lib/XML/SAX/Writer.pm line 152.
Use of uninitialized value in substitution iterator at /home/cpan/pit/64bit/conf/perl-5.14.1/.cpanplus/5.14.1/build/XML-SAX-Writer-0.53/blib/lib/XML/SAX/Writer.pm line 152.
Use of uninitialized value $uri in concatenation (.) or string at /home/cpan/pit/64bit/conf/perl-5.14.1/.cpanplus/5.14.1/build/XML-Filter-SAX1toSAX2-0.03/blib/lib/XML/Filter/SAX1toSAX2.pm line 81.
Use of uninitialized value $uri in concatenation (.) or string at /home/cpan/pit/64bit/conf/perl-5.14.1/.cpanplus/5.14.1/build/XML-Filter-SAX1toSAX2-0.03/blib/lib/XML/Filter/SAX1toSAX2.pm line 81.
Use of uninitialized value in substitution iterator at /home/cpan/pit/64bit/conf/perl-5.14.1/.cpanplus/5.14.1/build/XML-SAX-Writer-0.53/blib/lib/XML/SAX/Writer.pm line 152.
Use of uninitialized value in substitution iterator at /home/cpan/pit/64bit/conf/perl-5.14.1/.cpanplus/5.14.1/build/XML-SAX-Writer-0.53/blib/lib/XML/SAX/Writer.pm line 152.
Use of uninitialized value in substitution iterator at /home/cpan/pit/64bit/conf/perl-5.14.1/.cpanplus/5.14.1/build/XML-SAX-Writer-0.53/blib/lib/XML/SAX/Writer.pm line 152.
Use of uninitialized value in substitution iterator at /home/cpan/pit/64bit/conf/perl-5.14.1/.cpanplus/5.14.1/build/XML-SAX-Writer-0.53/blib/lib/XML/SAX/Writer.pm line 152.
Use of uninitialized value in substitution iterator at /home/cpan/pit/64bit/conf/perl-5.14.1/.cpanplus/5.14.1/build/XML-SAX-Writer-0.53/blib/lib/XML/SAX/Writer.pm line 152.
Use of uninitialized value in substitution iterator at /home/cpan/pit/64bit/conf/perl-5.14.1/.cpanplus/5.14.1/build/XML-SAX-Writer-0.53/blib/lib/XML/SAX/Writer.pm line 152.
Use of uninitialized value in substitution iterator at /home/cpan/pit/64bit/conf/perl-5.14.1/.cpanplus/5.14.1/build/XML-SAX-Writer-0.53/blib/lib/XML/SAX/Writer.pm line 152.
Use of uninitialized value in substitution iterator at /home/cpan/pit/64bit/conf/perl-5.14.1/.cpanplus/5.14.1/build/XML-SAX-Writer-0.53/blib/lib/XML/SAX/Writer.pm line 152.
Use of uninitialized value in substitution iterator at /home/cpan/pit/64bit/conf/perl-5.14.1/.cpanplus/5.14.1/build/XML-SAX-Writer-0.53/blib/lib/XML/SAX/Writer.pm line 152.
Use of uninitialized value in substitution iterator at /home/cpan/pit/64bit/conf/perl-5.14.1/.cpanplus/5.14.1/build/XML-SAX-Writer-0.53/blib/lib/XML/SAX/Writer.pm line 152.
Use of uninitialized value $uri in concatenation (.) or string at /home/cpan/pit/64bit/conf/perl-5.14.1/.cpanplus/5.14.1/build/XML-Filter-SAX1toSAX2-0.03/blib/lib/XML/Filter/SAX1toSAX2.pm line 81.
Use of uninitialized value in substitution iterator at /home/cpan/pit/64bit/conf/perl-5.14.1/.cpanplus/5.14.1/build/XML-SAX-Writer-0.53/blib/lib/XML/SAX/Writer.pm line 152.
Use of uninitialized value in substitution iterator at /home/cpan/pit/64bit/conf/perl-5.14.1/.cpanplus/5.14.1/build/XML-SAX-Writer-0.53/blib/lib/XML/SAX/Writer.pm line 152.
Use of uninitialized value in substitution iterator at /home/cpan/pit/64bit/conf/perl-5.14.1/.cpanplus/5.14.1/build/XML-SAX-Writer-0.53/blib/lib/XML/SAX/Writer.pm line 152.
Use of uninitialized value in substitution iterator at /home/cpan/pit/64bit/conf/perl-5.14.1/.cpanplus/5.14.1/build/XML-SAX-Writer-0.53/blib/lib/XML/SAX/Writer.pm line 152.
Use of uninitialized value in substitution iterator at /home/cpan/pit/64bit/conf/perl-5.14.1/.cpanplus/5.14.1/build/XML-SAX-Writer-0.53/blib/lib/XML/SAX/Writer.pm line 152.
Use of uninitialized value in substitution iterator at /home/cpan/pit/64bit/conf/perl-5.14.1/.cpanplus/5.14.1/build/XML-SAX-Writer-0.53/blib/lib/XML/SAX/Writer.pm line 152.
Use of uninitialized value in substitution iterator at /home/cpan/pit/64bit/conf/perl-5.14.1/.cpanplus/5.14.1/build/XML-SAX-Writer-0.53/blib/lib/XML/SAX/Writer.pm line 152.
Use of uninitialized value in substitution iterator at /home/cpan/pit/64bit/conf/perl-5.14.1/.cpanplus/5.14.1/build/XML-SAX-Writer-0.53/blib/lib/XML/SAX/Writer.pm line 152.
Use of uninitialized value in substitution iterator at /home/cpan/pit/64bit/conf/perl-5.14.1/.cpanplus/5.14.1/build/XML-SAX-Writer-0.53/blib/lib/XML/SAX/Writer.pm line 152.
Use of uninitialized value in substitution iterator at /home/cpan/pit/64bit/conf/perl-5.14.1/.cpanplus/5.14.1/build/XML-SAX-Writer-0.53/blib/lib/XML/SAX/Writer.pm line 152.
Use of uninitialized value in substitution iterator at /home/cpan/pit/64bit/conf/perl-5.14.1/.cpanplus/5.14.1/build/XML-SAX-Writer-0.53/blib/lib/XML/SAX/Writer.pm line 152.
Use of uninitialized value in substitution iterator at /home/cpan/pit/64bit/conf/perl-5.14.1/.cpanplus/5.14.1/build/XML-SAX-Writer-0.53/blib/lib/XML/SAX/Writer.pm line 152.
Use of uninitialized value in substitution iterator at /home/cpan/pit/64bit/conf/perl-5.14.1/.cpanplus/5.14.1/build/XML-SAX-Writer-0.53/blib/lib/XML/SAX/Writer.pm line 152.
Use of uninitialized value in substitution iterator at /home/cpan/pit/64bit/conf/perl-5.14.1/.cpanplus/5.14.1/build/XML-SAX-Writer-0.53/blib/lib/XML/SAX/Writer.pm line 152.
Use of uninitialized value in substitution iterator at /home/cpan/pit/64bit/conf/perl-5.14.1/.cpanplus/5.14.1/build/XML-SAX-Writer-0.53/blib/lib/XML/SAX/Writer.pm line 152.
Use of uninitialized value in substitution iterator at /home/cpan/pit/64bit/conf/perl-5.14.1/.cpanplus/5.14.1/build/XML-SAX-Writer-0.53/blib/lib/XML/SAX/Writer.pm line 152.
Use of uninitialized value in substitution iterator at /home/cpan/pit/64bit/conf/perl-5.14.1/.cpanplus/5.14.1/build/XML-SAX-Writer-0.53/blib/lib/XML/SAX/Writer.pm line 152.
Use of uninitialized value in substitution iterator at /home/cpan/pit/64bit/conf/perl-5.14.1/.cpanplus/5.14.1/build/XML-SAX-Writer-0.53/blib/lib/XML/SAX/Writer.pm line 152.
Use of uninitialized value in substitution iterator at /home/cpan/pit/64bit/conf/perl-5.14.1/.cpanplus/5.14.1/build/XML-SAX-Writer-0.53/blib/lib/XML/SAX/Writer.pm line 152.
Use of uninitialized value in substitution iterator at /home/cpan/pit/64bit/conf/perl-5.14.1/.cpanplus/5.14.1/build/XML-SAX-Writer-0.53/blib/lib/XML/SAX/Writer.pm line 152.
Use of uninitialized value in substitution iterator at /home/cpan/pit/64bit/conf/perl-5.14.1/.cpanplus/5.14.1/build/XML-SAX-Writer-0.53/blib/lib/XML/SAX/Writer.pm line 152.
Use of uninitialized value in substitution iterator at /home/cpan/pit/64bit/conf/perl-5.14.1/.cpanplus/5.14.1/build/XML-SAX-Writer-0.53/blib/lib/XML/SAX/Writer.pm line 152.
Use of uninitialized value in substitution iterator at /home/cpan/pit/64bit/conf/perl-5.14.1/.cpanplus/5.14.1/build/XML-SAX-Writer-0.53/blib/lib/XML/SAX/Writer.pm line 152.
Use of uninitialized value in substitution iterator at /home/cpan/pit/64bit/conf/perl-5.14.1/.cpanplus/5.14.1/build/XML-SAX-Writer-0.53/blib/lib/XML/SAX/Writer.pm line 152.
Use of uninitialized value in substitution iterator at /home/cpan/pit/64bit/conf/perl-5.14.1/.cpanplus/5.14.1/build/XML-SAX-Writer-0.53/blib/lib/XML/SAX/Writer.pm line 152.
Use of uninitialized value in substitution iterator at /home/cpan/pit/64bit/conf/perl-5.14.1/.cpanplus/5.14.1/build/XML-SAX-Writer-0.53/blib/lib/XML/SAX/Writer.pm line 152.
Use of uninitialized value in substitution iterator at /home/cpan/pit/64bit/conf/perl-5.14.1/.cpanplus/5.14.1/build/XML-SAX-Writer-0.53/blib/lib/XML/SAX/Writer.pm line 152.
Use of uninitialized value in substitution iterator at /home/cpan/pit/64bit/conf/perl-5.14.1/.cpanplus/5.14.1/build/XML-SAX-Writer-0.53/blib/lib/XML/SAX/Writer.pm line 152.
Use of uninitialized value in substitution iterator at /home/cpan/pit/64bit/conf/perl-5.14.1/.cpanplus/5.14.1/build/XML-SAX-Writer-0.53/blib/lib/XML/SAX/Writer.pm line 152.
Use of uninitialized value in substitution iterator at /home/cpan/pit/64bit/conf/perl-5.14.1/.cpanplus/5.14.1/build/XML-SAX-Writer-0.53/blib/lib/XML/SAX/Writer.pm line 152.
Use of uninitialized value in substitution iterator at /home/cpan/pit/64bit/conf/perl-5.14.1/.cpanplus/5.14.1/build/XML-SAX-Writer-0.53/blib/lib/XML/SAX/Writer.pm line 152.
Use of uninitialized value in substitution iterator at /home/cpan/pit/64bit/conf/perl-5.14.1/.cpanplus/5.14.1/build/XML-SAX-Writer-0.53/blib/lib/XML/SAX/Writer.pm line 152.
Use of uninitialized value in substitution iterator at /home/cpan/pit/64bit/conf/perl-5.14.1/.cpanplus/5.14.1/build/XML-SAX-Writer-0.53/blib/lib/XML/SAX/Writer.pm line 152.
Use of uninitialized value in substitution iterator at /home/cpan/pit/64bit/conf/perl-5.14.1/.cpanplus/5.14.1/build/XML-SAX-Writer-0.53/blib/lib/XML/SAX/Writer.pm line 152.
Use of uninitialized value in substitution iterator at /home/cpan/pit/64bit/conf/perl-5.14.1/.cpanplus/5.14.1/build/XML-SAX-Writer-0.53/blib/lib/XML/SAX/Writer.pm line 152.
Use of uninitialized value in substitution iterator at /home/cpan/pit/64bit/conf/perl-5.14.1/.cpanplus/5.14.1/build/XML-SAX-Writer-0.53/blib/lib/XML/SAX/Writer.pm line 152.
Use of uninitialized value in substitution iterator at /home/cpan/pit/64bit/conf/perl-5.14.1/.cpanplus/5.14.1/build/XML-SAX-Writer-0.53/blib/lib/XML/SAX/Writer.pm line 152.
Use of uninitialized value in substitution iterator at /home/cpan/pit/64bit/conf/perl-5.14.1/.cpanplus/5.14.1/build/XML-SAX-Writer-0.53/blib/lib/XML/SAX/Writer.pm line 152.
Use of uninitialized value in substitution iterator at /home/cpan/pit/64bit/conf/perl-5.14.1/.cpanplus/5.14.1/build/XML-SAX-Writer-0.53/blib/lib/XML/SAX/Writer.pm line 152.
Use of uninitialized value in substitution iterator at /home/cpan/pit/64bit/conf/perl-5.14.1/.cpanplus/5.14.1/build/XML-SAX-Writer-0.53/blib/lib/XML/SAX/Writer.pm line 152.
Use of uninitialized value in substitution iterator at /home/cpan/pit/64bit/conf/perl-5.14.1/.cpanplus/5.14.1/build/XML-SAX-Writer-0.53/blib/lib/XML/SAX/Writer.pm line 152.
Use of uninitialized value in substitution iterator at /home/cpan/pit/64bit/conf/perl-5.14.1/.cpanplus/5.14.1/build/XML-SAX-Writer-0.53/blib/lib/XML/SAX/Writer.pm line 152.
Use of uninitialized value in substitution iterator at /home/cpan/pit/64bit/conf/perl-5.14.1/.cpanplus/5.14.1/build/XML-SAX-Writer-0.53/blib/lib/XML/SAX/Writer.pm line 152.
Use of uninitialized value in substitution iterator at /home/cpan/pit/64bit/conf/perl-5.14.1/.cpanplus/5.14.1/build/XML-SAX-Writer-0.53/blib/lib/XML/SAX/Writer.pm line 152.
Use of uninitialized value in substitution iterator at /home/cpan/pit/64bit/conf/perl-5.14.1/.cpanplus/5.14.1/build/XML-SAX-Writer-0.53/blib/lib/XML/SAX/Writer.pm line 152.
Use of uninitialized value in substitution iterator at /home/cpan/pit/64bit/conf/perl-5.14.1/.cpanplus/5.14.1/build/XML-SAX-Writer-0.53/blib/lib/XML/SAX/Writer.pm line 152.
Use of uninitialized value in substitution iterator at /home/cpan/pit/64bit/conf/perl-5.14.1/.cpanplus/5.14.1/build/XML-SAX-Writer-0.53/blib/lib/XML/SAX/Writer.pm line 152.
Use of uninitialized value in substitution iterator at /home/cpan/pit/64bit/conf/perl-5.14.1/.cpanplus/5.14.1/build/XML-SAX-Writer-0.53/blib/lib/XML/SAX/Writer.pm line 152.
Use of uninitialized value in substitution iterator at /home/cpan/pit/64bit/conf/perl-5.14.1/.cpanplus/5.14.1/build/XML-SAX-Writer-0.53/blib/lib/XML/SAX/Writer.pm line 152.
Use of uninitialized value in substitution iterator at /home/cpan/pit/64bit/conf/perl-5.14.1/.cpanplus/5.14.1/build/XML-SAX-Writer-0.53/blib/lib/XML/SAX/Writer.pm line 152.
Use of uninitialized value in substitution iterator at /home/cpan/pit/64bit/conf/perl-5.14.1/.cpanplus/5.14.1/build/XML-SAX-Writer-0.53/blib/lib/XML/SAX/Writer.pm line 152.
Use of uninitialized value in substitution iterator at /home/cpan/pit/64bit/conf/perl-5.14.1/.cpanplus/5.14.1/build/XML-SAX-Writer-0.53/blib/lib/XML/SAX/Writer.pm line 152.
Use of uninitialized value in substitution iterator at /home/cpan/pit/64bit/conf/perl-5.14.1/.cpanplus/5.14.1/build/XML-SAX-Writer-0.53/blib/lib/XML/SAX/Writer.pm line 152.
Use of uninitialized value in substitution iterator at /home/cpan/pit/64bit/conf/perl-5.14.1/.cpanplus/5.14.1/build/XML-SAX-Writer-0.53/blib/lib/XML/SAX/Writer.pm line 152.
Use of uninitialized value in substitution iterator at /home/cpan/pit/64bit/conf/perl-5.14.1/.cpanplus/5.14.1/build/XML-SAX-Writer-0.53/blib/lib/XML/SAX/Writer.pm line 152.
Use of uninitialized value in substitution iterator at /home/cpan/pit/64bit/conf/perl-5.14.1/.cpanplus/5.14.1/build/XML-SAX-Writer-0.53/blib/lib/XML/SAX/Writer.pm line 152.
Use of uninitialized value in substitution iterator at /home/cpan/pit/64bit/conf/perl-5.14.1/.cpanplus/5.14.1/build/XML-SAX-Writer-0.53/blib/lib/XML/SAX/Writer.pm line 152.
Use of uninitialized value in substitution iterator at /home/cpan/pit/64bit/conf/perl-5.14.1/.cpanplus/5.14.1/build/XML-SAX-Writer-0.53/blib/lib/XML/SAX/Writer.pm line 152.
Use of uninitialized value $uri in concatenation (.) or string at /home/cpan/pit/64bit/conf/perl-5.14.1/.cpanplus/5.14.1/build/XML-Filter-SAX1toSAX2-0.03/blib/lib/XML/Filter/SAX1toSAX2.pm line 81.
Use of uninitialized value in substitution iterator at /home/cpan/pit/64bit/conf/perl-5.14.1/.cpanplus/5.14.1/build/XML-SAX-Writer-0.53/blib/lib/XML/SAX/Writer.pm line 152.
Use of uninitialized value in substitution iterator at /home/cpan/pit/64bit/conf/perl-5.14.1/.cpanplus/5.14.1/build/XML-SAX-Writer-0.53/blib/lib/XML/SAX/Writer.pm line 152.
Use of uninitialized value in substitution iterator at /home/cpan/pit/64bit/conf/perl-5.14.1/.cpanplus/5.14.1/build/XML-SAX-Writer-0.53/blib/lib/XML/SAX/Writer.pm line 152.
Use of uninitialized value in substitution iterator at /home/cpan/pit/64bit/conf/perl-5.14.1/.cpanplus/5.14.1/build/XML-SAX-Writer-0.53/blib/lib/XML/SAX/Writer.pm line 152.
Use of uninitialized value in substitution iterator at /home/cpan/pit/64bit/conf/perl-5.14.1/.cpanplus/5.14.1/build/XML-SAX-Writer-0.53/blib/lib/XML/SAX/Writer.pm line 152.
Use of uninitialized value in substitution iterator at /home/cpan/pit/64bit/conf/perl-5.14.1/.cpanplus/5.14.1/build/XML-SAX-Writer-0.53/blib/lib/XML/SAX/Writer.pm line 152.
Use of uninitialized value in substitution iterator at /home/cpan/pit/64bit/conf/perl-5.14.1/.cpanplus/5.14.1/build/XML-SAX-Writer-0.53/blib/lib/XML/SAX/Writer.pm line 152.
Use of uninitialized value in substitution iterator at /home/cpan/pit/64bit/conf/perl-5.14.1/.cpanplus/5.14.1/build/XML-SAX-Writer-0.53/blib/lib/XML/SAX/Writer.pm line 152.
Use of uninitialized value in substitution iterator at /home/cpan/pit/64bit/conf/perl-5.14.1/.cpanplus/5.14.1/build/XML-SAX-Writer-0.53/blib/lib/XML/SAX/Writer.pm line 152.
Use of uninitialized value in substitution iterator at /home/cpan/pit/64bit/conf/perl-5.14.1/.cpanplus/5.14.1/build/XML-SAX-Writer-0.53/blib/lib/XML/SAX/Writer.pm line 152.
Use of uninitialized value in substitution iterator at /home/cpan/pit/64bit/conf/perl-5.14.1/.cpanplus/5.14.1/build/XML-SAX-Writer-0.53/blib/lib/XML/SAX/Writer.pm line 152.
Use of uninitialized value in substitution iterator at /home/cpan/pit/64bit/conf/perl-5.14.1/.cpanplus/5.14.1/build/XML-SAX-Writer-0.53/blib/lib/XML/SAX/Writer.pm line 152.
Use of uninitialized value in substitution iterator at /home/cpan/pit/64bit/conf/perl-5.14.1/.cpanplus/5.14.1/build/XML-SAX-Writer-0.53/blib/lib/XML/SAX/Writer.pm line 152.
Use of uninitialized value in substitution iterator at /home/cpan/pit/64bit/conf/perl-5.14.1/.cpanplus/5.14.1/build/XML-SAX-Writer-0.53/blib/lib/XML/SAX/Writer.pm line 152.
Use of uninitialized value in substitution iterator at /home/cpan/pit/64bit/conf/perl-5.14.1/.cpanplus/5.14.1/build/XML-SAX-Writer-0.53/blib/lib/XML/SAX/Writer.pm line 152.
Use of uninitialized value in substitution iterator at /home/cpan/pit/64bit/conf/perl-5.14.1/.cpanplus/5.14.1/build/XML-SAX-Writer-0.53/blib/lib/XML/SAX/Writer.pm line 152.
Use of uninitialized value in substitution iterator at /home/cpan/pit/64bit/conf/perl-5.14.1/.cpanplus/5.14.1/build/XML-SAX-Writer-0.53/blib/lib/XML/SAX/Writer.pm line 152.
Use of uninitialized value in substitution iterator at /home/cpan/pit/64bit/conf/perl-5.14.1/.cpanplus/5.14.1/build/XML-SAX-Writer-0.53/blib/lib/XML/SAX/Writer.pm line 152.
Use of uninitialized value in substitution iterator at /home/cpan/pit/64bit/conf/perl-5.14.1/.cpanplus/5.14.1/build/XML-SAX-Writer-0.53/blib/lib/XML/SAX/Writer.pm line 152.
Use of uninitialized value in substitution iterator at /home/cpan/pit/64bit/conf/perl-5.14.1/.cpanplus/5.14.1/build/XML-SAX-Writer-0.53/blib/lib/XML/SAX/Writer.pm line 152.
Use of uninitialized value in substitution iterator at /home/cpan/pit/64bit/conf/perl-5.14.1/.cpanplus/5.14.1/build/XML-SAX-Writer-0.53/blib/lib/XML/SAX/Writer.pm line 152.
Use of uninitialized value $uri in concatenation (.) or string at /home/cpan/pit/64bit/conf/perl-5.14.1/.cpanplus/5.14.1/build/XML-Filter-SAX1toSAX2-0.03/blib/lib/XML/Filter/SAX1toSAX2.pm line 81.
Use of uninitialized value $uri in concatenation (.) or string at /home/cpan/pit/64bit/conf/perl-5.14.1/.cpanplus/5.14.1/build/XML-Filter-SAX1toSAX2-0.03/blib/lib/XML/Filter/SAX1toSAX2.pm line 81.
Use of uninitialized value in substitution iterator at /home/cpan/pit/64bit/conf/perl-5.14.1/.cpanplus/5.14.1/build/XML-SAX-Writer-0.53/blib/lib/XML/SAX/Writer.pm line 152.
Use of uninitialized value in substitution iterator at /home/cpan/pit/64bit/conf/perl-5.14.1/.cpanplus/5.14.1/build/XML-SAX-Writer-0.53/blib/lib/XML/SAX/Writer.pm line 152.
Use of uninitialized value in substitution iterator at /home/cpan/pit/64bit/conf/perl-5.14.1/.cpanplus/5.14.1/build/XML-SAX-Writer-0.53/blib/lib/XML/SAX/Writer.pm line 152.
Use of uninitialized value in substitution iterator at /home/cpan/pit/64bit/conf/perl-5.14.1/.cpanplus/5.14.1/build/XML-SAX-Writer-0.53/blib/lib/XML/SAX/Writer.pm line 152.
Use of uninitialized value in substitution iterator at /home/cpan/pit/64bit/conf/perl-5.14.1/.cpanplus/5.14.1/build/XML-SAX-Writer-0.53/blib/lib/XML/SAX/Writer.pm line 152.
Use of uninitialized value in substitution iterator at /home/cpan/pit/64bit/conf/perl-5.14.1/.cpanplus/5.14.1/build/XML-SAX-Writer-0.53/blib/lib/XML/SAX/Writer.pm line 152.
Use of uninitialized value in substitution iterator at /home/cpan/pit/64bit/conf/perl-5.14.1/.cpanplus/5.14.1/build/XML-SAX-Writer-0.53/blib/lib/XML/SAX/Writer.pm line 152.
Use of uninitialized value in substitution iterator at /home/cpan/pit/64bit/conf/perl-5.14.1/.cpanplus/5.14.1/build/XML-SAX-Writer-0.53/blib/lib/XML/SAX/Writer.pm line 152.
Use of uninitialized value in substitution iterator at /home/cpan/pit/64bit/conf/perl-5.14.1/.cpanplus/5.14.1/build/XML-SAX-Writer-0.53/blib/lib/XML/SAX/Writer.pm line 152.
Use of uninitialized value in substitution iterator at /home/cpan/pit/64bit/conf/perl-5.14.1/.cpanplus/5.14.1/build/XML-SAX-Writer-0.53/blib/lib/XML/SAX/Writer.pm line 152.
Use of uninitialized value in substitution iterator at /home/cpan/pit/64bit/conf/perl-5.14.1/.cpanplus/5.14.1/build/XML-SAX-Writer-0.53/blib/lib/XML/SAX/Writer.pm line 152.
Use of uninitialized value in substitution iterator at /home/cpan/pit/64bit/conf/perl-5.14.1/.cpanplus/5.14.1/build/XML-SAX-Writer-0.53/blib/lib/XML/SAX/Writer.pm line 152.
Use of uninitialized value in substitution iterator at /home/cpan/pit/64bit/conf/perl-5.14.1/.cpanplus/5.14.1/build/XML-SAX-Writer-0.53/blib/lib/XML/SAX/Writer.pm line 152.
Use of uninitialized value in substitution iterator at /home/cpan/pit/64bit/conf/perl-5.14.1/.cpanplus/5.14.1/build/XML-SAX-Writer-0.53/blib/lib/XML/SAX/Writer.pm line 152.
Use of uninitialized value in substitution iterator at /home/cpan/pit/64bit/conf/perl-5.14.1/.cpanplus/5.14.1/build/XML-SAX-Writer-0.53/blib/lib/XML/SAX/Writer.pm line 152.
Use of uninitialized value in substitution iterator at /home/cpan/pit/64bit/conf/perl-5.14.1/.cpanplus/5.14.1/build/XML-SAX-Writer-0.53/blib/lib/XML/SAX/Writer.pm line 152.
Use of uninitialized value in substitution iterator at /home/cpan/pit/64bit/conf/perl-5.14.1/.cpanplus/5.14.1/build/XML-SAX-Writer-0.53/blib/lib/XML/SAX/Writer.pm line 152.
Use of uninitialized value in substitution iterator at /home/cpan/pit/64bit/conf/perl-5.14.1/.cpanplus/5.14.1/build/XML-SAX-Writer-0.53/blib/lib/XML/SAX/Writer.pm line 152.
Use of uninitialized value in substitution iterator at /home/cpan/pit/64bit/conf/perl-5.14.1/.cpanplus/5.14.1/build/XML-SAX-Writer-0.53/blib/lib/XML/SAX/Writer.pm line 152.
Use of uninitialized value in substitution iterator at /home/cpan/pit/64bit/conf/perl-5.14.1/.cpanplus/5.14.1/build/XML-SAX-Writer-0.53/blib/lib/XML/SAX/Writer.pm line 152.
Use of uninitialized value in substitution iterator at /home/cpan/pit/64bit/conf/perl-5.14.1/.cpanplus/5.14.1/build/XML-SAX-Writer-0.53/blib/lib/XML/SAX/Writer.pm line 152.
Use of uninitialized value in substitution iterator at /home/cpan/pit/64bit/conf/perl-5.14.1/.cpanplus/5.14.1/build/XML-SAX-Writer-0.53/blib/lib/XML/SAX/Writer.pm line 152.
Use of uninitialized value in substitution iterator at /home/cpan/pit/64bit/conf/perl-5.14.1/.cpanplus/5.14.1/build/XML-SAX-Writer-0.53/blib/lib/XML/SAX/Writer.pm line 152.
Use of uninitialized value in substitution iterator at /home/cpan/pit/64bit/conf/perl-5.14.1/.cpanplus/5.14.1/build/XML-SAX-Writer-0.53/blib/lib/XML/SAX/Writer.pm line 152.
Use of uninitialized value in substitution iterator at /home/cpan/pit/64bit/conf/perl-5.14.1/.cpanplus/5.14.1/build/XML-SAX-Writer-0.53/blib/lib/XML/SAX/Writer.pm line 152.
Use of uninitialized value in substitution iterator at /home/cpan/pit/64bit/conf/perl-5.14.1/.cpanplus/5.14.1/build/XML-SAX-Writer-0.53/blib/lib/XML/SAX/Writer.pm line 152.
Use of uninitialized value in substitution iterator at /home/cpan/pit/64bit/conf/perl-5.14.1/.cpanplus/5.14.1/build/XML-SAX-Writer-0.53/blib/lib/XML/SAX/Writer.pm line 152.
Use of uninitialized value in substitution iterator at /home/cpan/pit/64bit/conf/perl-5.14.1/.cpanplus/5.14.1/build/XML-SAX-Writer-0.53/blib/lib/XML/SAX/Writer.pm line 152.
Use of uninitialized value in substitution iterator at /home/cpan/pit/64bit/conf/perl-5.14.1/.cpanplus/5.14.1/build/XML-SAX-Writer-0.53/blib/lib/XML/SAX/Writer.pm line 152.
Use of uninitialized value in substitution iterator at /home/cpan/pit/64bit/conf/perl-5.14.1/.cpanplus/5.14.1/build/XML-SAX-Writer-0.53/blib/lib/XML/SAX/Writer.pm line 152.
Use of uninitialized value in substitution iterator at /home/cpan/pit/64bit/conf/perl-5.14.1/.cpanplus/5.14.1/build/XML-SAX-Writer-0.53/blib/lib/XML/SAX/Writer.pm line 152.
Use of uninitialized value in substitution iterator at /home/cpan/pit/64bit/conf/perl-5.14.1/.cpanplus/5.14.1/build/XML-SAX-Writer-0.53/blib/lib/XML/SAX/Writer.pm line 152.
Use of uninitialized value in substitution iterator at /home/cpan/pit/64bit/conf/perl-5.14.1/.cpanplus/5.14.1/build/XML-SAX-Writer-0.53/blib/lib/XML/SAX/Writer.pm line 152.
Use of uninitialized value in substitution iterator at /home/cpan/pit/64bit/conf/perl-5.14.1/.cpanplus/5.14.1/build/XML-SAX-Writer-0.53/blib/lib/XML/SAX/Writer.pm line 152.
Use of uninitialized value in substitution iterator at /home/cpan/pit/64bit/conf/perl-5.14.1/.cpanplus/5.14.1/build/XML-SAX-Writer-0.53/blib/lib/XML/SAX/Writer.pm line 152.
Use of uninitialized value in substitution iterator at /home/cpan/pit/64bit/conf/perl-5.14.1/.cpanplus/5.14.1/build/XML-SAX-Writer-0.53/blib/lib/XML/SAX/Writer.pm line 152.
Use of uninitialized value in substitution iterator at /home/cpan/pit/64bit/conf/perl-5.14.1/.cpanplus/5.14.1/build/XML-SAX-Writer-0.53/blib/lib/XML/SAX/Writer.pm line 152.
Use of uninitialized value in substitution iterator at /home/cpan/pit/64bit/conf/perl-5.14.1/.cpanplus/5.14.1/build/XML-SAX-Writer-0.53/blib/lib/XML/SAX/Writer.pm line 152.
Use of uninitialized value in substitution iterator at /home/cpan/pit/64bit/conf/perl-5.14.1/.cpanplus/5.14.1/build/XML-SAX-Writer-0.53/blib/lib/XML/SAX/Writer.pm line 152.
Use of uninitialized value in substitution iterator at /home/cpan/pit/64bit/conf/perl-5.14.1/.cpanplus/5.14.1/build/XML-SAX-Writer-0.53/blib/lib/XML/SAX/Writer.pm line 152.
Use of uninitialized value in substitution iterator at /home/cpan/pit/64bit/conf/perl-5.14.1/.cpanplus/5.14.1/build/XML-SAX-Writer-0.53/blib/lib/XML/SAX/Writer.pm line 152.
Use of uninitialized value in substitution iterator at /home/cpan/pit/64bit/conf/perl-5.14.1/.cpanplus/5.14.1/build/XML-SAX-Writer-0.53/blib/lib/XML/SAX/Writer.pm line 152.
Use of uninitialized value in substitution iterator at /home/cpan/pit/64bit/conf/perl-5.14.1/.cpanplus/5.14.1/build/XML-SAX-Writer-0.53/blib/lib/XML/SAX/Writer.pm line 152.
Use of uninitialized value in substitution iterator at /home/cpan/pit/64bit/conf/perl-5.14.1/.cpanplus/5.14.1/build/XML-SAX-Writer-0.53/blib/lib/XML/SAX/Writer.pm line 152.
Use of uninitialized value in substitution iterator at /home/cpan/pit/64bit/conf/perl-5.14.1/.cpanplus/5.14.1/build/XML-SAX-Writer-0.53/blib/lib/XML/SAX/Writer.pm line 152.
Use of uninitialized value in substitution iterator at /home/cpan/pit/64bit/conf/perl-5.14.1/.cpanplus/5.14.1/build/XML-SAX-Writer-0.53/blib/lib/XML/SAX/Writer.pm line 152.
Use of uninitialized value in substitution iterator at /home/cpan/pit/64bit/conf/perl-5.14.1/.cpanplus/5.14.1/build/XML-SAX-Writer-0.53/blib/lib/XML/SAX/Writer.pm line 152.
Use of uninitialized value in substitution iterator at /home/cpan/pit/64bit/conf/perl-5.14.1/.cpanplus/5.14.1/build/XML-SAX-Writer-0.53/blib/lib/XML/SAX/Writer.pm line 152.
Use of uninitialized value in substitution iterator at /home/cpan/pit/64bit/conf/perl-5.14.1/.cpanplus/5.14.1/build/XML-SAX-Writer-0.53/blib/lib/XML/SAX/Writer.pm line 152.
Use of uninitialized value in substitution iterator at /home/cpan/pit/64bit/conf/perl-5.14.1/.cpanplus/5.14.1/build/XML-SAX-Writer-0.53/blib/lib/XML/SAX/Writer.pm line 152.
Use of uninitialized value in substitution iterator at /home/cpan/pit/64bit/conf/perl-5.14.1/.cpanplus/5.14.1/build/XML-SAX-Writer-0.53/blib/lib/XML/SAX/Writer.pm line 152.
Use of uninitialized value in substitution iterator at /home/cpan/pit/64bit/conf/perl-5.14.1/.cpanplus/5.14.1/build/XML-SAX-Writer-0.53/blib/lib/XML/SAX/Writer.pm line 152.
Use of uninitialized value in substitution iterator at /home/cpan/pit/64bit/conf/perl-5.14.1/.cpanplus/5.14.1/build/XML-SAX-Writer-0.53/blib/lib/XML/SAX/Writer.pm line 152.
Use of uninitialized value in substitution iterator at /home/cpan/pit/64bit/conf/perl-5.14.1/.cpanplus/5.14.1/build/XML-SAX-Writer-0.53/blib/lib/XML/SAX/Writer.pm line 152.
Use of uninitialized value in substitution iterator at /home/cpan/pit/64bit/conf/perl-5.14.1/.cpanplus/5.14.1/build/XML-SAX-Writer-0.53/blib/lib/XML/SAX/Writer.pm line 152.
Use of uninitialized value in substitution iterator at /home/cpan/pit/64bit/conf/perl-5.14.1/.cpanplus/5.14.1/build/XML-SAX-Writer-0.53/blib/lib/XML/SAX/Writer.pm line 152.
Use of uninitialized value in substitution iterator at /home/cpan/pit/64bit/conf/perl-5.14.1/.cpanplus/5.14.1/build/XML-SAX-Writer-0.53/blib/lib/XML/SAX/Writer.pm line 152.
Use of uninitialized value in substitution iterator at /home/cpan/pit/64bit/conf/perl-5.14.1/.cpanplus/5.14.1/build/XML-SAX-Writer-0.53/blib/lib/XML/SAX/Writer.pm line 152.
Use of uninitialized value in substitution iterator at /home/cpan/pit/64bit/conf/perl-5.14.1/.cpanplus/5.14.1/build/XML-SAX-Writer-0.53/blib/lib/XML/SAX/Writer.pm line 152.
Use of uninitialized value in substitution iterator at /home/cpan/pit/64bit/conf/perl-5.14.1/.cpanplus/5.14.1/build/XML-SAX-Writer-0.53/blib/lib/XML/SAX/Writer.pm line 152.
Use of uninitialized value in substitution iterator at /home/cpan/pit/64bit/conf/perl-5.14.1/.cpanplus/5.14.1/build/XML-SAX-Writer-0.53/blib/lib/XML/SAX/Writer.pm line 152.
Use of uninitialized value in substitution iterator at /home/cpan/pit/64bit/conf/perl-5.14.1/.cpanplus/5.14.1/build/XML-SAX-Writer-0.53/blib/lib/XML/SAX/Writer.pm line 152.
Use of uninitialized value in substitution iterator at /home/cpan/pit/64bit/conf/perl-5.14.1/.cpanplus/5.14.1/build/XML-SAX-Writer-0.53/blib/lib/XML/SAX/Writer.pm line 152.
Use of uninitialized value in substitution iterator at /home/cpan/pit/64bit/conf/perl-5.14.1/.cpanplus/5.14.1/build/XML-SAX-Writer-0.53/blib/lib/XML/SAX/Writer.pm line 152.
Use of uninitialized value in substitution iterator at /home/cpan/pit/64bit/conf/perl-5.14.1/.cpanplus/5.14.1/build/XML-SAX-Writer-0.53/blib/lib/XML/SAX/Writer.pm line 152.
Use of uninitialized value in substitution iterator at /home/cpan/pit/64bit/conf/perl-5.14.1/.cpanplus/5.14.1/build/XML-SAX-Writer-0.53/blib/lib/XML/SAX/Writer.pm line 152.
Use of uninitialized value $uri in concatenation (.) or string at /home/cpan/pit/64bit/conf/perl-5.14.1/.cpanplus/5.14.1/build/XML-Filter-SAX1toSAX2-0.03/blib/lib/XML/Filter/SAX1toSAX2.pm line 81.
Use of uninitialized value $uri in concatenation (.) or string at /home/cpan/pit/64bit/conf/perl-5.14.1/.cpanplus/5.14.1/build/XML-Filter-SAX1toSAX2-0.03/blib/lib/XML/Filter/SAX1toSAX2.pm line 81.
Use of uninitialized value in substitution iterator at /home/cpan/pit/64bit/conf/perl-5.14.1/.cpanplus/5.14.1/build/XML-SAX-Writer-0.53/blib/lib/XML/SAX/Writer.pm line 152.
Use of uninitialized value in substitution iterator at /home/cpan/pit/64bit/conf/perl-5.14.1/.cpanplus/5.14.1/build/XML-SAX-Writer-0.53/blib/lib/XML/SAX/Writer.pm line 152.
Use of uninitialized value in substitution iterator at /home/cpan/pit/64bit/conf/perl-5.14.1/.cpanplus/5.14.1/build/XML-SAX-Writer-0.53/blib/lib/XML/SAX/Writer.pm line 152.
Use of uninitialized value in substitution iterator at /home/cpan/pit/64bit/conf/perl-5.14.1/.cpanplus/5.14.1/build/XML-SAX-Writer-0.53/blib/lib/XML/SAX/Writer.pm line 152.
Use of uninitialized value in substitution iterator at /home/cpan/pit/64bit/conf/perl-5.14.1/.cpanplus/5.14.1/build/XML-SAX-Writer-0.53/blib/lib/XML/SAX/Writer.pm line 152.
Use of uninitialized value in substitution iterator at /home/cpan/pit/64bit/conf/perl-5.14.1/.cpanplus/5.14.1/build/XML-SAX-Writer-0.53/blib/lib/XML/SAX/Writer.pm line 152.
Use of uninitialized value in substitution iterator at /home/cpan/pit/64bit/conf/perl-5.14.1/.cpanplus/5.14.1/build/XML-SAX-Writer-0.53/blib/lib/XML/SAX/Writer.pm line 152.
Use of uninitialized value in substitution iterator at /home/cpan/pit/64bit/conf/perl-5.14.1/.cpanplus/5.14.1/build/XML-SAX-Writer-0.53/blib/lib/XML/SAX/Writer.pm line 152.
Use of uninitialized value in substitution iterator at /home/cpan/pit/64bit/conf/perl-5.14.1/.cpanplus/5.14.1/build/XML-SAX-Writer-0.53/blib/lib/XML/SAX/Writer.pm line 152.
Use of uninitialized value in substitution iterator at /home/cpan/pit/64bit/conf/perl-5.14.1/.cpanplus/5.14.1/build/XML-SAX-Writer-0.53/blib/lib/XML/SAX/Writer.pm line 152.
Use of uninitialized value in substitution iterator at /home/cpan/pit/64bit/conf/perl-5.14.1/.cpanplus/5.14.1/build/XML-SAX-Writer-0.53/blib/lib/XML/SAX/Writer.pm line 152.
Use of uninitialized value in substitution iterator at /home/cpan/pit/64bit/conf/perl-5.14.1/.cpanplus/5.14.1/build/XML-SAX-Writer-0.53/blib/lib/XML/SAX/Writer.pm line 152.
Use of uninitialized value in substitution iterator at /home/cpan/pit/64bit/conf/perl-5.14.1/.cpanplus/5.14.1/build/XML-SAX-Writer-0.53/blib/lib/XML/SAX/Writer.pm line 152.
Use of uninitialized value in substitution iterator at /home/cpan/pit/64bit/conf/perl-5.14.1/.cpanplus/5.14.1/build/XML-SAX-Writer-0.53/blib/lib/XML/SAX/Writer.pm line 152.
Use of uninitialized value in substitution iterator at /home/cpan/pit/64bit/conf/perl-5.14.1/.cpanplus/5.14.1/build/XML-SAX-Writer-0.53/blib/lib/XML/SAX/Writer.pm line 152.
Use of uninitialized value in substitution iterator at /home/cpan/pit/64bit/conf/perl-5.14.1/.cpanplus/5.14.1/build/XML-SAX-Writer-0.53/blib/lib/XML/SAX/Writer.pm line 152.
Use of uninitialized value in substitution iterator at /home/cpan/pit/64bit/conf/perl-5.14.1/.cpanplus/5.14.1/build/XML-SAX-Writer-0.53/blib/lib/XML/SAX/Writer.pm line 152.
Use of uninitialized value in substitution iterator at /home/cpan/pit/64bit/conf/perl-5.14.1/.cpanplus/5.14.1/build/XML-SAX-Writer-0.53/blib/lib/XML/SAX/Writer.pm line 152.
Use of uninitialized value in substitution iterator at /home/cpan/pit/64bit/conf/perl-5.14.1/.cpanplus/5.14.1/build/XML-SAX-Writer-0.53/blib/lib/XML/SAX/Writer.pm line 152.
Use of uninitialized value in substitution iterator at /home/cpan/pit/64bit/conf/perl-5.14.1/.cpanplus/5.14.1/build/XML-SAX-Writer-0.53/blib/lib/XML/SAX/Writer.pm line 152.
Use of uninitialized value in substitution iterator at /home/cpan/pit/64bit/conf/perl-5.14.1/.cpanplus/5.14.1/build/XML-SAX-Writer-0.53/blib/lib/XML/SAX/Writer.pm line 152.
Use of uninitialized value in substitution iterator at /home/cpan/pit/64bit/conf/perl-5.14.1/.cpanplus/5.14.1/build/XML-SAX-Writer-0.53/blib/lib/XML/SAX/Writer.pm line 152.
Use of uninitialized value in substitution iterator at /home/cpan/pit/64bit/conf/perl-5.14.1/.cpanplus/5.14.1/build/XML-SAX-Writer-0.53/blib/lib/XML/SAX/Writer.pm line 152.
Use of uninitialized value in substitution iterator at /home/cpan/pit/64bit/conf/perl-5.14.1/.cpanplus/5.14.1/build/XML-SAX-Writer-0.53/blib/lib/XML/SAX/Writer.pm line 152.
Use of uninitialized value in substitution iterator at /home/cpan/pit/64bit/conf/perl-5.14.1/.cpanplus/5.14.1/build/XML-SAX-Writer-0.53/blib/lib/XML/SAX/Writer.pm line 152.
Use of uninitialized value in substitution iterator at /home/cpan/pit/64bit/conf/perl-5.14.1/.cpanplus/5.14.1/build/XML-SAX-Writer-0.53/blib/lib/XML/SAX/Writer.pm line 152.
Use of uninitialized value in substitution iterator at /home/cpan/pit/64bit/conf/perl-5.14.1/.cpanplus/5.14.1/build/XML-SAX-Writer-0.53/blib/lib/XML/SAX/Writer.pm line 152.
Use of uninitialized value in substitution iterator at /home/cpan/pit/64bit/conf/perl-5.14.1/.cpanplus/5.14.1/build/XML-SAX-Writer-0.53/blib/lib/XML/SAX/Writer.pm line 152.
Use of uninitialized value in substitution iterator at /home/cpan/pit/64bit/conf/perl-5.14.1/.cpanplus/5.14.1/build/XML-SAX-Writer-0.53/blib/lib/XML/SAX/Writer.pm line 152.
Use of uninitialized value in substitution iterator at /home/cpan/pit/64bit/conf/perl-5.14.1/.cpanplus/5.14.1/build/XML-SAX-Writer-0.53/blib/lib/XML/SAX/Writer.pm line 152.
Use of uninitialized value in substitution iterator at /home/cpan/pit/64bit/conf/perl-5.14.1/.cpanplus/5.14.1/build/XML-SAX-Writer-0.53/blib/lib/XML/SAX/Writer.pm line 152.
Use of uninitialized value in substitution iterator at /home/cpan/pit/64bit/conf/perl-5.14.1/.cpanplus/5.14.1/build/XML-SAX-Writer-0.53/blib/lib/XML/SAX/Writer.pm line 152.
Use of uninitialized value in substitution iterator at /home/cpan/pit/64bit/conf/perl-5.14.1/.cpanplus/5.14.1/build/XML-SAX-Writer-0.53/blib/lib/XML/SAX/Writer.pm line 152.
Use of uninitialized value in substitution iterator at /home/cpan/pit/64bit/conf/perl-5.14.1/.cpanplus/5.14.1/build/XML-SAX-Writer-0.53/blib/lib/XML/SAX/Writer.pm line 152.
Use of uninitialized value in substitution iterator at /home/cpan/pit/64bit/conf/perl-5.14.1/.cpanplus/5.14.1/build/XML-SAX-Writer-0.53/blib/lib/XML/SAX/Writer.pm line 152.
Use of uninitialized value in substitution iterator at /home/cpan/pit/64bit/conf/perl-5.14.1/.cpanplus/5.14.1/build/XML-SAX-Writer-0.53/blib/lib/XML/SAX/Writer.pm line 152.
Use of uninitialized value in substitution iterator at /home/cpan/pit/64bit/conf/perl-5.14.1/.cpanplus/5.14.1/build/XML-SAX-Writer-0.53/blib/lib/XML/SAX/Writer.pm line 152.
Use of uninitialized value in substitution iterator at /home/cpan/pit/64bit/conf/perl-5.14.1/.cpanplus/5.14.1/build/XML-SAX-Writer-0.53/blib/lib/XML/SAX/Writer.pm line 152.
Use of uninitialized value in substitution iterator at /home/cpan/pit/64bit/conf/perl-5.14.1/.cpanplus/5.14.1/build/XML-SAX-Writer-0.53/blib/lib/XML/SAX/Writer.pm line 152.
Use of uninitialized value in substitution iterator at /home/cpan/pit/64bit/conf/perl-5.14.1/.cpanplus/5.14.1/build/XML-SAX-Writer-0.53/blib/lib/XML/SAX/Writer.pm line 152.
Use of uninitialized value in substitution iterator at /home/cpan/pit/64bit/conf/perl-5.14.1/.cpanplus/5.14.1/build/XML-SAX-Writer-0.53/blib/lib/XML/SAX/Writer.pm line 152.
Use of uninitialized value in substitution iterator at /home/cpan/pit/64bit/conf/perl-5.14.1/.cpanplus/5.14.1/build/XML-SAX-Writer-0.53/blib/lib/XML/SAX/Writer.pm line 152.
Use of uninitialized value in substitution iterator at /home/cpan/pit/64bit/conf/perl-5.14.1/.cpanplus/5.14.1/build/XML-SAX-Writer-0.53/blib/lib/XML/SAX/Writer.pm line 152.
Use of uninitialized value $uri in concatenation (.) or string at /home/cpan/pit/64bit/conf/perl-5.14.1/.cpanplus/5.14.1/build/XML-Filter-SAX1toSAX2-0.03/blib/lib/XML/Filter/SAX1toSAX2.pm line 81.
Use of uninitialized value in substitution iterator at /home/cpan/pit/64bit/conf/perl-5.14.1/.cpanplus/5.14.1/build/XML-SAX-Writer-0.53/blib/lib/XML/SAX/Writer.pm line 152.
Use of uninitialized value in substitution iterator at /home/cpan/pit/64bit/conf/perl-5.14.1/.cpanplus/5.14.1/build/XML-SAX-Writer-0.53/blib/lib/XML/SAX/Writer.pm line 152.
Use of uninitialized value in substitution iterator at /home/cpan/pit/64bit/conf/perl-5.14.1/.cpanplus/5.14.1/build/XML-SAX-Writer-0.53/blib/lib/XML/SAX/Writer.pm line 152.
Use of uninitialized value in substitution iterator at /home/cpan/pit/64bit/conf/perl-5.14.1/.cpanplus/5.14.1/build/XML-SAX-Writer-0.53/blib/lib/XML/SAX/Writer.pm line 152.
Use of uninitialized value in substitution iterator at /home/cpan/pit/64bit/conf/perl-5.14.1/.cpanplus/5.14.1/build/XML-SAX-Writer-0.53/blib/lib/XML/SAX/Writer.pm line 152.
Use of uninitialized value in substitution iterator at /home/cpan/pit/64bit/conf/perl-5.14.1/.cpanplus/5.14.1/build/XML-SAX-Writer-0.53/blib/lib/XML/SAX/Writer.pm line 152.
Use of uninitialized value in substitution iterator at /home/cpan/pit/64bit/conf/perl-5.14.1/.cpanplus/5.14.1/build/XML-SAX-Writer-0.53/blib/lib/XML/SAX/Writer.pm line 152.
Use of uninitialized value in substitution iterator at /home/cpan/pit/64bit/conf/perl-5.14.1/.cpanplus/5.14.1/build/XML-SAX-Writer-0.53/blib/lib/XML/SAX/Writer.pm line 152.
Use of uninitialized value in substitution iterator at /home/cpan/pit/64bit/conf/perl-5.14.1/.cpanplus/5.14.1/build/XML-SAX-Writer-0.53/blib/lib/XML/SAX/Writer.pm line 152.
Use of uninitialized value in substitution iterator at /home/cpan/pit/64bit/conf/perl-5.14.1/.cpanplus/5.14.1/build/XML-SAX-Writer-0.53/blib/lib/XML/SAX/Writer.pm line 152.
Use of uninitialized value in substitution iterator at /home/cpan/pit/64bit/conf/perl-5.14.1/.cpanplus/5.14.1/build/XML-SAX-Writer-0.53/blib/lib/XML/SAX/Writer.pm line 152.
Use of uninitialized value in substitution iterator at /home/cpan/pit/64bit/conf/perl-5.14.1/.cpanplus/5.14.1/build/XML-SAX-Writer-0.53/blib/lib/XML/SAX/Writer.pm line 152.
Use of uninitialized value in substitution iterator at /home/cpan/pit/64bit/conf/perl-5.14.1/.cpanplus/5.14.1/build/XML-SAX-Writer-0.53/blib/lib/XML/SAX/Writer.pm line 152.
Use of uninitialized value in substitution iterator at /home/cpan/pit/64bit/conf/perl-5.14.1/.cpanplus/5.14.1/build/XML-SAX-Writer-0.53/blib/lib/XML/SAX/Writer.pm line 152.
Use of uninitialized value in substitution iterator at /home/cpan/pit/64bit/conf/perl-5.14.1/.cpanplus/5.14.1/build/XML-SAX-Writer-0.53/blib/lib/XML/SAX/Writer.pm line 152.
Use of uninitialized value in substitution iterator at /home/cpan/pit/64bit/conf/perl-5.14.1/.cpanplus/5.14.1/build/XML-SAX-Writer-0.53/blib/lib/XML/SAX/Writer.pm line 152.
Use of uninitialized value in substitution iterator at /home/cpan/pit/64bit/conf/perl-5.14.1/.cpanplus/5.14.1/build/XML-SAX-Writer-0.53/blib/lib/XML/SAX/Writer.pm line 152.
Use of uninitialized value in substitution iterator at /home/cpan/pit/64bit/conf/perl-5.14.1/.cpanplus/5.14.1/build/XML-SAX-Writer-0.53/blib/lib/XML/SAX/Writer.pm line 152.
Use of uninitialized value in substitution iterator at /home/cpan/pit/64bit/conf/perl-5.14.1/.cpanplus/5.14.1/build/XML-SAX-Writer-0.53/blib/lib/XML/SAX/Writer.pm line 152.
Use of uninitialized value in substitution iterator at /home/cpan/pit/64bit/conf/perl-5.14.1/.cpanplus/5.14.1/build/XML-SAX-Writer-0.53/blib/lib/XML/SAX/Writer.pm line 152.
Use of uninitialized value in substitution iterator at /home/cpan/pit/64bit/conf/perl-5.14.1/.cpanplus/5.14.1/build/XML-SAX-Writer-0.53/blib/lib/XML/SAX/Writer.pm line 152.
Use of uninitialized value in substitution iterator at /home/cpan/pit/64bit/conf/perl-5.14.1/.cpanplus/5.14.1/build/XML-SAX-Writer-0.53/blib/lib/XML/SAX/Writer.pm line 152.
Use of uninitialized value in substitution iterator at /home/cpan/pit/64bit/conf/perl-5.14.1/.cpanplus/5.14.1/build/XML-SAX-Writer-0.53/blib/lib/XML/SAX/Writer.pm line 152.
Use of uninitialized value in substitution iterator at /home/cpan/pit/64bit/conf/perl-5.14.1/.cpanplus/5.14.1/build/XML-SAX-Writer-0.53/blib/lib/XML/SAX/Writer.pm line 152.
Use of uninitialized value in substitution iterator at /home/cpan/pit/64bit/conf/perl-5.14.1/.cpanplus/5.14.1/build/XML-SAX-Writer-0.53/blib/lib/XML/SAX/Writer.pm line 152.
Use of uninitialized value in substitution iterator at /home/cpan/pit/64bit/conf/perl-5.14.1/.cpanplus/5.14.1/build/XML-SAX-Writer-0.53/blib/lib/XML/SAX/Writer.pm line 152.
Use of uninitialized value in substitution iterator at /home/cpan/pit/64bit/conf/perl-5.14.1/.cpanplus/5.14.1/build/XML-SAX-Writer-0.53/blib/lib/XML/SAX/Writer.pm line 152.
Use of uninitialized value in substitution iterator at /home/cpan/pit/64bit/conf/perl-5.14.1/.cpanplus/5.14.1/build/XML-SAX-Writer-0.53/blib/lib/XML/SAX/Writer.pm line 152.
Use of uninitialized value in substitution iterator at /home/cpan/pit/64bit/conf/perl-5.14.1/.cpanplus/5.14.1/build/XML-SAX-Writer-0.53/blib/lib/XML/SAX/Writer.pm line 152.
Use of uninitialized value in substitution iterator at /home/cpan/pit/64bit/conf/perl-5.14.1/.cpanplus/5.14.1/build/XML-SAX-Writer-0.53/blib/lib/XML/SAX/Writer.pm line 152.
Use of uninitialized value in substitution iterator at /home/cpan/pit/64bit/conf/perl-5.14.1/.cpanplus/5.14.1/build/XML-SAX-Writer-0.53/blib/lib/XML/SAX/Writer.pm line 152.
Use of uninitialized value in substitution iterator at /home/cpan/pit/64bit/conf/perl-5.14.1/.cpanplus/5.14.1/build/XML-SAX-Writer-0.53/blib/lib/XML/SAX/Writer.pm line 152.
t/050.t ................... ok
t/060_ExtOn_skip_root.t ... ok
Use of uninitialized value in substitution iterator at /home/cpan/pit/64bit/conf/perl-5.14.1/.cpanplus/5.14.1/build/XML-SAX-Writer-0.53/blib/lib/XML/SAX/Writer.pm line 152.
Use of uninitialized value in substitution iterator at /home/cpan/pit/64bit/conf/perl-5.14.1/.cpanplus/5.14.1/build/XML-SAX-Writer-0.53/blib/lib/XML/SAX/Writer.pm line 152.
Use of uninitialized value in substitution iterator at /home/cpan/pit/64bit/conf/perl-5.14.1/.cpanplus/5.14.1/build/XML-SAX-Writer-0.53/blib/lib/XML/SAX/Writer.pm line 152.
t/070_characters_cdata.t .. ok
Use of uninitialized value in substitution iterator at /home/cpan/pit/64bit/conf/perl-5.14.1/.cpanplus/5.14.1/build/XML-SAX-Writer-0.53/blib/lib/XML/SAX/Writer.pm line 152.
Use of uninitialized value in substitution iterator at /home/cpan/pit/64bit/conf/perl-5.14.1/.cpanplus/5.14.1/build/XML-SAX-Writer-0.53/blib/lib/XML/SAX/Writer.pm line 152.
Use of uninitialized value in substitution iterator at /home/cpan/pit/64bit/conf/perl-5.14.1/.cpanplus/5.14.1/build/XML-SAX-Writer-0.53/blib/lib/XML/SAX/Writer.pm line 152.
Use of uninitialized value in substitution iterator at /home/cpan/pit/64bit/conf/perl-5.14.1/.cpanplus/5.14.1/build/XML-SAX-Writer-0.53/blib/lib/XML/SAX/Writer.pm line 152.
Use of uninitialized value in substitution iterator at /home/cpan/pit/64bit/conf/perl-5.14.1/.cpanplus/5.14.1/build/XML-SAX-Writer-0.53/blib/lib/XML/SAX/Writer.pm line 152.
Use of uninitialized value in substitution iterator at /home/cpan/pit/64bit/conf/perl-5.14.1/.cpanplus/5.14.1/build/XML-SAX-Writer-0.53/blib/lib/XML/SAX/Writer.pm line 152.
Use of uninitialized value in substitution iterator at /home/cpan/pit/64bit/conf/perl-5.14.1/.cpanplus/5.14.1/build/XML-SAX-Writer-0.53/blib/lib/XML/SAX/Writer.pm line 152.
t/080_create_pipe.t ....... ok
t/081_split_pipe.t ........ ok
t/090_add_content.t ....... ok
t/093_wrap_around.t ....... ok
All tests successful.
Files=11, Tests=81,  7 wallclock secs ( 0.04 usr  0.35 sys +  1.35 cusr  5.20 csys =  6.94 CPU)
Result: PASS

[MSG] [Fri Oct 28 06:08:24 2011] Sending test report for 'XML-ExtOn-0.17'

This report was machine-generated by CPANPLUS::Dist::YACSmoke 0.64.
Powered by minismokebox version 0.54

------------------------------
ENVIRONMENT AND OTHER CONTEXT
------------------------------

Environment variables:

    AUTOMATED_TESTING = 1
    PATH = /home/cpan/bin:/bin:/sbin:/usr/bin:/usr/sbin:/usr/X11R7/bin:/usr/X11R6/bin:/usr/pkg/bin:/usr/pkg/sbin:/usr/games:/usr/local/bin:/usr/local/sbin
    PERL5LIB = :/home/cpan/pit/64bit/conf/perl-5.14.1/.cpanplus/5.14.1/build/MRO-Compat-0.11/blib/lib:/home/cpan/pit/64bit/conf/perl-5.14.1/.cpanplus/5.14.1/build/MRO-Compat-0.11/blib/arch:/home/cpan/pit/64bit/conf/perl-5.14.1/.cpanplus/5.14.1/build/Sub-Uplevel-0.22/blib/lib:/home/cpan/pit/64bit/conf/perl-5.14.1/.cpanplus/5.14.1/build/Sub-Uplevel-0.22/blib/arch:/home/cpan/pit/64bit/conf/perl-5.14.1/.cpanplus/5.14.1/build/Test-Exception-0.31/blib/lib:/home/cpan/pit/64bit/conf/perl-5.14.1/.cpanplus/5.14.1/build/Test-Exception-0.31/blib/arch:/home/cpan/pit/64bit/conf/perl-5.14.1/.cpanplus/5.14.1/build/Test-Class-0.36/blib/lib:/home/cpan/pit/64bit/conf/perl-5.14.1/.cpanplus/5.14.1/build/Test-Class-0.36/blib/arch:/home/cpan/pit/64bit/conf/perl-5.14.1/.cpanplus/5.14.1/build/Tie-UnionHash-0.02/blib/lib:/home/cpan/pit/64bit/conf/perl-5.14.1/.cpanplus/5.14.1/build/Tie-UnionHash-0.02/blib/arch:/home/cpan/pit/64bit/conf/perl-5.14.1/.cpanplus/5.14.1/build/XML-NamespaceSupport-1.11/blib/lib:/home/cpan/pit/64bit/conf/perl-5.14.1/.cpanplus/5.14.1/build/XML-NamespaceSupport-1.11/blib/arch:/home/cpan/pit/64bit/conf/perl-5.14.1/.cpanplus/5.14.1/build/XML-SAX-Base-1.08/blib/lib:/home/cpan/pit/64bit/conf/perl-5.14.1/.cpanplus/5.14.1/build/XML-SAX-Base-1.08/blib/arch:/home/cpan/pit/64bit/conf/perl-5.14.1/.cpanplus/5.14.1/build/XML-SAX-0.99/blib/lib:/home/cpan/pit/64bit/conf/perl-5.14.1/.cpanplus/5.14.1/build/XML-SAX-0.99/blib/arch:/home/cpan/pit/64bit/conf/perl-5.14.1/.cpanplus/5.14.1/build/XML-Filter-BufferText-1.01/blib/lib:/home/cpan/pit/64bit/conf/perl-5.14.1/.cpanplus/5.14.1/build/XML-Filter-BufferText-1.01/blib/arch:/home/cpan/pit/64bit/conf/perl-5.14.1/.cpanplus/5.14.1/build/XML-SAX-Writer-0.53/blib/lib:/home/cpan/pit/64bit/conf/perl-5.14.1/.cpanplus/5.14.1/build/XML-SAX-Writer-0.53/blib/arch:/home/cpan/pit/64bit/conf/perl-5.14.1/.cpanplus/5.14.1/build/XML-Filter-SAX1toSAX2-0.03/blib/lib:/home/cpan/pit/64bit/conf/perl-5.14.1/.cpanplus/5.14.1/build/XML-Filter-SAX1toSAX2-0.03/blib/arch:/home/cpan/pit/64bit/conf/perl-5.14.1/.cpanplus/5.14.1/build/Encode-Locale-1.02/blib/lib:/home/cpan/pit/64bit/conf/perl-5.14.1/.cpanplus/5.14.1/build/Encode-Locale-1.02/blib/arch:/home/cpan/pit/64bit/conf/perl-5.14.1/.cpanplus/5.14.1/build/HTTP-Date-6.00/blib/lib:/home/cpan/pit/64bit/conf/perl-5.14.1/.cpanplus/5.14.1/build/HTTP-Date-6.00/blib/arch:/home/cpan/pit/64bit/conf/perl-5.14.1/.cpanplus/5.14.1/build/File-Listing-6.03/blib/lib:/home/cpan/pit/64bit/conf/perl-5.14.1/.cpanplus/5.14.1/build/File-Listing-6.03/blib/arch:/home/cpan/pit/64bit/conf/perl-5.14.1/.cpanplus/5.14.1/build/HTML-Tagset-3.20/blib/lib:/home/cpan/pit/64bit/conf/perl-5.14.1/.cpanplus/5.14.1/build/HTML-Tagset-3.20/blib/arch:/home/cpan/pit/64bit/conf/perl-5.14.1/.cpanplus/5.14.1/build/HTML-Parser-3.69/blib/lib:/home/cpan/pit/64bit/conf/perl-5.14.1/.cpanplus/5.14.1/build/HTML-Parser-3.69/blib/arch:/home/cpan/pit/64bit/conf/perl-5.14.1/.cpanplus/5.14.1/build/LWP-MediaTypes-6.01/blib/lib:/home/cpan/pit/64bit/conf/perl-5.14.1/.cpanplus/5.14.1/build/LWP-MediaTypes-6.01/blib/arch:/home/cpan/pit/64bit/conf/perl-5.14.1/.cpanplus/5.14.1/build/URI-1.59/blib/lib:/home/cpan/pit/64bit/conf/perl-5.14.1/.cpanplus/5.14.1/build/URI-1.59/blib/arch:/home/cpan/pit/64bit/conf/perl-5.14.1/.cpanplus/5.14.1/build/HTTP-Message-6.02/blib/lib:/home/cpan/pit/64bit/conf/perl-5.14.1/.cpanplus/5.14.1/build/HTTP-Message-6.02/blib/arch:/home/cpan/pit/64bit/conf/perl-5.14.1/.cpanplus/5.14.1/build/HTTP-Cookies-6.00/blib/lib:/home/cpan/pit/64bit/conf/perl-5.14.1/.cpanplus/5.14.1/build/HTTP-Cookies-6.00/blib/arch:/home/cpan/pit/64bit/conf/perl-5.14.1/.cpanplus/5.14.1/build/HTTP-Daemon-6.00/blib/lib:/home/cpan/pit/64bit/conf/perl-5.14.1/.cpanplus/5.14.1/build/HTTP-Daemon-6.00/blib/arch:/home/cpan/pit/64bit/conf/perl-5.14.1/.cpanplus/5.14.1/build/HTTP-Negotiate-6.00/blib/lib:/home/cpan/pit/64bit/conf/perl-5.14.1/.cpanplus/5.14.1/build/HTTP-Negotiate-6.00/blib/arch:/home/cpan/pit/64bit/conf/perl-5.14.1/.cpanplus/5.14.1/build/Net-HTTP-6.01/blib/lib:/home/cpan/pit/64bit/conf/perl-5.14.1/.cpanplus/5.14.1/build/Net-HTTP-6.01/blib/arch:/home/cpan/pit/64bit/conf/perl-5.14.1/.cpanplus/5.14.1/build/WWW-RobotRules-6.01/blib/lib:/home/cpan/pit/64bit/conf/perl-5.14.1/.cpanplus/5.14.1/build/WWW-RobotRules-6.01/blib/arch:/home/cpan/pit/64bit/conf/perl-5.14.1/.cpanplus/5.14.1/build/libwww-perl-6.03/blib/lib:/home/cpan/pit/64bit/conf/perl-5.14.1/.cpanplus/5.14.1/build/libwww-perl-6.03/blib/arch:/home/cpan/pit/64bit/conf/perl-5.14.1/.cpanplus/5.14.1/build/XML-Parser-2.41/blib/lib:/home/cpan/pit/64bit/conf/perl-5.14.1/.cpanplus/5.14.1/build/XML-Parser-2.41/blib/arch:/home/cpan/pit/64bit/conf/perl-5.14.1/.cpanplus/5.14.1/build/XML-Writer-0.612/blib/lib:/home/cpan/pit/64bit/conf/perl-5.14.1/.cpanplus/5.14.1/build/XML-Writer-0.612/blib/arch:/home/cpan/pit/64bit/conf/perl-5.14.1/.cpanplus/5.14.1/build/XML-Flow-0.86/blib/lib:/home/cpan/pit/64bit/conf/perl-5.14.1/.cpanplus/5.14.1/build/XML-Flow-0.86/blib/arch:/home/cpan/pit/64bit/conf/perl-5.14.1/.cpanplus/5.14.1/build/libxml-perl-0.08/blib/lib:/home/cpan/pit/64bit/conf/perl-5.14.1/.cpanplus/5.14.1/build/libxml-perl-0.08/blib/arch:/home/cpan/pit/64bit/conf/perl-5.14.1/.cpanplus/5.14.1/build/XML-ExtOn-0.17/blib/lib:/home/cpan/pit/64bit/conf/perl-5.14.1/.cpanplus/5.14.1/build/XML-ExtOn-0.17/blib/arch
    PERL5_CPANPLUS_IS_RUNNING = 29153
    PERL5_CPANPLUS_IS_VERSION = 0.9111
    PERL5_MINISMOKEBOX = 0.54
    PERL5_YACSMOKE_BASE = /home/cpan/pit/64bit/conf/perl-5.14.1
    PERL_EXTUTILS_AUTOINSTALL = --defaultdeps
    PERL_MM_USE_DEFAULT = 1
    SHELL = /usr/pkg/bin/bash
    TERM = screen

Perl special variables (and OS-specific diagnostics, for MSWin32):

    Perl: $^X = /home/cpan/pit/64bit/perl-5.14.1/bin/perl
    UID:  $<  = 1001
    EUID: $>  = 1001
    GID:  $(  = 100 100
    EGID: $)  = 100 100


-------------------------------


--

Summary of my perl5 (revision 5 version 14 subversion 1) configuration:
   
  Platform:
    osname=netbsd, osvers=5.1, archname=i386-netbsd-64int
    uname='netbsd nephron.bingosnet.co.uk 5.1 netbsd 5.1 (generic) #0: sun nov 7 14:39:56 utc 2010 builds@b6.netbsd.org:homebuildsabnetbsd-5-1-releasei386201011061943z-objhomebuildsabnetbsd-5-1-releasesrcsysarchi386compilegeneric i386 '
    config_args='-des -Dprefix=/home/cpan/pit/64bit/perl-5.14.1 -Duse64bitint'
    hint=recommended, useposix=true, d_sigaction=define
    useithreads=undef, usemultiplicity=undef
    useperlio=define, d_sfio=undef, uselargefiles=define, usesocks=undef
    use64bitint=define, use64bitall=undef, uselongdouble=undef
    usemymalloc=n, bincompat5005=undef
  Compiler:
    cc='cc', ccflags ='-fno-strict-aliasing -pipe -fstack-protector -I/usr/pkg/include',
    optimize='-O',
    cppflags='-fno-strict-aliasing -pipe -fstack-protector -I/usr/pkg/include'
    ccversion='', gccversion='4.1.3 20080704 prerelease (NetBSD nb2 20081120)', gccosandvers=''
    intsize=4, longsize=4, ptrsize=4, doublesize=8, byteorder=12345678
    d_longlong=define, longlongsize=8, d_longdbl=define, longdblsize=12
    ivtype='long long', ivsize=8, nvtype='double', nvsize=8, Off_t='off_t', lseeksize=8
    alignbytes=4, prototype=define
  Linker and Libraries:
    ld='cc', ldflags =' -Wl,-rpath,/usr/pkg/lib -Wl,-rpath,/usr/local/lib -fstack-protector -L/usr/pkg/lib'
    libpth=/usr/pkg/lib /lib /usr/lib
    libs=-lgdbm -lm -lcrypt -lutil -lc -lposix
    perllibs=-lm -lcrypt -lutil -lc -lposix
    libc=/lib/libc.so, so=so, useshrplib=false, libperl=libperl.a
    gnulibc_version=''
  Dynamic Linking:
    dlsrc=dl_dlopen.xs, dlext=so, d_dlsymun=undef, ccdlflags='-Wl,-E '
    cccdlflags='-DPIC -fPIC ', lddlflags='--whole-archive -shared  -L/usr/pkg/lib -fstack-protector'


Characteristics of this binary (from libperl): 
  Compile-time options: PERL_DONT_CREATE_GVSV PERL_MALLOC_WRAP
                        PERL_PRESERVE_IVUV USE_64_BIT_INT USE_LARGE_FILES
                        USE_PERLIO USE_PERL_ATOF
  Built under netbsd
  Compiled at Oct 24 2011 04:33:21
  %ENV:
    PERL5LIB=":/home/cpan/pit/64bit/conf/perl-5.14.1/.cpanplus/5.14.1/build/MRO-Compat-0.11/blib/lib:/home/cpan/pit/64bit/conf/perl-5.14.1/.cpanplus/5.14.1/build/MRO-Compat-0.11/blib/arch:/home/cpan/pit/64bit/conf/perl-5.14.1/.cpanplus/5.14.1/build/Sub-Uplevel-0.22/blib/lib:/home/cpan/pit/64bit/conf/perl-5.14.1/.cpanplus/5.14.1/build/Sub-Uplevel-0.22/blib/arch:/home/cpan/pit/64bit/conf/perl-5.14.1/.cpanplus/5.14.1/build/Test-Exception-0.31/blib/lib:/home/cpan/pit/64bit/conf/perl-5.14.1/.cpanplus/5.14.1/build/Test-Exception-0.31/blib/arch:/home/cpan/pit/64bit/conf/perl-5.14.1/.cpanplus/5.14.1/build/Test-Class-0.36/blib/lib:/home/cpan/pit/64bit/conf/perl-5.14.1/.cpanplus/5.14.1/build/Test-Class-0.36/blib/arch:/home/cpan/pit/64bit/conf/perl-5.14.1/.cpanplus/5.14.1/build/Tie-UnionHash-0.02/blib/lib:/home/cpan/pit/64bit/conf/perl-5.14.1/.cpanplus/5.14.1/build/Tie-UnionHash-0.02/blib/arch:/home/cpan/pit/64bit/conf/perl-5.14.1/.cpanplus/5.14.1/build/XML-NamespaceSupport-1.11/blib/lib:/home/cpan/pit/64bit/conf/perl-5.14.1/.cpanplus/5.14.1/build/XML-NamespaceSupport-1.11/blib/arch:/home/cpan/pit/64bit/conf/perl-5.14.1/.cpanplus/5.14.1/build/XML-SAX-Base-1.08/blib/lib:/home/cpan/pit/64bit/conf/perl-5.14.1/.cpanplus/5.14.1/build/XML-SAX-Base-1.08/blib/arch:/home/cpan/pit/64bit/conf/perl-5.14.1/.cpanplus/5.14.1/build/XML-SAX-0.99/blib/lib:/home/cpan/pit/64bit/conf/perl-5.14.1/.cpanplus/5.14.1/build/XML-SAX-0.99/blib/arch:/home/cpan/pit/64bit/conf/perl-5.14.1/.cpanplus/5.14.1/build/XML-Filter-BufferText-1.01/blib/lib:/home/cpan/pit/64bit/conf/perl-5.14.1/.cpanplus/5.14.1/build/XML-Filter-BufferText-1.01/blib/arch:/home/cpan/pit/64bit/conf/perl-5.14.1/.cpanplus/5.14.1/build/XML-SAX-Writer-0.53/blib/lib:/home/cpan/pit/64bit/conf/perl-5.14.1/.cpanplus/5.14.1/build/XML-SAX-Writer-0.53/blib/arch:/home/cpan/pit/64bit/conf/perl-5.14.1/.cpanplus/5.14.1/build/XML-Filter-SAX1toSAX2-0.03/blib/lib:/home/cpan/pit/64bit/conf/perl-5.14.1/.cpanplus/5.14.1/build/XML-Filter-SAX1toSAX2-0.03/blib/arch:/home/cpan/pit/64bit/conf/perl-5.14.1/.cpanplus/5.14.1/build/Encode-Locale-1.02/blib/lib:/home/cpan/pit/64bit/conf/perl-5.14.1/.cpanplus/5.14.1/build/Encode-Locale-1.02/blib/arch:/home/cpan/pit/64bit/conf/perl-5.14.1/.cpanplus/5.14.1/build/HTTP-Date-6.00/blib/lib:/home/cpan/pit/64bit/conf/perl-5.14.1/.cpanplus/5.14.1/build/HTTP-Date-6.00/blib/arch:/home/cpan/pit/64bit/conf/perl-5.14.1/.cpanplus/5.14.1/build/File-Listing-6.03/blib/lib:/home/cpan/pit/64bit/conf/perl-5.14.1/.cpanplus/5.14.1/build/File-Listing-6.03/blib/arch:/home/cpan/pit/64bit/conf/perl-5.14.1/.cpanplus/5.14.1/build/HTML-Tagset-3.20/blib/lib:/home/cpan/pit/64bit/conf/perl-5.14.1/.cpanplus/5.14.1/build/HTML-Tagset-3.20/blib/arch:/home/cpan/pit/64bit/conf/perl-5.14.1/.cpanplus/5.14.1/build/HTML-Parser-3.69/blib/lib:/home/cpan/pit/64bit/conf/perl-5.14.1/.cpanplus/5.14.1/build/HTML-Parser-3.69/blib/arch:/home/cpan/pit/64bit/conf/perl-5.14.1/.cpanplus/5.14.1/build/LWP-MediaTypes-6.01/blib/lib:/home/cpan/pit/64bit/conf/perl-5.14.1/.cpanplus/5.14.1/build/LWP-MediaTypes-6.01/blib/arch:/home/cpan/pit/64bit/conf/perl-5.14.1/.cpanplus/5.14.1/build/URI-1.59/blib/lib:/home/cpan/pit/64bit/conf/perl-5.14.1/.cpanplus/5.14.1/build/URI-1.59/blib/arch:/home/cpan/pit/64bit/conf/perl-5.14.1/.cpanplus/5.14.1/build/HTTP-Message-6.02/blib/lib:/home/cpan/pit/64bit/conf/perl-5.14.1/.cpanplus/5.14.1/build/HTTP-Message-6.02/blib/arch:/home/cpan/pit/64bit/conf/perl-5.14.1/.cpanplus/5.14.1/build/HTTP-Cookies-6.00/blib/lib:/home/cpan/pit/64bit/conf/perl-5.14.1/.cpanplus/5.14.1/build/HTTP-Cookies-6.00/blib/arch:/home/cpan/pit/64bit/conf/perl-5.14.1/.cpanplus/5.14.1/build/HTTP-Daemon-6.00/blib/lib:/home/cpan/pit/64bit/conf/perl-5.14.1/.cpanplus/5.14.1/build/HTTP-Daemon-6.00/blib/arch:/home/cpan/pit/64bit/conf/perl-5.14.1/.cpanplus/5.14.1/build/HTTP-Negotiate-6.00/blib/lib:/home/cpan/pit/64bit/conf/perl-5.14.1/.cpanplus/5.14.1/build/HTTP-Negotiate-6.00/blib/arch:/home/cpan/pit/64bit/conf/perl-5.14.1/.cpanplus/5.14.1/build/Net-HTTP-6.01/blib/lib:/home/cpan/pit/64bit/conf/perl-5.14.1/.cpanplus/5.14.1/build/Net-HTTP-6.01/blib/arch:/home/cpan/pit/64bit/conf/perl-5.14.1/.cpanplus/5.14.1/build/WWW-RobotRules-6.01/blib/lib:/home/cpan/pit/64bit/conf/perl-5.14.1/.cpanplus/5.14.1/build/WWW-RobotRules-6.01/blib/arch:/home/cpan/pit/64bit/conf/perl-5.14.1/.cpanplus/5.14.1/build/libwww-perl-6.03/blib/lib:/home/cpan/pit/64bit/conf/perl-5.14.1/.cpanplus/5.14.1/build/libwww-perl-6.03/blib/arch:/home/cpan/pit/64bit/conf/perl-5.14.1/.cpanplus/5.14.1/build/XML-Parser-2.41/blib/lib:/home/cpan/pit/64bit/conf/perl-5.14.1/.cpanplus/5.14.1/build/XML-Parser-2.41/blib/arch:/home/cpan/pit/64bit/conf/perl-5.14.1/.cpanplus/5.14.1/build/XML-Writer-0.612/blib/lib:/home/cpan/pit/64bit/conf/perl-5.14.1/.cpanplus/5.14.1/build/XML-Writer-0.612/blib/arch:/home/cpan/pit/64bit/conf/perl-5.14.1/.cpanplus/5.14.1/build/XML-Flow-0.86/blib/lib:/home/cpan/pit/64bit/conf/perl-5.14.1/.cpanplus/5.14.1/build/XML-Flow-0.86/blib/arch:/home/cpan/pit/64bit/conf/perl-5.14.1/.cpanplus/5.14.1/build/libxml-perl-0.08/blib/lib:/home/cpan/pit/64bit/conf/perl-5.14.1/.cpanplus/5.14.1/build/libxml-perl-0.08/blib/arch:/home/cpan/pit/64bit/conf/perl-5.14.1/.cpanplus/5.14.1/build/XML-ExtOn-0.17/blib/lib:/home/cpan/pit/64bit/conf/perl-5.14.1/.cpanplus/5.14.1/build/XML-ExtOn-0.17/blib/arch"
    PERL5_CPANPLUS_IS_RUNNING="29153"
    PERL5_CPANPLUS_IS_VERSION="0.9111"
    PERL5_MINISMOKEBOX="0.54"
    PERL5_YACSMOKE_BASE="/home/cpan/pit/64bit/conf/perl-5.14.1"
    PERL_EXTUTILS_AUTOINSTALL="--defaultdeps"
    PERL_MM_USE_DEFAULT="1"
  @INC:
    /home/cpan/pit/64bit/conf/perl-5.14.1/.cpanplus/5.14.1/build/MRO-Compat-0.11/blib/lib
    /home/cpan/pit/64bit/conf/perl-5.14.1/.cpanplus/5.14.1/build/MRO-Compat-0.11/blib/arch
    /home/cpan/pit/64bit/conf/perl-5.14.1/.cpanplus/5.14.1/build/Sub-Uplevel-0.22/blib/lib
    /home/cpan/pit/64bit/conf/perl-5.14.1/.cpanplus/5.14.1/build/Sub-Uplevel-0.22/blib/arch
    /home/cpan/pit/64bit/conf/perl-5.14.1/.cpanplus/5.14.1/build/Test-Exception-0.31/blib/lib
    /home/cpan/pit/64bit/conf/perl-5.14.1/.cpanplus/5.14.1/build/Test-Exception-0.31/blib/arch
    /home/cpan/pit/64bit/conf/perl-5.14.1/.cpanplus/5.14.1/build/Test-Class-0.36/blib/lib
    /home/cpan/pit/64bit/conf/perl-5.14.1/.cpanplus/5.14.1/build/Test-Class-0.36/blib/arch
    /home/cpan/pit/64bit/conf/perl-5.14.1/.cpanplus/5.14.1/build/Tie-UnionHash-0.02/blib/lib
    /home/cpan/pit/64bit/conf/perl-5.14.1/.cpanplus/5.14.1/build/Tie-UnionHash-0.02/blib/arch
    /home/cpan/pit/64bit/conf/perl-5.14.1/.cpanplus/5.14.1/build/XML-NamespaceSupport-1.11/blib/lib
    /home/cpan/pit/64bit/conf/perl-5.14.1/.cpanplus/5.14.1/build/XML-NamespaceSupport-1.11/blib/arch
    /home/cpan/pit/64bit/conf/perl-5.14.1/.cpanplus/5.14.1/build/XML-SAX-Base-1.08/blib/lib
    /home/cpan/pit/64bit/conf/perl-5.14.1/.cpanplus/5.14.1/build/XML-SAX-Base-1.08/blib/arch
    /home/cpan/pit/64bit/conf/perl-5.14.1/.cpanplus/5.14.1/build/XML-SAX-0.99/blib/lib
    /home/cpan/pit/64bit/conf/perl-5.14.1/.cpanplus/5.14.1/build/XML-SAX-0.99/blib/arch
    /home/cpan/pit/64bit/conf/perl-5.14.1/.cpanplus/5.14.1/build/XML-Filter-BufferText-1.01/blib/lib
    /home/cpan/pit/64bit/conf/perl-5.14.1/.cpanplus/5.14.1/build/XML-Filter-BufferText-1.01/blib/arch
    /home/cpan/pit/64bit/conf/perl-5.14.1/.cpanplus/5.14.1/build/XML-SAX-Writer-0.53/blib/lib
    /home/cpan/pit/64bit/conf/perl-5.14.1/.cpanplus/5.14.1/build/XML-SAX-Writer-0.53/blib/arch
    /home/cpan/pit/64bit/conf/perl-5.14.1/.cpanplus/5.14.1/build/XML-Filter-SAX1toSAX2-0.03/blib/lib
    /home/cpan/pit/64bit/conf/perl-5.14.1/.cpanplus/5.14.1/build/XML-Filter-SAX1toSAX2-0.03/blib/arch
    /home/cpan/pit/64bit/conf/perl-5.14.1/.cpanplus/5.14.1/build/Encode-Locale-1.02/blib/lib
    /home/cpan/pit/64bit/conf/perl-5.14.1/.cpanplus/5.14.1/build/Encode-Locale-1.02/blib/arch
    /home/cpan/pit/64bit/conf/perl-5.14.1/.cpanplus/5.14.1/build/HTTP-Date-6.00/blib/lib
    /home/cpan/pit/64bit/conf/perl-5.14.1/.cpanplus/5.14.1/build/HTTP-Date-6.00/blib/arch
    /home/cpan/pit/64bit/conf/perl-5.14.1/.cpanplus/5.14.1/build/File-Listing-6.03/blib/lib
    /home/cpan/pit/64bit/conf/perl-5.14.1/.cpanplus/5.14.1/build/File-Listing-6.03/blib/arch
    /home/cpan/pit/64bit/conf/perl-5.14.1/.cpanplus/5.14.1/build/HTML-Tagset-3.20/blib/lib
    /home/cpan/pit/64bit/conf/perl-5.14.1/.cpanplus/5.14.1/build/HTML-Tagset-3.20/blib/arch
    /home/cpan/pit/64bit/conf/perl-5.14.1/.cpanplus/5.14.1/build/HTML-Parser-3.69/blib/lib
    /home/cpan/pit/64bit/conf/perl-5.14.1/.cpanplus/5.14.1/build/HTML-Parser-3.69/blib/arch
    /home/cpan/pit/64bit/conf/perl-5.14.1/.cpanplus/5.14.1/build/LWP-MediaTypes-6.01/blib/lib
    /home/cpan/pit/64bit/conf/perl-5.14.1/.cpanplus/5.14.1/build/LWP-MediaTypes-6.01/blib/arch
    /home/cpan/pit/64bit/conf/perl-5.14.1/.cpanplus/5.14.1/build/URI-1.59/blib/lib
    /home/cpan/pit/64bit/conf/perl-5.14.1/.cpanplus/5.14.1/build/URI-1.59/blib/arch
    /home/cpan/pit/64bit/conf/perl-5.14.1/.cpanplus/5.14.1/build/HTTP-Message-6.02/blib/lib
    /home/cpan/pit/64bit/conf/perl-5.14.1/.cpanplus/5.14.1/build/HTTP-Message-6.02/blib/arch
    /home/cpan/pit/64bit/conf/perl-5.14.1/.cpanplus/5.14.1/build/HTTP-Cookies-6.00/blib/lib
    /home/cpan/pit/64bit/conf/perl-5.14.1/.cpanplus/5.14.1/build/HTTP-Cookies-6.00/blib/arch
    /home/cpan/pit/64bit/conf/perl-5.14.1/.cpanplus/5.14.1/build/HTTP-Daemon-6.00/blib/lib
    /home/cpan/pit/64bit/conf/perl-5.14.1/.cpanplus/5.14.1/build/HTTP-Daemon-6.00/blib/arch
    /home/cpan/pit/64bit/conf/perl-5.14.1/.cpanplus/5.14.1/build/HTTP-Negotiate-6.00/blib/lib
    /home/cpan/pit/64bit/conf/perl-5.14.1/.cpanplus/5.14.1/build/HTTP-Negotiate-6.00/blib/arch
    /home/cpan/pit/64bit/conf/perl-5.14.1/.cpanplus/5.14.1/build/Net-HTTP-6.01/blib/lib
    /home/cpan/pit/64bit/conf/perl-5.14.1/.cpanplus/5.14.1/build/Net-HTTP-6.01/blib/arch
    /home/cpan/pit/64bit/conf/perl-5.14.1/.cpanplus/5.14.1/build/WWW-RobotRules-6.01/blib/lib
    /home/cpan/pit/64bit/conf/perl-5.14.1/.cpanplus/5.14.1/build/WWW-RobotRules-6.01/blib/arch
    /home/cpan/pit/64bit/conf/perl-5.14.1/.cpanplus/5.14.1/build/libwww-perl-6.03/blib/lib
    /home/cpan/pit/64bit/conf/perl-5.14.1/.cpanplus/5.14.1/build/libwww-perl-6.03/blib/arch
    /home/cpan/pit/64bit/conf/perl-5.14.1/.cpanplus/5.14.1/build/XML-Parser-2.41/blib/lib
    /home/cpan/pit/64bit/conf/perl-5.14.1/.cpanplus/5.14.1/build/XML-Parser-2.41/blib/arch
    /home/cpan/pit/64bit/conf/perl-5.14.1/.cpanplus/5.14.1/build/XML-Writer-0.612/blib/lib
    /home/cpan/pit/64bit/conf/perl-5.14.1/.cpanplus/5.14.1/build/XML-Writer-0.612/blib/arch
    /home/cpan/pit/64bit/conf/perl-5.14.1/.cpanplus/5.14.1/build/XML-Flow-0.86/blib/lib
    /home/cpan/pit/64bit/conf/perl-5.14.1/.cpanplus/5.14.1/build/XML-Flow-0.86/blib/arch
    /home/cpan/pit/64bit/conf/perl-5.14.1/.cpanplus/5.14.1/build/libxml-perl-0.08/blib/lib
    /home/cpan/pit/64bit/conf/perl-5.14.1/.cpanplus/5.14.1/build/libxml-perl-0.08/blib/arch
    /home/cpan/pit/64bit/conf/perl-5.14.1/.cpanplus/5.14.1/build/XML-ExtOn-0.17/blib/lib
    /home/cpan/pit/64bit/conf/perl-5.14.1/.cpanplus/5.14.1/build/XML-ExtOn-0.17/blib/arch
    /home/cpan/pit/64bit/perl-5.14.1/lib/site_perl/5.14.1/i386-netbsd-64int
    /home/cpan/pit/64bit/perl-5.14.1/lib/site_perl/5.14.1
    /home/cpan/pit/64bit/perl-5.14.1/lib/5.14.1/i386-netbsd-64int
    /home/cpan/pit/64bit/perl-5.14.1/lib/5.14.1
    .