Back
From: metabase:user:6b7c0268-6bfa-1014-b492-d6f6123e60b2
Subject: PASS AnyEvent-Filesys-Notify-1.14 v5.18.2 RC3
Date: 2013-12-22T21:11:48Z
This distribution has been tested as part of the CPAN Testers
project, supporting the Perl programming language. See
http://wiki.cpantesters.org/ for more information or email
questions to cpan-testers-discuss@perl.org
--
Dear Mark Grimes,
This is a computer-generated report for AnyEvent-Filesys-Notify-1.14
on perl 5.18.2, created by CPAN-Reporter-1.2010.
Thank you for uploading your work to CPAN. Congratulations!
All tests were successful.
Sections of this report:
* Tester comments
* Program output
* Prerequisites
* Environment and other context
------------------------------
TESTER COMMENTS
------------------------------
Additional comments from tester:
this report is from an automated smoke testing program
and was not reviewed by a human for accuracy
------------------------------
PROGRAM OUTPUT
------------------------------
Output from 'C:\smoker\51821x64\perl\bin\perl.exe ./Build test':
t\00-load.t ............. ok
t\10-plugins.t .......... ok
t\11-plugin-default.t ... ok
t\20-scan_fs.t .......... ok
t\21-scan_fs_links.t .... skipped: symlink not implemented on Win32
# This might take a few seconds to run...
t\30-event.t ............ ok
# This might take a few seconds to run...
t\31-notify-fallback.t .. ok
# This might take a few seconds to run...
t\32-specify-backend.t .. ok
t\33-specify-kqueue.t ... skipped: Test only on Mac with IO::KQueue
# This might take a few seconds to run...
t\34-parse_events.t ..... ok
t\40-bugs.t ............. ok
All tests successful.
Files=11, Tests=84, 43 wallclock secs ( 0.17 usr + 0.05 sys = 0.22 CPU)
Result: PASS
------------------------------
PREREQUISITES
------------------------------
Prerequisite modules loaded:
requires:
Module Need Have
---------------------------- -------- --------
AnyEvent 7.05 7.07
Carp 1.20 1.32
Cwd 3.40 3.40
Moo 1.003001 1.003001
MooX::late 0.014 0.014
MooX::Types::MooseLike::Base 0.25 0.25
namespace::sweep 0.006 0.006
Path::Iterator::Rule 1.005 1.006
Try::Tiny 0.18 0.18
build_requires:
Module Need Have
---------------------------- -------- --------
autodie 0 2.22
Data::Dump 0 1.22
Exporter 0 5.68
File::Basename 0 2.84
File::Find 0 1.23
File::Path 0 2.09
File::Spec 0 3.40
File::Temp 0 0.2304
Test::Exception 0 0.32
Test::More 0.87 1.001002
Test::Without::Module 0 0.17
configure_requires:
Module Need Have
---------------------------- -------- --------
Module::Build 0.4004 0.4203
------------------------------
ENVIRONMENT AND OTHER CONTEXT
------------------------------
Environment variables:
AUTOMATED_TESTING = 1
COMSPEC = C:\Windows\system32\cmd.exe
NUMBER_OF_PROCESSORS = 3
PATH = C:\smoker\51821x64\perl\site\bin;C:\smoker\51821x64\perl\bin;C:\smoker\51821x64\c\bin;C:\Windows\system32;C:\Windows;C:\Windows\System32\Wbem
PERL5LIB =
PERL5OPT =
PERL5_CPANPLUS_IS_RUNNING = 3032
PERL5_CPAN_IS_RUNNING = 3032
PERL5_CPAN_IS_RUNNING_IN_RECURSION = 2696,3032
PERL_CR_SMOKER_CURRENT = AnyEvent-Filesys-Notify-1.14
PERL_EXTUTILS_AUTOINSTALL = --defaultdeps
PERL_MM_USE_DEFAULT = 1
PROCESSOR_IDENTIFIER = Intel64 Family 6 Model 13 Stepping 3, GenuineIntel
TEMP = C:\Users\smoker\AppData\Local\Temp\3
Perl special variables (and OS-specific diagnostics, for MSWin32):
$^X = C:\smoker\51821x64\perl\bin\perl.exe
$UID/$EUID = 0 / 0
$GID = 0
$EGID = 0
Win32::GetOSName = Win2012
Win32::GetOSVersion = , 6, 2, 9200, 2, 0, 0, 400, 3
Win32::FsType = NTFS
Win32::IsAdminUser = 0
Perl module toolchain versions installed:
Module Have
------------------- --------
CPAN 2.00
CPAN::Meta 2.133380
Cwd 3.40
ExtUtils::CBuilder 0.280212
ExtUtils::Command 1.18
ExtUtils::Install 1.59
ExtUtils::MakeMaker 6.84
ExtUtils::Manifest 1.63
ExtUtils::ParseXS 3.22
File::Spec 3.40
JSON 2.90
JSON::PP 2.27203
Module::Build 0.4203
Module::Signature n/a
Parse::CPAN::Meta 1.4409
Test::Harness 3.30
Test::More 1.001002
YAML 0.88
YAML::Syck n/a
version 0.9904
--
Summary of my perl5 (revision 5 version 18 subversion 2) configuration:
Platform:
osname=MSWin32, osvers=6.2, archname=MSWin32-x64-multi-thread
uname='Win32 strawberry-perl 5.18.2.1 #1 Fri Dec 20 23:52:12 2013 x64'
config_args='undef'
hint=recommended, useposix=true, d_sigaction=undef
useithreads=define, usemultiplicity=define
useperlio=define, d_sfio=undef, uselargefiles=define, usesocks=undef
use64bitint=define, use64bitall=undef, uselongdouble=undef
usemymalloc=n, bincompat5005=undef
Compiler:
cc='gcc', ccflags =' -s -O2 -DWIN32 -DWIN64 -DCONSERVATIVE -DPERL_TEXTMODE_SCRIPTS -DPERL_IMPLICIT_CONTEXT -DPERL_IMPLICIT_SYS -DUSE_PERLIO -fno-strict-aliasing -mms-bitfields',
optimize='-s -O2',
cppflags='-DWIN32'
ccversion='', gccversion='4.7.3', gccosandvers=''
intsize=4, longsize=4, ptrsize=8, doublesize=8, byteorder=12345678
d_longlong=define, longlongsize=8, d_longdbl=define, longdblsize=12
ivtype='long long', ivsize=8, nvtype='double', nvsize=8, Off_t='long long', lseeksize=8
alignbytes=8, prototype=define
Linker and Libraries:
ld='g++', ldflags ='-s -L"C:\smoker\51821x64\perl\lib\CORE" -L"C:\smoker\51821x64\c\lib"'
libpth=C:\smoker\51821x64\c\lib C:\smoker\51821x64\c\x86_64-w64-mingw32\lib C:\smoker\51821x64\c\lib\gcc\x86_64-w64-mingw32\4.7.3
libs=-lmoldname -lkernel32 -luser32 -lgdi32 -lwinspool -lcomdlg32 -ladvapi32 -lshell32 -lole32 -loleaut32 -lnetapi32 -luuid -lws2_32 -lmpr -lwinmm -lversion -lodbc32 -lodbccp32 -lcomctl32
perllibs=-lmoldname -lkernel32 -luser32 -lgdi32 -lwinspool -lcomdlg32 -ladvapi32 -lshell32 -lole32 -loleaut32 -lnetapi32 -luuid -lws2_32 -lmpr -lwinmm -lversion -lodbc32 -lodbccp32 -lcomctl32
libc=, so=dll, useshrplib=true, libperl=libperl518.a
gnulibc_version=''
Dynamic Linking:
dlsrc=dl_win32.xs, dlext=dll, d_dlsymun=undef, ccdlflags=' '
cccdlflags=' ', lddlflags='-mdll -s -L"C:\smoker\51821x64\perl\lib\CORE" -L"C:\smoker\51821x64\c\lib"'
Characteristics of this binary (from libperl):
Compile-time options: HAS_TIMES HAVE_INTERP_INTERN MULTIPLICITY
PERLIO_LAYERS PERL_DONT_CREATE_GVSV
PERL_HASH_FUNC_ONE_AT_A_TIME_HARD
PERL_IMPLICIT_CONTEXT PERL_IMPLICIT_SYS
PERL_MALLOC_WRAP PERL_PRESERVE_IVUV PERL_SAWAMPERSAND
USE_64_BIT_INT USE_ITHREADS USE_LARGE_FILES
USE_LOCALE USE_LOCALE_COLLATE USE_LOCALE_CTYPE
USE_LOCALE_NUMERIC USE_PERLIO USE_PERL_ATOF
Locally applied patches:
RC3
Built under MSWin32
Compiled at Dec 21 2013 00:00:32
%ENV:
PERL5_CPANPLUS_IS_RUNNING="3032"
PERL5_CPAN_IS_RUNNING="3032"
PERL5_CPAN_IS_RUNNING_IN_RECURSION="2696,3032"
PERL_CR_SMOKER_CURRENT="AnyEvent-Filesys-Notify-1.14"
PERL_EXTUTILS_AUTOINSTALL="--defaultdeps"
PERL_MM_USE_DEFAULT="1"
@INC:
C:/smoker/51821x64/perl/site/lib
C:/smoker/51821x64/perl/vendor/lib
C:/smoker/51821x64/perl/lib
.