Back
From: metabase:user:a24acd10-e64f-11e4-9b94-62d31942f6e4
Subject: PASS Data-DPath-0.52 v5.21.10 GNU/Linux
Date: 2015-04-19T06:33:20Z
This distribution has been tested as part of the CPAN Testers
project, supporting the Perl programming language. See
http://wiki.cpantesters.org/ for more information or email
questions to cpan-testers-discuss@perl.org
--
Dear Steffen Schwigon,
This is a computer-generated report for Data-DPath-0.52
on perl 5.21.10, created by CPAN-Reporter-1.2014.
Thank you for uploading your work to CPAN. Congratulations!
All tests were successful.
Sections of this report:
* Tester comments
* Program output
* Prerequisites
* Environment and other context
------------------------------
TESTER COMMENTS
------------------------------
Additional comments from tester:
none provided
------------------------------
PROGRAM OUTPUT
------------------------------
Output from '/usr/bin/make test':
PERL_DL_NONLAZY=1 "/home/vagrant/perl5/perlbrew/perls/5.21.10/bin/perl5.21.10" "-MExtUtils::Command::MM" "-MTest::Harness" "-e" "undef *Test::Harness::Switches; test_harness(0, 'blib/lib', 'blib/arch')" t/*.t
t/00-load.t .................. ok
t/basics_without_overload.t .. ok
t/cyclic_structures.t ........ ok
Smartmatch is experimental at t/data_dpath.t line 236.
Smartmatch is experimental at t/data_dpath.t line 237.
Smartmatch is experimental at t/data_dpath.t line 238.
Smartmatch is experimental at t/data_dpath.t line 245.
Smartmatch is experimental at t/data_dpath.t line 246.
Smartmatch is experimental at t/data_dpath.t line 247.
Smartmatch is experimental at t/data_dpath.t line 248.
Smartmatch is experimental at t/data_dpath.t line 267.
Smartmatch is experimental at t/data_dpath.t line 270.
Smartmatch is experimental at t/data_dpath.t line 273.
Smartmatch is experimental at t/data_dpath.t line 276.
Smartmatch is experimental at t/data_dpath.t line 279.
Smartmatch is experimental at t/data_dpath.t line 285.
Smartmatch is experimental at t/data_dpath.t line 288.
Smartmatch is experimental at t/data_dpath.t line 291.
Smartmatch is experimental at t/data_dpath.t line 293.
Smartmatch is experimental at t/data_dpath.t line 296.
Smartmatch is experimental at t/data_dpath.t line 302.
Smartmatch is experimental at t/data_dpath.t line 312.
Smartmatch is experimental at t/data_dpath.t line 320.
Smartmatch is experimental at t/data_dpath.t line 323.
Smartmatch is experimental at t/data_dpath.t line 331.
Smartmatch is experimental at t/data_dpath.t line 336.
Smartmatch is experimental at t/data_dpath.t line 343.
Smartmatch is experimental at t/data_dpath.t line 352.
Smartmatch is experimental at t/data_dpath.t line 360.
Smartmatch is experimental at t/data_dpath.t line 362.
Smartmatch is experimental at t/data_dpath.t line 365.
Smartmatch is experimental at t/data_dpath.t line 367.
Smartmatch is experimental at t/data_dpath.t line 370.
Smartmatch is experimental at t/data_dpath.t line 373.
Smartmatch is experimental at t/data_dpath.t line 374.
Smartmatch is experimental at t/data_dpath.t line 377.
Smartmatch is experimental at t/data_dpath.t line 380.
Smartmatch is experimental at t/data_dpath.t line 383.
Smartmatch is experimental at t/data_dpath.t line 386.
Smartmatch is experimental at t/data_dpath.t line 395.
Smartmatch is experimental at t/data_dpath.t line 398.
Smartmatch is experimental at t/data_dpath.t line 408.
Smartmatch is experimental at t/data_dpath.t line 417.
Smartmatch is experimental at t/data_dpath.t line 422.
Smartmatch is experimental at t/data_dpath.t line 429.
Smartmatch is experimental at t/data_dpath.t line 435.
Smartmatch is experimental at t/data_dpath.t line 437.
Smartmatch is experimental at t/data_dpath.t line 440.
Smartmatch is experimental at t/data_dpath.t line 442.
Smartmatch is experimental at t/data_dpath.t line 445.
Smartmatch is experimental at t/data_dpath.t line 447.
Smartmatch is experimental at t/data_dpath.t line 450.
Smartmatch is experimental at t/data_dpath.t line 452.
Smartmatch is experimental at t/data_dpath.t line 455.
Smartmatch is experimental at t/data_dpath.t line 457.
Smartmatch is experimental at t/data_dpath.t line 460.
Smartmatch is experimental at t/data_dpath.t line 462.
Smartmatch is experimental at t/data_dpath.t line 465.
Smartmatch is experimental at t/data_dpath.t line 468.
Smartmatch is experimental at t/data_dpath.t line 472.
Smartmatch is experimental at t/data_dpath.t line 476.
Smartmatch is experimental at t/data_dpath.t line 479.
Smartmatch is experimental at t/data_dpath.t line 483.
Smartmatch is experimental at t/data_dpath.t line 497.
Smartmatch is experimental at t/data_dpath.t line 500.
Smartmatch is experimental at t/data_dpath.t line 503.
Smartmatch is experimental at t/data_dpath.t line 513.
Smartmatch is experimental at t/data_dpath.t line 516.
Smartmatch is experimental at t/data_dpath.t line 519.
Smartmatch is experimental at t/data_dpath.t line 523.
Smartmatch is experimental at t/data_dpath.t line 527.
Smartmatch is experimental at t/data_dpath.t line 529.
Smartmatch is experimental at t/data_dpath.t line 531.
Smartmatch is experimental at t/data_dpath.t line 533.
Smartmatch is experimental at t/data_dpath.t line 535.
Smartmatch is experimental at t/data_dpath.t line 537.
Smartmatch is experimental at t/data_dpath.t line 581.
Smartmatch is experimental at t/data_dpath.t line 584.
Smartmatch is experimental at t/data_dpath.t line 587.
Smartmatch is experimental at t/data_dpath.t line 592.
Smartmatch is experimental at t/data_dpath.t line 596.
Smartmatch is experimental at t/data_dpath.t line 599.
Smartmatch is experimental at t/data_dpath.t line 602.
Smartmatch is experimental at t/data_dpath.t line 605.
Smartmatch is experimental at t/data_dpath.t line 608.
Smartmatch is experimental at t/data_dpath.t line 613.
Smartmatch is experimental at t/data_dpath.t line 617.
Smartmatch is experimental at t/data_dpath.t line 621.
Smartmatch is experimental at t/data_dpath.t line 625.
Smartmatch is experimental at t/data_dpath.t line 629.
Smartmatch is experimental at t/data_dpath.t line 633.
Smartmatch is experimental at t/data_dpath.t line 637.
Smartmatch is experimental at t/data_dpath.t line 641.
Smartmatch is experimental at t/data_dpath.t line 645.
Smartmatch is experimental at t/data_dpath.t line 649.
Smartmatch is experimental at t/data_dpath.t line 653.
Smartmatch is experimental at t/data_dpath.t line 657.
Smartmatch is experimental at t/data_dpath.t line 661.
Smartmatch is experimental at t/data_dpath.t line 665.
Smartmatch is experimental at t/data_dpath.t line 669.
Smartmatch is experimental at t/data_dpath.t line 673.
Smartmatch is experimental at t/data_dpath.t line 677.
Smartmatch is experimental at t/data_dpath.t line 681.
Smartmatch is experimental at t/data_dpath.t line 685.
Smartmatch is experimental at t/data_dpath.t line 689.
Smartmatch is experimental at t/data_dpath.t line 693.
Smartmatch is experimental at t/data_dpath.t line 729.
Smartmatch is experimental at t/data_dpath.t line 732.
Smartmatch is experimental at t/data_dpath.t line 735.
Smartmatch is experimental at t/data_dpath.t line 738.
Smartmatch is experimental at t/data_dpath.t line 741.
Smartmatch is experimental at t/data_dpath.t line 747.
Smartmatch is experimental at t/data_dpath.t line 751.
Smartmatch is experimental at t/data_dpath.t line 757.
Smartmatch is experimental at t/data_dpath.t line 760.
Smartmatch is experimental at t/data_dpath.t line 764.
Smartmatch is experimental at t/data_dpath.t line 771.
Smartmatch is experimental at t/data_dpath.t line 778.
Smartmatch is experimental at t/data_dpath.t line 785.
Smartmatch is experimental at t/data_dpath.t line 790.
Smartmatch is experimental at t/data_dpath.t line 795.
Smartmatch is experimental at t/data_dpath.t line 802.
Smartmatch is experimental at t/data_dpath.t line 810.
Smartmatch is experimental at t/data_dpath.t line 818.
Smartmatch is experimental at t/data_dpath.t line 826.
Smartmatch is experimental at t/data_dpath.t line 829.
Smartmatch is experimental at t/data_dpath.t line 836.
Smartmatch is experimental at t/data_dpath.t line 842.
Smartmatch is experimental at t/data_dpath.t line 847.
Smartmatch is experimental at t/data_dpath.t line 865.
Smartmatch is experimental at t/data_dpath.t line 874.
Smartmatch is experimental at t/data_dpath.t line 877.
Smartmatch is experimental at t/data_dpath.t line 880.
Smartmatch is experimental at t/data_dpath.t line 883.
Smartmatch is experimental at t/data_dpath.t line 904.
Smartmatch is experimental at t/data_dpath.t line 907.
Smartmatch is experimental at t/data_dpath.t line 912.
Smartmatch is experimental at t/data_dpath.t line 915.
Smartmatch is experimental at t/data_dpath.t line 918.
Smartmatch is experimental at t/data_dpath.t line 925.
Smartmatch is experimental at t/data_dpath.t line 943.
Smartmatch is experimental at t/data_dpath.t line 997.
Smartmatch is experimental at t/data_dpath.t line 1006.
Smartmatch is experimental at (eval 217) line 1.
Smartmatch is experimental at (eval 219) line 1.
Smartmatch is experimental at (eval 233) line 1.
Smartmatch is experimental at (eval 235) line 1.
Smartmatch is experimental at (eval 237) line 1.
Smartmatch is experimental at (eval 239) line 1.
Smartmatch is experimental at (eval 241) line 1.
Smartmatch is experimental at (eval 243) line 1.
Smartmatch is experimental at (eval 245) line 1.
Smartmatch is experimental at (eval 247) line 1.
Smartmatch is experimental at (eval 249) line 1.
Smartmatch is experimental at (eval 251) line 1.
Smartmatch is experimental at (eval 253) line 1.
Smartmatch is experimental at (eval 255) line 1.
Smartmatch is experimental at (eval 281) line 1.
Smartmatch is experimental at (eval 283) line 1.
Smartmatch is experimental at (eval 285) line 1.
Smartmatch is experimental at (eval 287) line 1.
Smartmatch is experimental at (eval 289) line 1.
Smartmatch is experimental at (eval 291) line 1.
Smartmatch is experimental at (eval 293) line 1.
Smartmatch is experimental at (eval 295) line 1.
Smartmatch is experimental at (eval 297) line 1.
Smartmatch is experimental at (eval 299) line 1.
Smartmatch is experimental at (eval 301) line 1.
Smartmatch is experimental at (eval 303) line 1.
Smartmatch is experimental at (eval 503) line 1.
Smartmatch is experimental at (eval 505) line 1.
Smartmatch is experimental at (eval 507) line 1.
Smartmatch is experimental at (eval 509) line 1.
Smartmatch is experimental at (eval 511) line 1.
Smartmatch is experimental at (eval 513) line 1.
Smartmatch is experimental at (eval 515) line 1.
Smartmatch is experimental at (eval 517) line 1.
Smartmatch is experimental at (eval 519) line 1.
Smartmatch is experimental at (eval 521) line 1.
Smartmatch is experimental at (eval 523) line 1.
Smartmatch is experimental at (eval 525) line 1.
Smartmatch is experimental at (eval 527) line 1.
Smartmatch is experimental at (eval 529) line 1.
Smartmatch is experimental at (eval 531) line 1.
Smartmatch is experimental at (eval 533) line 1.
Smartmatch is experimental at (eval 535) line 1.
Smartmatch is experimental at (eval 537) line 1.
Smartmatch is experimental at (eval 539) line 1.
Smartmatch is experimental at (eval 541) line 1.
t/data_dpath.t ............... ok
t/iterator.t ................. ok
Smartmatch is experimental at t/optimization.t line 36.
Smartmatch is experimental at t/optimization.t line 39.
Smartmatch is experimental at t/optimization.t line 70.
Smartmatch is experimental at t/optimization.t line 73.
t/optimization.t ............. ok
t/parallel.t ................. ok
t/path.t ..................... ok
t/references.t ............... ok
Smartmatch is experimental at t/regressions.t line 30.
Smartmatch is experimental at t/regressions.t line 38.
Smartmatch is experimental at t/regressions.t line 46.
Smartmatch is experimental at t/regressions.t line 50.
t/regressions.t .............. ok
t/release-eol.t .............. skipped: these tests are for release candidate testing
t/release-no-tabs.t .......... skipped: these tests are for release candidate testing
t/release-pod-coverage.t ..... skipped: these tests are for release candidate testing
t/release-pod-syntax.t ....... skipped: these tests are for release candidate testing
Smartmatch is experimental at t/zeros.t line 42.
Smartmatch is experimental at t/zeros.t line 45.
Smartmatch is experimental at t/zeros.t line 48.
Smartmatch is experimental at t/zeros.t line 51.
Smartmatch is experimental at t/zeros.t line 54.
Smartmatch is experimental at t/zeros.t line 57.
Smartmatch is experimental at t/zeros.t line 60.
Smartmatch is experimental at t/zeros.t line 63.
Smartmatch is experimental at t/zeros.t line 66.
t/zeros.t .................... ok
All tests successful.
Files=15, Tests=472, 5 wallclock secs ( 0.30 usr 0.12 sys + 3.04 cusr 0.97 csys = 4.43 CPU)
Result: PASS
------------------------------
PREREQUISITES
------------------------------
Prerequisite modules loaded:
requires:
Module Need Have
------------------------ ---- ------------
aliased 0.33 0.34
Class::XSAccessor 0 1.19
Class::XSAccessor::Array 0 1.19
constant 0 1.33
Data::Dumper 0 2.158
Iterator::Util 0 0.02
List::MoreUtils 0 0.410
List::Util 0 1.41
POSIX 0 1.52
Safe 2.30 2.39
Scalar::Util 0 1.41
strict 0 1.09
Sub::Exporter 0 0.987
Text::Balanced 2.02 2.03
warnings 0 1.31
build_requires:
Module Need Have
------------------------ ---- ------------
Test::Deep 0 0.115
Test::More 0.88 1.301001_105
configure_requires:
Module Need Have
------------------------ ---- ------------
ExtUtils::MakeMaker 6.30 7.04
------------------------------
ENVIRONMENT AND OTHER CONTEXT
------------------------------
Environment variables:
LC_CTYPE = en_NZ.UTF8
PATH = /home/vagrant/perl5/perlbrew/bin:/home/vagrant/perl5/perlbrew/perls/5.21.10/bin:/usr/local/bin:/usr/bin:/bin:/opt/bin:/usr/x86_64-pc-linux-gnu/gcc-bin/4.8.4
PERL5LIB =
PERL5OPT =
PERL5_CPANPLUS_IS_RUNNING = 27576
PERL5_CPAN_IS_RUNNING = 27576
PERLBREW_BASHRC_VERSION = 0.73
PERLBREW_HOME = /home/vagrant/.perlbrew
PERLBREW_MANPATH = /home/vagrant/perl5/perlbrew/perls/5.21.10/man
PERLBREW_PATH = /home/vagrant/perl5/perlbrew/bin:/home/vagrant/perl5/perlbrew/perls/5.21.10/bin
PERLBREW_PERL = 5.21.10
PERLBREW_ROOT = /home/vagrant/perl5/perlbrew
PERLBREW_VERSION = 0.73
SHELL = /bin/bash
TERM = screen
Perl special variables (and OS-specific diagnostics, for MSWin32):
$^X = /home/vagrant/perl5/perlbrew/perls/5.21.10/bin/perl5.21.10
$UID/$EUID = 1000 / 1000
$GID = 1000 1000
$EGID = 1000 1000
Perl module toolchain versions installed:
Module Have
------------------- ------------
CPAN 2.10
CPAN::Meta 2.150001
Cwd 3.55
ExtUtils::CBuilder 0.280221
ExtUtils::Command 1.20
ExtUtils::Install 2.04
ExtUtils::MakeMaker 7.04
ExtUtils::Manifest 1.70
ExtUtils::ParseXS 3.27
File::Spec 3.55
JSON 2.90
JSON::PP 2.27300
Module::Build 0.4211
Module::Signature 0.78
Parse::CPAN::Meta 1.4414
Test::Harness 3.35
Test::More 1.301001_105
YAML n/a
YAML::Syck n/a
version 0.9909
--
Summary of my perl5 (revision 5 version 21 subversion 10) configuration:
Platform:
osname=linux, osvers=3.18.11-gentoo, archname=x86_64-linux
uname='linux localhost 3.18.11-gentoo #1 smp sat apr 18 20:24:48 utc 2015 x86_64 intel(r) core(tm) i5-2410m cpu @ 2.30ghz genuineintel gnulinux '
config_args='-de -Dprefix=/home/vagrant/perl5/perlbrew/perls/5.21.10 -Doptimize= -O3 -march=native -mtune=native -Dman1dir=none -Dman3dir=none -Dusedevel -Accflags=-DPERL_HASH_FUNC_SDBM -Aeval:scriptdir=/home/vagrant/perl5/perlbrew/perls/5.21.10/bin'
hint=recommended, useposix=true, d_sigaction=define
useithreads=undef, usemultiplicity=undef
use64bitint=define, use64bitall=define, uselongdouble=undef
usemymalloc=n, bincompat5005=undef
Compiler:
cc='cc', ccflags ='-DPERL_HASH_FUNC_SDBM -fwrapv -fno-strict-aliasing -pipe -fstack-protector -D_LARGEFILE_SOURCE -D_FILE_OFFSET_BITS=64',
optimize=' -O3 -march=native -mtune=native',
cppflags='-DPERL_HASH_FUNC_SDBM -fwrapv -fno-strict-aliasing -pipe -fstack-protector'
ccversion='', gccversion='4.8.4', gccosandvers=''
intsize=4, longsize=8, ptrsize=8, doublesize=8, byteorder=12345678, doublekind=3
d_longlong=define, longlongsize=8, d_longdbl=define, longdblsize=16, longdblkind=3
ivtype='long', ivsize=8, nvtype='double', nvsize=8, Off_t='off_t', lseeksize=8
alignbytes=8, prototype=define
Linker and Libraries:
ld='cc', ldflags =' -fstack-protector -L/usr/local/lib'
libpth=/usr/lib/gcc/x86_64-pc-linux-gnu/4.8.4/include-fixed /usr/lib /usr/local/lib /lib/../lib64 /usr/lib/../lib64 /lib /lib64 /usr/lib64 /usr/local/lib64
libs=-lpthread -lnsl -lgdbm -ldb -ldl -lm -lcrypt -lutil -lc -lgdbm_compat
perllibs=-lpthread -lnsl -ldl -lm -lcrypt -lutil -lc
libc=libc-2.20.so, so=so, useshrplib=false, libperl=libperl.a
gnulibc_version='2.20'
Dynamic Linking:
dlsrc=dl_dlopen.xs, dlext=so, d_dlsymun=undef, ccdlflags='-Wl,-E'
cccdlflags='-fPIC', lddlflags='-shared -O3 -march=native -mtune=native -L/usr/local/lib -fstack-protector'
Characteristics of this binary (from libperl):
Compile-time options: HAS_TIMES PERLIO_LAYERS PERL_DONT_CREATE_GVSV
PERL_HASH_FUNC_SDBM PERL_MALLOC_WRAP
PERL_NEW_COPY_ON_WRITE PERL_PRESERVE_IVUV
PERL_USE_DEVEL USE_64_BIT_ALL USE_64_BIT_INT
USE_LARGE_FILES USE_LOCALE USE_LOCALE_COLLATE
USE_LOCALE_CTYPE USE_LOCALE_NUMERIC USE_LOCALE_TIME
USE_PERLIO USE_PERL_ATOF
Built under linux
Compiled at Apr 19 2015 03:51:39
%ENV:
PERL5LIB=""
PERL5OPT=""
PERL5_CPANPLUS_IS_RUNNING="27576"
PERL5_CPAN_IS_RUNNING="27576"
PERLBREW_BASHRC_VERSION="0.73"
PERLBREW_HOME="/home/vagrant/.perlbrew"
PERLBREW_MANPATH="/home/vagrant/perl5/perlbrew/perls/5.21.10/man"
PERLBREW_PATH="/home/vagrant/perl5/perlbrew/bin:/home/vagrant/perl5/perlbrew/perls/5.21.10/bin"
PERLBREW_PERL="5.21.10"
PERLBREW_ROOT="/home/vagrant/perl5/perlbrew"
PERLBREW_VERSION="0.73"
@INC:
/home/vagrant/perl5/perlbrew/perls/5.21.10/lib/site_perl/5.21.10/x86_64-linux
/home/vagrant/perl5/perlbrew/perls/5.21.10/lib/site_perl/5.21.10
/home/vagrant/perl5/perlbrew/perls/5.21.10/lib/5.21.10/x86_64-linux
/home/vagrant/perl5/perlbrew/perls/5.21.10/lib/5.21.10
.