Report for Catalyst-View-HTML-Zoom-0.003

Back
From: metabase:user:314402c4-2aae-11df-837a-5e0a49663a4f
Subject: PASS Catalyst-View-HTML-Zoom-0.003 v5.26.0 RC1 GNU/Linux
Date: 2017-05-19T17:52:48Z

This distribution has been tested as part of the CPAN Testers
project, supporting the Perl programming language.  See
http://wiki.cpantesters.org/ for more information or email
questions to cpan-testers-discuss@perl.org


--
Dear Oliver Charles,

This is a computer-generated report for Catalyst-View-HTML-Zoom-0.003
on perl 5.26.0, created by CPAN-Reporter-1.2018.

Thank you for uploading your work to CPAN.  Congratulations!
All tests were successful.

Sections of this report:

    * Tester comments
    * Program output
    * Prerequisites
    * Environment and other context

------------------------------
TESTER COMMENTS
------------------------------

Additional comments from tester:

none provided

------------------------------
PROGRAM OUTPUT
------------------------------

Output from '/usr/bin/make test':

PERL_DL_NONLAZY=1 "/opt/perl-5.26.0-RC1/bin/perl" "-MExtUtils::Command::MM" "-MTest::Harness" "-e" "undef *Test::Harness::Switches; test_harness(0, 'blib/lib', 'blib/arch')" t/*.t
t/00-load.t ............... ok
t/author-pod-coverage.t ... skipped: these tests are for testing by the author
t/author-pod.t ............ skipped: these tests are for testing by the author
Class::MOP::load_class is deprecated at /opt/perl-5.26.0-RC1/lib/site_perl/5.26.0/x86_64-linux/Class/MOP.pm line 69, <> line 1.
	Class::MOP::load_class("TestAppAltRoot::View::HTML::Root") called at /home/cpansand/.cpan/build/2017051909/Catalyst-View-HTML-Zoom-0.003-0/blib/lib/Catalyst/View/HTML/Zoom.pm line 138
	Catalyst::View::HTML::Zoom::_zoomer_class_from_context(TestAppAltRoot::View::HTML=HASH(0x55efc34c9608), TestAppAltRoot=HASH(0x55efc3672eb0)) called at /home/cpansand/.cpan/build/2017051909/Catalyst-View-HTML-Zoom-0.003-0/blib/lib/Catalyst/View/HTML/Zoom.pm line 90
	Catalyst::View::HTML::Zoom::_build_renderer_from_zoomer_class(TestAppAltRoot::View::HTML=HASH(0x55efc34c9608), TestAppAltRoot=HASH(0x55efc3672eb0)) called at /home/cpansand/.cpan/build/2017051909/Catalyst-View-HTML-Zoom-0.003-0/blib/lib/Catalyst/View/HTML/Zoom.pm line 76
	Catalyst::View::HTML::Zoom::_build_renderer_from(TestAppAltRoot::View::HTML=HASH(0x55efc34c9608), TestAppAltRoot=HASH(0x55efc3672eb0), undef) called at /home/cpansand/.cpan/build/2017051909/Catalyst-View-HTML-Zoom-0.003-0/blib/lib/Catalyst/View/HTML/Zoom.pm line 67
	Catalyst::View::HTML::Zoom::render(TestAppAltRoot::View::HTML=HASH(0x55efc34c9608), TestAppAltRoot=HASH(0x55efc3672eb0), "/main") called at /home/cpansand/.cpan/build/2017051909/Catalyst-View-HTML-Zoom-0.003-0/blib/lib/Catalyst/View/HTML/Zoom.pm line 41
	Catalyst::View::HTML::Zoom::process(TestAppAltRoot::View::HTML=HASH(0x55efc34c9608), TestAppAltRoot=HASH(0x55efc3672eb0)) called at /opt/perl-5.26.0-RC1/lib/site_perl/5.26.0/Catalyst/Action.pm line 358
	Catalyst::Action::execute(Catalyst::Action=HASH(0x55efc367e0f0), TestAppAltRoot::View::HTML=HASH(0x55efc34c9608), TestAppAltRoot=HASH(0x55efc3672eb0)) called at /opt/perl-5.26.0-RC1/lib/site_perl/5.26.0/Catalyst.pm line 2052
	eval {...} called at /opt/perl-5.26.0-RC1/lib/site_perl/5.26.0/Catalyst.pm line 2052
	Catalyst::execute(TestAppAltRoot=HASH(0x55efc3672eb0), "TestAppAltRoot::View::HTML", Catalyst::Action=HASH(0x55efc367e0f0)) called at /opt/perl-5.26.0-RC1/lib/site_perl/5.26.0/Catalyst/Action.pm line 353
	Catalyst::Action::dispatch(Catalyst::Action=HASH(0x55efc367e0f0), TestAppAltRoot=HASH(0x55efc3672eb0)) called at /opt/perl-5.26.0-RC1/lib/site_perl/5.26.0/Catalyst/Dispatcher.pm line 262
	Catalyst::Dispatcher::_do_forward(Catalyst::Dispatcher=HASH(0x55efc21a0940), "forward", TestAppAltRoot=HASH(0x55efc3672eb0), TestAppAltRoot::View::HTML=HASH(0x55efc34c9608)) called at /opt/perl-5.26.0-RC1/lib/site_perl/5.26.0/Catalyst/Dispatcher.pm line 242
	Catalyst::Dispatcher::forward(Catalyst::Dispatcher=HASH(0x55efc21a0940), TestAppAltRoot=HASH(0x55efc3672eb0), TestAppAltRoot::View::HTML=HASH(0x55efc34c9608)) called at /opt/perl-5.26.0-RC1/lib/site_perl/5.26.0/Catalyst.pm line 477
	Catalyst::forward(TestAppAltRoot=HASH(0x55efc3672eb0), TestAppAltRoot::View::HTML=HASH(0x55efc34c9608)) called at /opt/perl-5.26.0-RC1/lib/site_perl/5.26.0/Catalyst/Action/RenderView.pm line 57
	Catalyst::Action::RenderView::execute(Catalyst::Action::RenderView=HASH(0x55efc35e1ae8), TestAppAltRoot::Controller::Root=HASH(0x55efc34c9590), TestAppAltRoot=HASH(0x55efc3672eb0)) called at /opt/perl-5.26.0-RC1/lib/site_perl/5.26.0/Catalyst.pm line 2052
	eval {...} called at /opt/perl-5.26.0-RC1/lib/site_perl/5.26.0/Catalyst.pm line 2052
	Catalyst::execute(TestAppAltRoot=HASH(0x55efc3672eb0), "TestAppAltRoot::Controller::Root", Catalyst::Action::RenderView=HASH(0x55efc35e1ae8)) called at /opt/perl-5.26.0-RC1/lib/site_perl/5.26.0/Catalyst/Action.pm line 353
	Catalyst::Action::dispatch(Catalyst::Action::RenderView=HASH(0x55efc35e1ae8), TestAppAltRoot=HASH(0x55efc3672eb0)) called at /opt/perl-5.26.0-RC1/lib/site_perl/5.26.0/Catalyst/Controller.pm line 189
	Catalyst::Controller::_END(TestAppAltRoot::Controller::Root=HASH(0x55efc34c9590), TestAppAltRoot=HASH(0x55efc3672eb0)) called at /opt/perl-5.26.0-RC1/lib/site_perl/5.26.0/Catalyst/Action.pm line 358
	Catalyst::Action::execute(Catalyst::Action=HASH(0x55efc3514458), TestAppAltRoot::Controller::Root=HASH(0x55efc34c9590), TestAppAltRoot=HASH(0x55efc3672eb0)) called at /opt/perl-5.26.0-RC1/lib/site_perl/5.26.0/Catalyst.pm line 2052
	eval {...} called at /opt/perl-5.26.0-RC1/lib/site_perl/5.26.0/Catalyst.pm line 2052
	Catalyst::execute(TestAppAltRoot=HASH(0x55efc3672eb0), "TestAppAltRoot::Controller::Root", Catalyst::Action=HASH(0x55efc3514458)) called at /opt/perl-5.26.0-RC1/lib/site_perl/5.26.0/Catalyst/Action.pm line 353
	Catalyst::Action::dispatch(Catalyst::Action=HASH(0x55efc3514458), TestAppAltRoot=HASH(0x55efc3672eb0)) called at /opt/perl-5.26.0-RC1/lib/site_perl/5.26.0/Catalyst/Dispatcher.pm line 262
	Catalyst::Dispatcher::_do_forward(Catalyst::Dispatcher=HASH(0x55efc21a0940), "forward", TestAppAltRoot=HASH(0x55efc3672eb0), "_END") called at /opt/perl-5.26.0-RC1/lib/site_perl/5.26.0/Catalyst/Dispatcher.pm line 242
	Catalyst::Dispatcher::forward(Catalyst::Dispatcher=HASH(0x55efc21a0940), TestAppAltRoot=HASH(0x55efc3672eb0), "_END") called at /opt/perl-5.26.0-RC1/lib/site_perl/5.26.0/Catalyst.pm line 477
	Catalyst::forward(TestAppAltRoot=HASH(0x55efc3672eb0), "_END") called at /opt/perl-5.26.0-RC1/lib/site_perl/5.26.0/Catalyst/Controller.pm line 138
	Catalyst::Controller::_DISPATCH(TestAppAltRoot::Controller::Root=HASH(0x55efc34c9590), TestAppAltRoot=HASH(0x55efc3672eb0)) called at /opt/perl-5.26.0-RC1/lib/site_perl/5.26.0/Catalyst/Action.pm line 358
	Catalyst::Action::execute(Catalyst::Action=HASH(0x55efc349a4b0), TestAppAltRoot::Controller::Root=HASH(0x55efc34c9590), TestAppAltRoot=HASH(0x55efc3672eb0)) called at /opt/perl-5.26.0-RC1/lib/site_perl/5.26.0/Catalyst.pm line 2052
	eval {...} called at /opt/perl-5.26.0-RC1/lib/site_perl/5.26.0/Catalyst.pm line 2052
	Catalyst::execute(TestAppAltRoot=HASH(0x55efc3672eb0), "TestAppAltRoot::Controller::Root", Catalyst::Action=HASH(0x55efc349a4b0)) called at /opt/perl-5.26.0-RC1/lib/site_perl/5.26.0/Catalyst/Action.pm line 353
	Catalyst::Action::dispatch(Catalyst::Action=HASH(0x55efc349a4b0), TestAppAltRoot=HASH(0x55efc3672eb0)) called at /opt/perl-5.26.0-RC1/lib/site_perl/5.26.0/Catalyst/Dispatcher.pm line 262
	Catalyst::Dispatcher::_do_forward(Catalyst::Dispatcher=HASH(0x55efc21a0940), "forward", TestAppAltRoot=HASH(0x55efc3672eb0), "//_DISPATCH") called at /opt/perl-5.26.0-RC1/lib/site_perl/5.26.0/Catalyst/Dispatcher.pm line 242
	Catalyst::Dispatcher::forward(Catalyst::Dispatcher=HASH(0x55efc21a0940), TestAppAltRoot=HASH(0x55efc3672eb0), "//_DISPATCH") called at /opt/perl-5.26.0-RC1/lib/site_perl/5.26.0/Catalyst.pm line 477
	Catalyst::forward(TestAppAltRoot=HASH(0x55efc3672eb0), "//_DISPATCH") called at /opt/perl-5.26.0-RC1/lib/site_perl/5.26.0/Catalyst/Dispatcher.pm line 108
	Catalyst::Dispatcher::dispatch(Catalyst::Dispatcher=HASH(0x55efc21a0940), TestAppAltRoot=HASH(0x55efc3672eb0)) called at /opt/perl-5.26.0-RC1/lib/site_perl/5.26.0/Catalyst.pm line 1998
	Catalyst::dispatch(TestAppAltRoot=HASH(0x55efc3672eb0)) called at /opt/perl-5.26.0-RC1/lib/site_perl/5.26.0/x86_64-linux/Class/MOP/Method/Wrapped.pm line 56
	TestAppAltRoot::_wrapped_dispatch(TestAppAltRoot=HASH(0x55efc3672eb0)) called at /opt/perl-5.26.0-RC1/lib/site_perl/5.26.0/x86_64-linux/Class/MOP/Method/Wrapped.pm line 95
	TestAppAltRoot::dispatch(TestAppAltRoot=HASH(0x55efc3672eb0)) called at /opt/perl-5.26.0-RC1/lib/site_perl/5.26.0/Catalyst.pm line 2393
	Catalyst::try {...} () called at /opt/perl-5.26.0-RC1/lib/site_perl/5.26.0/Try/Tiny.pm line 103
	eval {...} called at /opt/perl-5.26.0-RC1/lib/site_perl/5.26.0/Try/Tiny.pm line 94
	Try::Tiny::try(CODE(0x55efc361a590), Try::Tiny::Catch=REF(0x55efc361a3f8)) called at /opt/perl-5.26.0-RC1/lib/site_perl/5.26.0/Catalyst.pm line 2402
	Catalyst::handle_request("TestAppAltRoot", "env", HASH(0x55efc21749b0), "response_cb", CODE(0x55efc361a458)) called at /opt/perl-5.26.0-RC1/lib/site_perl/5.26.0/Catalyst/Engine.pm line 800
	Catalyst::Engine::__ANON__(CODE(0x55efc361a458)) called at /opt/perl-5.26.0-RC1/lib/site_perl/5.26.0/Plack/Middleware/HTTPExceptions.pm line 32
	Plack::Middleware::HTTPExceptions::try {...} () called at /opt/perl-5.26.0-RC1/lib/site_perl/5.26.0/Try/Tiny.pm line 103
	eval {...} called at /opt/perl-5.26.0-RC1/lib/site_perl/5.26.0/Try/Tiny.pm line 94
	Try::Tiny::try(CODE(0x55efc361a290), Try::Tiny::Catch=REF(0x55efc3619ae0)) called at /opt/perl-5.26.0-RC1/lib/site_perl/5.26.0/Plack/Middleware/HTTPExceptions.pm line 41
	Plack::Middleware::HTTPExceptions::__ANON__(CODE(0x55efc09f9890)) called at /opt/perl-5.26.0-RC1/lib/site_perl/5.26.0/Plack/Util.pm line 339
	Plack::Util::__ANON__(CODE(0x55efc2f283f8)) called at /opt/perl-5.26.0-RC1/lib/site_perl/5.26.0/Plack/Util.pm line 339
	Plack::Util::__ANON__(CODE(0x55efc3514740)) called at /opt/perl-5.26.0-RC1/lib/site_perl/5.26.0/Plack/Util.pm line 339
	Plack::Util::__ANON__(CODE(0x55efc33b7278)) called at /opt/perl-5.26.0-RC1/lib/site_perl/5.26.0/HTTP/Message/PSGI.pm line 100
	HTTP::Message::PSGI::res_from_psgi(CODE(0x55efc3619ff0)) called at /opt/perl-5.26.0-RC1/lib/site_perl/5.26.0/HTTP/Message/PSGI.pm line 156
	HTTP::Response::from_psgi("HTTP::Response", CODE(0x55efc3619ff0)) called at /opt/perl-5.26.0-RC1/lib/site_perl/5.26.0/Plack/Test/MockHTTP.pm line 24
	Plack::Test::MockHTTP::try {...} () called at /opt/perl-5.26.0-RC1/lib/site_perl/5.26.0/Try/Tiny.pm line 101
	eval {...} called at /opt/perl-5.26.0-RC1/lib/site_perl/5.26.0/Try/Tiny.pm line 94
	Try::Tiny::try(CODE(0x55efc2ce1d28), Try::Tiny::Catch=REF(0x55efc09f91d0)) called at /opt/perl-5.26.0-RC1/lib/site_perl/5.26.0/Plack/Test/MockHTTP.pm line 27
	Plack::Test::MockHTTP::request(Plack::Test::MockHTTP=HASH(0x55efc3612130), HTTP::Request=HASH(0x55efc351d7e8)) called at /opt/perl-5.26.0-RC1/lib/site_perl/5.26.0/Plack/Test.pm line 38
	Plack::Test::__ANON__(HTTP::Request=HASH(0x55efc351d7e8)) called at /opt/perl-5.26.0-RC1/lib/site_perl/5.26.0/Catalyst/Test.pm line 281
	Catalyst::Test::__ANON__(CODE(0x55efc3611fe0)) called at /opt/perl-5.26.0-RC1/lib/site_perl/5.26.0/Plack/Test.pm line 38
	Plack::Test::test_psgi("app", CODE(0x55efc351cd98), "mangle_response", CODE(0x55efc218bbd8), "app", CODE(0x55efc3518db0), "client", CODE(0x55efc351d980)) called at /opt/perl-5.26.0-RC1/lib/site_perl/5.26.0/Catalyst/Test.pm line 284
	Catalyst::Test::_request(HASH(0x55efc351d578), "/") called at /opt/perl-5.26.0-RC1/lib/site_perl/5.26.0/Catalyst/Test.pm line 327
	Catalyst::Test::_local_request("TestAppAltRoot", "/") called at /opt/perl-5.26.0-RC1/lib/site_perl/5.26.0/Catalyst/Test.pm line 32
	Catalyst::Test::__ANON__("/") called at /opt/perl-5.26.0-RC1/lib/site_perl/5.26.0/Catalyst/Test.pm line 72
	Catalyst::Test::__ANON__("/") called at t/live-test-alt-root.t line 14
t/live-test-alt-root.t .... ok
Class::MOP::load_class is deprecated at /opt/perl-5.26.0-RC1/lib/site_perl/5.26.0/x86_64-linux/Class/MOP.pm line 69, <> line 1.
	Class::MOP::load_class("TestApp::View::HTML::Root") called at /home/cpansand/.cpan/build/2017051909/Catalyst-View-HTML-Zoom-0.003-0/blib/lib/Catalyst/View/HTML/Zoom.pm line 138
	Catalyst::View::HTML::Zoom::_zoomer_class_from_context(TestApp::View::HTML=HASH(0x555fdac46a38), TestApp=HASH(0x555fdae180a8)) called at /home/cpansand/.cpan/build/2017051909/Catalyst-View-HTML-Zoom-0.003-0/blib/lib/Catalyst/View/HTML/Zoom.pm line 90
	Catalyst::View::HTML::Zoom::_build_renderer_from_zoomer_class(TestApp::View::HTML=HASH(0x555fdac46a38), TestApp=HASH(0x555fdae180a8)) called at /home/cpansand/.cpan/build/2017051909/Catalyst-View-HTML-Zoom-0.003-0/blib/lib/Catalyst/View/HTML/Zoom.pm line 76
	Catalyst::View::HTML::Zoom::_build_renderer_from(TestApp::View::HTML=HASH(0x555fdac46a38), TestApp=HASH(0x555fdae180a8), undef) called at /home/cpansand/.cpan/build/2017051909/Catalyst-View-HTML-Zoom-0.003-0/blib/lib/Catalyst/View/HTML/Zoom.pm line 67
	Catalyst::View::HTML::Zoom::render(TestApp::View::HTML=HASH(0x555fdac46a38), TestApp=HASH(0x555fdae180a8), "/main") called at /home/cpansand/.cpan/build/2017051909/Catalyst-View-HTML-Zoom-0.003-0/blib/lib/Catalyst/View/HTML/Zoom.pm line 41
	Catalyst::View::HTML::Zoom::process(TestApp::View::HTML=HASH(0x555fdac46a38), TestApp=HASH(0x555fdae180a8)) called at /opt/perl-5.26.0-RC1/lib/site_perl/5.26.0/Catalyst/Action.pm line 358
	Catalyst::Action::execute(Catalyst::Action=HASH(0x555fdae234e8), TestApp::View::HTML=HASH(0x555fdac46a38), TestApp=HASH(0x555fdae180a8)) called at /opt/perl-5.26.0-RC1/lib/site_perl/5.26.0/Catalyst.pm line 2052
	eval {...} called at /opt/perl-5.26.0-RC1/lib/site_perl/5.26.0/Catalyst.pm line 2052
	Catalyst::execute(TestApp=HASH(0x555fdae180a8), "TestApp::View::HTML", Catalyst::Action=HASH(0x555fdae234e8)) called at /opt/perl-5.26.0-RC1/lib/site_perl/5.26.0/Catalyst/Action.pm line 353
	Catalyst::Action::dispatch(Catalyst::Action=HASH(0x555fdae234e8), TestApp=HASH(0x555fdae180a8)) called at /opt/perl-5.26.0-RC1/lib/site_perl/5.26.0/Catalyst/Dispatcher.pm line 262
	Catalyst::Dispatcher::_do_forward(Catalyst::Dispatcher=HASH(0x555fd99082e0), "forward", TestApp=HASH(0x555fdae180a8), TestApp::View::HTML=HASH(0x555fdac46a38)) called at /opt/perl-5.26.0-RC1/lib/site_perl/5.26.0/Catalyst/Dispatcher.pm line 242
	Catalyst::Dispatcher::forward(Catalyst::Dispatcher=HASH(0x555fd99082e0), TestApp=HASH(0x555fdae180a8), TestApp::View::HTML=HASH(0x555fdac46a38)) called at /opt/perl-5.26.0-RC1/lib/site_perl/5.26.0/Catalyst.pm line 477
	Catalyst::forward(TestApp=HASH(0x555fdae180a8), TestApp::View::HTML=HASH(0x555fdac46a38)) called at /opt/perl-5.26.0-RC1/lib/site_perl/5.26.0/Catalyst/Action/RenderView.pm line 57
	Catalyst::Action::RenderView::execute(Catalyst::Action::RenderView=HASH(0x555fdad76878), TestApp::Controller::Root=HASH(0x555fdac6bdb8), TestApp=HASH(0x555fdae180a8)) called at /opt/perl-5.26.0-RC1/lib/site_perl/5.26.0/Catalyst.pm line 2052
	eval {...} called at /opt/perl-5.26.0-RC1/lib/site_perl/5.26.0/Catalyst.pm line 2052
	Catalyst::execute(TestApp=HASH(0x555fdae180a8), "TestApp::Controller::Root", Catalyst::Action::RenderView=HASH(0x555fdad76878)) called at /opt/perl-5.26.0-RC1/lib/site_perl/5.26.0/Catalyst/Action.pm line 353
	Catalyst::Action::dispatch(Catalyst::Action::RenderView=HASH(0x555fdad76878), TestApp=HASH(0x555fdae180a8)) called at /opt/perl-5.26.0-RC1/lib/site_perl/5.26.0/Catalyst/Controller.pm line 189
	Catalyst::Controller::_END(TestApp::Controller::Root=HASH(0x555fdac6bdb8), TestApp=HASH(0x555fdae180a8)) called at /opt/perl-5.26.0-RC1/lib/site_perl/5.26.0/Catalyst/Action.pm line 358
	Catalyst::Action::execute(Catalyst::Action=HASH(0x555fdacb52d0), TestApp::Controller::Root=HASH(0x555fdac6bdb8), TestApp=HASH(0x555fdae180a8)) called at /opt/perl-5.26.0-RC1/lib/site_perl/5.26.0/Catalyst.pm line 2052
	eval {...} called at /opt/perl-5.26.0-RC1/lib/site_perl/5.26.0/Catalyst.pm line 2052
	Catalyst::execute(TestApp=HASH(0x555fdae180a8), "TestApp::Controller::Root", Catalyst::Action=HASH(0x555fdacb52d0)) called at /opt/perl-5.26.0-RC1/lib/site_perl/5.26.0/Catalyst/Action.pm line 353
	Catalyst::Action::dispatch(Catalyst::Action=HASH(0x555fdacb52d0), TestApp=HASH(0x555fdae180a8)) called at /opt/perl-5.26.0-RC1/lib/site_perl/5.26.0/Catalyst/Dispatcher.pm line 262
	Catalyst::Dispatcher::_do_forward(Catalyst::Dispatcher=HASH(0x555fd99082e0), "forward", TestApp=HASH(0x555fdae180a8), "_END") called at /opt/perl-5.26.0-RC1/lib/site_perl/5.26.0/Catalyst/Dispatcher.pm line 242
	Catalyst::Dispatcher::forward(Catalyst::Dispatcher=HASH(0x555fd99082e0), TestApp=HASH(0x555fdae180a8), "_END") called at /opt/perl-5.26.0-RC1/lib/site_perl/5.26.0/Catalyst.pm line 477
	Catalyst::forward(TestApp=HASH(0x555fdae180a8), "_END") called at /opt/perl-5.26.0-RC1/lib/site_perl/5.26.0/Catalyst/Controller.pm line 138
	Catalyst::Controller::_DISPATCH(TestApp::Controller::Root=HASH(0x555fdac6bdb8), TestApp=HASH(0x555fdae180a8)) called at /opt/perl-5.26.0-RC1/lib/site_perl/5.26.0/Catalyst/Action.pm line 358
	Catalyst::Action::execute(Catalyst::Action=HASH(0x555fdacb5210), TestApp::Controller::Root=HASH(0x555fdac6bdb8), TestApp=HASH(0x555fdae180a8)) called at /opt/perl-5.26.0-RC1/lib/site_perl/5.26.0/Catalyst.pm line 2052
	eval {...} called at /opt/perl-5.26.0-RC1/lib/site_perl/5.26.0/Catalyst.pm line 2052
	Catalyst::execute(TestApp=HASH(0x555fdae180a8), "TestApp::Controller::Root", Catalyst::Action=HASH(0x555fdacb5210)) called at /opt/perl-5.26.0-RC1/lib/site_perl/5.26.0/Catalyst/Action.pm line 353
	Catalyst::Action::dispatch(Catalyst::Action=HASH(0x555fdacb5210), TestApp=HASH(0x555fdae180a8)) called at /opt/perl-5.26.0-RC1/lib/site_perl/5.26.0/Catalyst/Dispatcher.pm line 262
	Catalyst::Dispatcher::_do_forward(Catalyst::Dispatcher=HASH(0x555fd99082e0), "forward", TestApp=HASH(0x555fdae180a8), "//_DISPATCH") called at /opt/perl-5.26.0-RC1/lib/site_perl/5.26.0/Catalyst/Dispatcher.pm line 242
	Catalyst::Dispatcher::forward(Catalyst::Dispatcher=HASH(0x555fd99082e0), TestApp=HASH(0x555fdae180a8), "//_DISPATCH") called at /opt/perl-5.26.0-RC1/lib/site_perl/5.26.0/Catalyst.pm line 477
	Catalyst::forward(TestApp=HASH(0x555fdae180a8), "//_DISPATCH") called at /opt/perl-5.26.0-RC1/lib/site_perl/5.26.0/Catalyst/Dispatcher.pm line 108
	Catalyst::Dispatcher::dispatch(Catalyst::Dispatcher=HASH(0x555fd99082e0), TestApp=HASH(0x555fdae180a8)) called at /opt/perl-5.26.0-RC1/lib/site_perl/5.26.0/Catalyst.pm line 1998
	Catalyst::dispatch(TestApp=HASH(0x555fdae180a8)) called at /opt/perl-5.26.0-RC1/lib/site_perl/5.26.0/x86_64-linux/Class/MOP/Method/Wrapped.pm line 56
	TestApp::_wrapped_dispatch(TestApp=HASH(0x555fdae180a8)) called at /opt/perl-5.26.0-RC1/lib/site_perl/5.26.0/x86_64-linux/Class/MOP/Method/Wrapped.pm line 95
	TestApp::dispatch(TestApp=HASH(0x555fdae180a8)) called at /opt/perl-5.26.0-RC1/lib/site_perl/5.26.0/Catalyst.pm line 2393
	Catalyst::try {...} () called at /opt/perl-5.26.0-RC1/lib/site_perl/5.26.0/Try/Tiny.pm line 103
	eval {...} called at /opt/perl-5.26.0-RC1/lib/site_perl/5.26.0/Try/Tiny.pm line 94
	Try::Tiny::try(CODE(0x555fdae17af0), Try::Tiny::Catch=REF(0x555fdae17958)) called at /opt/perl-5.26.0-RC1/lib/site_perl/5.26.0/Catalyst.pm line 2402
	Catalyst::handle_request("TestApp", "env", HASH(0x555fdacd7a78), "response_cb", CODE(0x555fdae179b8)) called at /opt/perl-5.26.0-RC1/lib/site_perl/5.26.0/Catalyst/Engine.pm line 800
	Catalyst::Engine::__ANON__(CODE(0x555fdae179b8)) called at /opt/perl-5.26.0-RC1/lib/site_perl/5.26.0/Plack/Middleware/HTTPExceptions.pm line 32
	Plack::Middleware::HTTPExceptions::try {...} () called at /opt/perl-5.26.0-RC1/lib/site_perl/5.26.0/Try/Tiny.pm line 103
	eval {...} called at /opt/perl-5.26.0-RC1/lib/site_perl/5.26.0/Try/Tiny.pm line 94
	Try::Tiny::try(CODE(0x555fdae117f8), Try::Tiny::Catch=REF(0x555fdad91a48)) called at /opt/perl-5.26.0-RC1/lib/site_perl/5.26.0/Plack/Middleware/HTTPExceptions.pm line 41
	Plack::Middleware::HTTPExceptions::__ANON__(CODE(0x555fdad76a28)) called at /opt/perl-5.26.0-RC1/lib/site_perl/5.26.0/Plack/Util.pm line 339
	Plack::Util::__ANON__(CODE(0x555fdab90d48)) called at /opt/perl-5.26.0-RC1/lib/site_perl/5.26.0/Plack/Util.pm line 339
	Plack::Util::__ANON__(CODE(0x555fdab39c40)) called at /opt/perl-5.26.0-RC1/lib/site_perl/5.26.0/Plack/Util.pm line 339
	Plack::Util::__ANON__(CODE(0x555fdab1f650)) called at /opt/perl-5.26.0-RC1/lib/site_perl/5.26.0/HTTP/Message/PSGI.pm line 100
	HTTP::Message::PSGI::res_from_psgi(CODE(0x555fdae11558)) called at /opt/perl-5.26.0-RC1/lib/site_perl/5.26.0/HTTP/Message/PSGI.pm line 156
	HTTP::Response::from_psgi("HTTP::Response", CODE(0x555fdae11558)) called at /opt/perl-5.26.0-RC1/lib/site_perl/5.26.0/Plack/Test/MockHTTP.pm line 24
	Plack::Test::MockHTTP::try {...} () called at /opt/perl-5.26.0-RC1/lib/site_perl/5.26.0/Try/Tiny.pm line 101
	eval {...} called at /opt/perl-5.26.0-RC1/lib/site_perl/5.26.0/Try/Tiny.pm line 94
	Try::Tiny::try(CODE(0x555fdae00038), Try::Tiny::Catch=REF(0x555fd815f5e8)) called at /opt/perl-5.26.0-RC1/lib/site_perl/5.26.0/Plack/Test/MockHTTP.pm line 27
	Plack::Test::MockHTTP::request(Plack::Test::MockHTTP=HASH(0x555fdadb60e0), HTTP::Request=HASH(0x555fdadb5cc0)) called at /opt/perl-5.26.0-RC1/lib/site_perl/5.26.0/Plack/Test.pm line 38
	Plack::Test::__ANON__(HTTP::Request=HASH(0x555fdadb5cc0)) called at /opt/perl-5.26.0-RC1/lib/site_perl/5.26.0/Catalyst/Test.pm line 281
	Catalyst::Test::__ANON__(CODE(0x555fdadb5f90)) called at /opt/perl-5.26.0-RC1/lib/site_perl/5.26.0/Plack/Test.pm line 38
	Plack::Test::test_psgi("mangle_response", CODE(0x555fd98f3308), "app", CODE(0x555fdada5ea0), "app", CODE(0x555fdacb55d0), "client", CODE(0x555fdadb5e58)) called at /opt/perl-5.26.0-RC1/lib/site_perl/5.26.0/Catalyst/Test.pm line 284
	Catalyst::Test::_request(HASH(0x555fdad87ff8), "/") called at /opt/perl-5.26.0-RC1/lib/site_perl/5.26.0/Catalyst/Test.pm line 327
	Catalyst::Test::_local_request("TestApp", "/") called at /opt/perl-5.26.0-RC1/lib/site_perl/5.26.0/Catalyst/Test.pm line 32
	Catalyst::Test::__ANON__("/") called at /opt/perl-5.26.0-RC1/lib/site_perl/5.26.0/Catalyst/Test.pm line 72
	Catalyst::Test::__ANON__("/") called at t/live-test.t line 14
t/live-test.t ............. ok
t/release-pod-coverage.t .. skipped: these tests are for release candidate testing
t/release-pod-syntax.t .... skipped: these tests are for release candidate testing
All tests successful.
Files=7, Tests=17,  3 wallclock secs ( 0.05 usr  0.01 sys +  2.57 cusr  0.13 csys =  2.76 CPU)
Result: PASS

------------------------------
PREREQUISITES
------------------------------

Prerequisite modules loaded:

requires:

    Module                       Need  Have    
    ---------------------------- ----- --------
    Class::MOP                   1.12  2.2005  
    HTML::Zoom                   0.009 0.009009
    Moose                        1.21  2.2005  
    namespace::autoclean         0.09  0.28    
    Path::Class                  0.23  0.37    

build_requires:

    Module                       Need  Have    
    ---------------------------- ----- --------
    Catalyst::Action::RenderView 0.14  0.16    
    Catalyst::Runtime            5.8   5.90115 
    Test::More                   0.96  1.302085

configure_requires:

    Module                       Need  Have    
    ---------------------------- ----- --------
    ExtUtils::MakeMaker          6.31  7.24    


------------------------------
ENVIRONMENT AND OTHER CONTEXT
------------------------------

Environment variables:

    LANG = en_US.UTF-8
    LANGUAGE = en_US:en
    PATH = /usr/local/bin:/usr/bin:/bin:/usr/local/sbin:/usr/sbin:/sbin:/home/cpansand/bin/linux-gnu:/home/cpansand/bin/sh:/home/cpansand/bin:/usr/games:/home/cpansand/devel:/home/eserte/src/srezic-misc/scripts
    PERL5LIB = 
    PERL5OPT = 
    PERL5_CPANPLUS_IS_RUNNING = 12186
    PERL5_CPAN_IS_RUNNING = 12186
    PERL5_CPAN_IS_RUNNING_IN_RECURSION = 22830,12186
    PERLDOC = -MPod::Perldoc::ToTextOverstrike
    PERL_BATCH = yes
    PERL_CANARY_STABILITY_NOPROMPT = 1
    PERL_CPAN_REPORTER_CONFIG = /var/tmp/cpansmoker-1002/2017051900/cpanreporter_000_config.ini
    PERL_EXTUTILS_AUTOINSTALL = --defaultdeps
    PERL_USE_UNSAFE_INC = 1
    SHELL = /bin/zsh
    TERM = screen.xterm-256color
    TMPDIR = /var/tmp/cpansmoker-1002/2017051900

Perl special variables (and OS-specific diagnostics, for MSWin32):

    $^X = /opt/perl-5.26.0-RC1/bin/perl
    $UID/$EUID = 1002 / 1002
    $GID = 1002 1002
    $EGID = 1002 1002

Perl module toolchain versions installed:

    Module              Have      
    ------------------- ----------
    CPAN                2.18      
    CPAN::Meta          2.150010  
    Cwd                 3.62      
    ExtUtils::CBuilder  0.280224  
    ExtUtils::Command   7.24      
    ExtUtils::Install   2.08      
    ExtUtils::MakeMaker 7.24      
    ExtUtils::Manifest  1.70      
    ExtUtils::ParseXS   3.30      
    File::Spec          3.62      
    JSON                2.92      
    JSON::PP            2.27400_02
    Module::Build       0.4222    
    Module::Signature   0.81      
    Parse::CPAN::Meta   2.150010  
    Test::Harness       3.39      
    Test::More          1.302085  
    YAML                1.23      
    YAML::Syck          1.30      
    version             0.9918    


--

Summary of my perl5 (revision 5 version 26 subversion 0) configuration:
   
  Platform:
    osname=linux
    osvers=4.9.0-2-amd64
    archname=x86_64-linux
    uname='linux prod4 4.9.0-2-amd64 #1 smp debian 4.9.18-1 (2017-03-30) x86_64 gnulinux '
    config_args='-ds -e -Dprefix=/opt/perl-5.26.0-RC1 -Dcf_email=srezic@cpan.org'
    hint=recommended
    useposix=true
    d_sigaction=define
    useithreads=undef
    usemultiplicity=undef
    use64bitint=define
    use64bitall=define
    uselongdouble=undef
    usemymalloc=n
    default_inc_excludes_dot=define
    bincompat5005=undef
  Compiler:
    cc='cc'
    ccflags ='-fwrapv -fno-strict-aliasing -pipe -fstack-protector-strong -I/usr/local/include -D_LARGEFILE_SOURCE -D_FILE_OFFSET_BITS=64'
    optimize='-O2'
    cppflags='-fwrapv -fno-strict-aliasing -pipe -fstack-protector-strong -I/usr/local/include'
    ccversion=''
    gccversion='6.3.0 20170425'
    gccosandvers=''
    intsize=4
    longsize=8
    ptrsize=8
    doublesize=8
    byteorder=12345678
    doublekind=3
    d_longlong=define
    longlongsize=8
    d_longdbl=define
    longdblsize=16
    longdblkind=3
    ivtype='long'
    ivsize=8
    nvtype='double'
    nvsize=8
    Off_t='off_t'
    lseeksize=8
    alignbytes=8
    prototype=define
  Linker and Libraries:
    ld='cc'
    ldflags =' -fstack-protector-strong -L/usr/local/lib'
    libpth=/usr/local/lib /usr/lib/gcc/x86_64-linux-gnu/6/include-fixed /usr/include/x86_64-linux-gnu /usr/lib /lib/x86_64-linux-gnu /lib/../lib /usr/lib/x86_64-linux-gnu /usr/lib/../lib /lib
    libs=-lpthread -lnsl -lgdbm -ldb -ldl -lm -lcrypt -lutil -lc -lgdbm_compat
    perllibs=-lpthread -lnsl -ldl -lm -lcrypt -lutil -lc
    libc=libc-2.24.so
    so=so
    useshrplib=false
    libperl=libperl.a
    gnulibc_version='2.24'
  Dynamic Linking:
    dlsrc=dl_dlopen.xs
    dlext=so
    d_dlsymun=undef
    ccdlflags='-Wl,-E'
    cccdlflags='-fPIC'
    lddlflags='-shared -O2 -L/usr/local/lib -fstack-protector-strong'


Characteristics of this binary (from libperl): 
  Compile-time options:
    HAS_TIMES
    PERLIO_LAYERS
    PERL_COPY_ON_WRITE
    PERL_DONT_CREATE_GVSV
    PERL_MALLOC_WRAP
    PERL_OP_PARENT
    PERL_PRESERVE_IVUV
    USE_64_BIT_ALL
    USE_64_BIT_INT
    USE_LARGE_FILES
    USE_LOCALE
    USE_LOCALE_COLLATE
    USE_LOCALE_CTYPE
    USE_LOCALE_NUMERIC
    USE_LOCALE_TIME
    USE_PERLIO
    USE_PERL_ATOF
  Locally applied patches:
    RC1
  Built under linux
  Compiled at May 11 2017 21:08:17
  %ENV:
    PERL5LIB=""
    PERL5OPT=""
    PERL5_CPANPLUS_IS_RUNNING="12186"
    PERL5_CPAN_IS_RUNNING="12186"
    PERL5_CPAN_IS_RUNNING_IN_RECURSION="22830,12186"
    PERLDOC="-MPod::Perldoc::ToTextOverstrike"
    PERL_BATCH="yes"
    PERL_CANARY_STABILITY_NOPROMPT="1"
    PERL_CPAN_REPORTER_CONFIG="/var/tmp/cpansmoker-1002/2017051900/cpanreporter_000_config.ini"
    PERL_EXTUTILS_AUTOINSTALL="--defaultdeps"
    PERL_USE_UNSAFE_INC="1"
  @INC:
    /opt/perl-5.26.0-RC1/lib/site_perl/5.26.0/x86_64-linux
    /opt/perl-5.26.0-RC1/lib/site_perl/5.26.0
    /opt/perl-5.26.0-RC1/lib/5.26.0/x86_64-linux
    /opt/perl-5.26.0-RC1/lib/5.26.0
    .