Git-Wrapper v0.048 Perl 5 v5.28.0 darwin-2level

Status
Pass
From
John SJ Anderson
Dist
Git-Wrapper v0.048
Platform
Perl 5 v5.28.0 darwin-2level
Date
2018-06-23 19:59:43
ID
f8d23b8c-771f-11e8-a35e-cc1bac0ad2a2
This distribution has been tested as part of the CPAN Testers
project, supporting the Perl programming language.  See
http://wiki.cpantesters.org/ for more information or email
questions to cpan-testers-discuss@perl.org


--
Dear GENEHACK,

This is a computer-generated report for Git-Wrapper-0.048
on perl 5.28.0, created by App::cpanminus::reporter 0.17 (1.7044).

Thank you for uploading your work to CPAN.  Congratulations!
All tests were successful.

Sections of this report:

    * Tester comments
    * Program output
    * Prerequisites
    * Environment and other context

------------------------------
TESTER COMMENTS
------------------------------

Additional comments from tester:

none provided

------------------------------
PROGRAM OUTPUT
------------------------------

Output from '':

Building and testing Git-Wrapper-0.048
cp lib/Git/Wrapper/Status.pm blib/lib/Git/Wrapper/Status.pm
cp lib/Git/Wrapper/Statuses.pm blib/lib/Git/Wrapper/Statuses.pm
cp lib/Git/Wrapper/File/RawModification.pm blib/lib/Git/Wrapper/File/RawModification.pm
cp lib/Git/Wrapper/Log.pm blib/lib/Git/Wrapper/Log.pm
cp lib/Git/Wrapper/Exception.pm blib/lib/Git/Wrapper/Exception.pm
cp lib/Git/Wrapper.pm blib/lib/Git/Wrapper.pm
Manifying 6 pod documents
PERL_DL_NONLAZY=1 "/opt/plenv/versions/5.28.0/bin/perl5.28.0" "-MExtUtils::Command::MM" "-MTest::Harness" "-e" "undef *Test::Harness::Switches; test_harness(0, 'blib/lib', 'blib/arch')" t/*.t
# Testing Git::Wrapper 0.048
t/00-load.t .............. ok
t/author-err.t ........... skipped: these tests are for testing by the author
t/author-pod-coverage.t .. skipped: these tests are for testing by the author
t/author-pod-syntax.t .... skipped: these tests are for testing by the author
# Testing git version: 2.15.2 (Apple Git-101.1)
t/basic.t ................ ok
t/git_binary.t ........... ok
t/parse_args.t ........... ok
t/path_class.t ........... skipped: Path::Class 0.26 is required for this test.
All tests successful.
Files=8, Tests=72,  2 wallclock secs ( 0.05 usr  0.02 sys +  0.90 cusr  0.81 csys =  1.78 CPU)
Result: PASS

------------------------------
PREREQUISITES
------------------------------

Prerequisite modules loaded:

    No requirements found

------------------------------
ENVIRONMENT AND OTHER CONTEXT
------------------------------

Environment variables:

    LANG = en_US.UTF-8
    LC_ALL = en_US.UTF-8
    PATH = /opt/plenv/versions/5.28.0/bin:/opt/plenv/libexec:/opt/plenv/plugins/perl-build/bin:/opt/plenv/shims:/opt/plenv/bin:/usr/local/bin:/usr/bin:/bin:/usr/sbin:/sbin:/usr/local/MacGPG2/bin:/usr/local/share/dotnet:/opt/X11/bin:/Applications/Wireshark.app/Contents/MacOS:/opt/plenv/shims:/opt/plenv/bin:/opt/nvm/versions/node/v8.9.4/bin:/Users/genehack/bin:/opt/go/bin:/opt/vim/bin:/opt/tmux/bin:/opt/gitflow/bin:/opt/git/bin:/opt/emacs/bin:/opt/drafter/bin:/opt/local/bin:/Users/genehack/proj/go/bin:/Users/genehack/ii/taxchat-web-api/node_modules/.bin/
    PERL_CPANM_OPT = --skip-installed --prompt
    SHELL = /bin/zsh
    TERM = screen-256color
    TMPDIR = /var/folders/gd/n6xwfsjd0dzcngcyp60cxvth0000gn/T/

Perl special variables (and OS-specific diagnostics, for MSWin32):

    EGID = 20 20 501 12 61 79 80 81 98 398 399 33 100 204 250 395
    EUID = 501
    EXECUTABLE_NAME = /opt/plenv/versions/5.28.0/bin/perl5.28.0
    GID = 20 20 501 12 61 79 80 81 98 398 399 33 100 204 250 395
    UID = 501

Perl module toolchain versions installed:

    Module              Have    
    ------------------- --------
    CPAN                2.20    
    CPAN::Meta          2.150010
    Cwd                 3.74    
    ExtUtils::CBuilder  0.280230
    ExtUtils::Command   7.34    
    ExtUtils::Install   2.14    
    ExtUtils::MakeMaker 7.34    
    ExtUtils::Manifest  1.70    
    ExtUtils::ParseXS   3.39    
    File::Spec          3.74    
    JSON                2.97001 
    JSON::PP            2.97001 
    Module::Build       0.4224  
    Module::Signature   n/a     
    Parse::CPAN::Meta   2.150010
    Test::Harness       3.42    
    Test::More          1.302136
    YAML                1.26    
    YAML::Syck          n/a     
    version             0.9923  


--

Summary of my perl5 (revision 5 version 28 subversion 0) configuration:
   
  Platform:
    osname=darwin
    osvers=17.6.0
    archname=darwin-2level
    uname='darwin irving.home.genehack.org 17.6.0 darwin kernel version 17.6.0: tue may 8 15:22:16 pdt 2018; root:xnu-4570.61.1~1release_x86_64 x86_64 '
    config_args='-Dprefix=/opt/plenv/versions/5.28.0 -de -Dversiononly -A'eval:scriptdir=/opt/plenv/versions/5.28.0/bin''
    hint=recommended
    useposix=true
    d_sigaction=define
    useithreads=undef
    usemultiplicity=undef
    use64bitint=define
    use64bitall=define
    uselongdouble=undef
    usemymalloc=n
    default_inc_excludes_dot=define
    bincompat5005=undef
  Compiler:
    cc='cc'
    ccflags ='-fno-common -DPERL_DARWIN -mmacosx-version-min=10.13 -fno-strict-aliasing -pipe -fstack-protector-strong -I/usr/local/include -I/opt/local/include -DPERL_USE_SAFE_PUTENV'
    optimize='-O3'
    cppflags='-fno-common -DPERL_DARWIN -mmacosx-version-min=10.13 -fno-strict-aliasing -pipe -fstack-protector-strong -I/usr/local/include -I/opt/local/include'
    ccversion=''
    gccversion='4.2.1 Compatible Apple LLVM 9.1.0 (clang-902.0.39.2)'
    gccosandvers=''
    intsize=4
    longsize=8
    ptrsize=8
    doublesize=8
    byteorder=12345678
    doublekind=3
    d_longlong=define
    longlongsize=8
    d_longdbl=define
    longdblsize=16
    longdblkind=3
    ivtype='long'
    ivsize=8
    nvtype='double'
    nvsize=8
    Off_t='off_t'
    lseeksize=8
    alignbytes=8
    prototype=define
  Linker and Libraries:
    ld='cc'
    ldflags =' -mmacosx-version-min=10.13 -fstack-protector-strong -L/usr/local/lib -L/opt/local/lib'
    libpth=/usr/local/lib /Library/Developer/CommandLineTools/usr/lib/clang/9.1.0/lib /Library/Developer/CommandLineTools/usr/lib /usr/lib /opt/local/lib
    libs=-lpthread -ldbm -ldl -lm -lutil -lc
    perllibs=-lpthread -ldl -lm -lutil -lc
    libc=
    so=dylib
    useshrplib=false
    libperl=libperl.a
    gnulibc_version=''
  Dynamic Linking:
    dlsrc=dl_dlopen.xs
    dlext=bundle
    d_dlsymun=undef
    ccdlflags=' '
    cccdlflags=' '
    lddlflags=' -mmacosx-version-min=10.13 -bundle -undefined dynamic_lookup -L/usr/local/lib -L/opt/local/lib -fstack-protector-strong'


Characteristics of this binary (from libperl): 
  Compile-time options:
    HAS_TIMES
    PERLIO_LAYERS
    PERL_COPY_ON_WRITE
    PERL_DONT_CREATE_GVSV
    PERL_MALLOC_WRAP
    PERL_OP_PARENT
    PERL_PRESERVE_IVUV
    PERL_USE_SAFE_PUTENV
    USE_64_BIT_ALL
    USE_64_BIT_INT
    USE_LARGE_FILES
    USE_LOCALE
    USE_LOCALE_COLLATE
    USE_LOCALE_CTYPE
    USE_LOCALE_NUMERIC
    USE_LOCALE_TIME
    USE_PERLIO
    USE_PERL_ATOF
  Locally applied patches:
    Devel::PatchPerl 1.48
  Built under darwin
  Compiled at Jun 23 2018 10:50:09
  %ENV:
    PERL_CPANM_OPT="--skip-installed --prompt"
  @INC:
    /opt/plenv/versions/5.28.0/lib/perl5/site_perl/5.28.0/darwin-2level
    /opt/plenv/versions/5.28.0/lib/perl5/site_perl/5.28.0
    /opt/plenv/versions/5.28.0/lib/perl5/5.28.0/darwin-2level
    /opt/plenv/versions/5.28.0/lib/perl5/5.28.0