Report for Text-WideChar-Util-0.14

Back
From: metabase:user:30f4dfbe-2aae-11df-837a-5e0a49663a4f
Subject: PASS Text-WideChar-Util-0.14 v5.21.8 FreeBSD
Date: 2015-03-12T03:43:40Z

This distribution has been tested as part of the CPAN Testers
project, supporting the Perl programming language.  See
http://wiki.cpantesters.org/ for more information or email
questions to cpan-testers-discuss@perl.org


--
Dear perlancar,

This is a computer-generated report for Text-WideChar-Util-0.14
on perl 5.21.8, created by CPAN-Reporter-1.2011.

Thank you for uploading your work to CPAN.  Congratulations!
All tests were successful.

Sections of this report:

    * Tester comments
    * Program output
    * Prerequisites
    * Environment and other context

------------------------------
TESTER COMMENTS
------------------------------

Additional comments from tester:

this report is from an automated smoke testing program
and was not reviewed by a human for accuracy

------------------------------
PROGRAM OUTPUT
------------------------------

Output from '/usr/bin/make test':

PERL_DL_NONLAZY=1 "/usr/home/njh/perl5/perlbrew/perls/perl-5.21.8/bin/perl5.21.8" "-MExtUtils::Command::MM" "-MTest::Harness" "-e" "undef *Test::Harness::Switches; test_harness(0, 'blib/lib', 'blib/arch')" t/*.t
t/00-compile.t ............ ok
t/01-basics.t ............. skipped: Chinese locale not supported on this system
t/release-pod-coverage.t .. skipped: these tests are for release candidate testing
t/release-pod-syntax.t .... skipped: these tests are for release candidate testing
t/release-rinci.t ......... skipped: these tests are for release candidate testing
Wide character (U+5B58) in pattern match (m//) at /usr/home/njh/.cpan/build/Text-WideChar-Util-0.14-3rhghO/blib/lib/Text/WideChar/Util.pm line 156.
Wide character (U+5B58) in pattern match (m//) at /usr/home/njh/.cpan/build/Text-WideChar-Util-0.14-3rhghO/blib/lib/Text/WideChar/Util.pm line 156.
Wide character (U+5B58) in pattern match (m//) at /usr/home/njh/.cpan/build/Text-WideChar-Util-0.14-3rhghO/blib/lib/Text/WideChar/Util.pm line 188.
Wide character (U+5B58) in pattern match (m//) at /usr/home/njh/.cpan/build/Text-WideChar-Util-0.14-3rhghO/blib/lib/Text/WideChar/Util.pm line 188.
Wide character (U+5B58) in pattern match (m//) at /usr/home/njh/.cpan/build/Text-WideChar-Util-0.14-3rhghO/blib/lib/Text/WideChar/Util.pm line 188.
Wide character (U+5B58) in pattern match (m//) at /usr/home/njh/.cpan/build/Text-WideChar-Util-0.14-3rhghO/blib/lib/Text/WideChar/Util.pm line 188.
Wide character (U+5B58) in pattern match (m//) at /usr/home/njh/.cpan/build/Text-WideChar-Util-0.14-3rhghO/blib/lib/Text/WideChar/Util.pm line 188.
Wide character (U+5B58) in pattern match (m//) at /usr/home/njh/.cpan/build/Text-WideChar-Util-0.14-3rhghO/blib/lib/Text/WideChar/Util.pm line 188.
Wide character (U+5B58) in pattern match (m//) at /usr/home/njh/.cpan/build/Text-WideChar-Util-0.14-3rhghO/blib/lib/Text/WideChar/Util.pm line 188.
Wide character (U+5B58) in pattern match (m//) at /usr/home/njh/.cpan/build/Text-WideChar-Util-0.14-3rhghO/blib/lib/Text/WideChar/Util.pm line 188.
Wide character (U+50A8) in pattern match (m//) at /usr/home/njh/.cpan/build/Text-WideChar-Util-0.14-3rhghO/blib/lib/Text/WideChar/Util.pm line 188.
Wide character (U+50A8) in pattern match (m//) at /usr/home/njh/.cpan/build/Text-WideChar-Util-0.14-3rhghO/blib/lib/Text/WideChar/Util.pm line 188.
Wide character (U+50A8) in pattern match (m//) at /usr/home/njh/.cpan/build/Text-WideChar-Util-0.14-3rhghO/blib/lib/Text/WideChar/Util.pm line 188.
Wide character (U+50A8) in pattern match (m//) at /usr/home/njh/.cpan/build/Text-WideChar-Util-0.14-3rhghO/blib/lib/Text/WideChar/Util.pm line 188.
Wide character (U+50A8) in pattern match (m//) at /usr/home/njh/.cpan/build/Text-WideChar-Util-0.14-3rhghO/blib/lib/Text/WideChar/Util.pm line 188.
Wide character (U+50A8) in pattern match (m//) at /usr/home/njh/.cpan/build/Text-WideChar-Util-0.14-3rhghO/blib/lib/Text/WideChar/Util.pm line 188.
Wide character (U+50A8) in pattern match (m//) at /usr/home/njh/.cpan/build/Text-WideChar-Util-0.14-3rhghO/blib/lib/Text/WideChar/Util.pm line 188.
Wide character (U+50A8) in pattern match (m//) at /usr/home/njh/.cpan/build/Text-WideChar-Util-0.14-3rhghO/blib/lib/Text/WideChar/Util.pm line 188.
Wide character (U+548C) in pattern match (m//) at /usr/home/njh/.cpan/build/Text-WideChar-Util-0.14-3rhghO/blib/lib/Text/WideChar/Util.pm line 188.
Wide character (U+548C) in pattern match (m//) at /usr/home/njh/.cpan/build/Text-WideChar-Util-0.14-3rhghO/blib/lib/Text/WideChar/Util.pm line 188.
Wide character (U+548C) in pattern match (m//) at /usr/home/njh/.cpan/build/Text-WideChar-Util-0.14-3rhghO/blib/lib/Text/WideChar/Util.pm line 188.
Wide character (U+548C) in pattern match (m//) at /usr/home/njh/.cpan/build/Text-WideChar-Util-0.14-3rhghO/blib/lib/Text/WideChar/Util.pm line 188.
Wide character (U+548C) in pattern match (m//) at /usr/home/njh/.cpan/build/Text-WideChar-Util-0.14-3rhghO/blib/lib/Text/WideChar/Util.pm line 188.
Wide character (U+548C) in pattern match (m//) at /usr/home/njh/.cpan/build/Text-WideChar-Util-0.14-3rhghO/blib/lib/Text/WideChar/Util.pm line 188.
Wide character (U+548C) in pattern match (m//) at /usr/home/njh/.cpan/build/Text-WideChar-Util-0.14-3rhghO/blib/lib/Text/WideChar/Util.pm line 188.
Wide character (U+548C) in pattern match (m//) at /usr/home/njh/.cpan/build/Text-WideChar-Util-0.14-3rhghO/blib/lib/Text/WideChar/Util.pm line 188.
Wide character (U+4FE1) in pattern match (m//) at /usr/home/njh/.cpan/build/Text-WideChar-Util-0.14-3rhghO/blib/lib/Text/WideChar/Util.pm line 188.
Wide character (U+4FE1) in pattern match (m//) at /usr/home/njh/.cpan/build/Text-WideChar-Util-0.14-3rhghO/blib/lib/Text/WideChar/Util.pm line 188.
Wide character (U+4FE1) in pattern match (m//) at /usr/home/njh/.cpan/build/Text-WideChar-Util-0.14-3rhghO/blib/lib/Text/WideChar/Util.pm line 188.
Wide character (U+4FE1) in pattern match (m//) at /usr/home/njh/.cpan/build/Text-WideChar-Util-0.14-3rhghO/blib/lib/Text/WideChar/Util.pm line 188.
Wide character (U+4FE1) in pattern match (m//) at /usr/home/njh/.cpan/build/Text-WideChar-Util-0.14-3rhghO/blib/lib/Text/WideChar/Util.pm line 188.
Wide character (U+4FE1) in pattern match (m//) at /usr/home/njh/.cpan/build/Text-WideChar-Util-0.14-3rhghO/blib/lib/Text/WideChar/Util.pm line 188.
Wide character (U+4FE1) in pattern match (m//) at /usr/home/njh/.cpan/build/Text-WideChar-Util-0.14-3rhghO/blib/lib/Text/WideChar/Util.pm line 188.
Wide character (U+4FE1) in pattern match (m//) at /usr/home/njh/.cpan/build/Text-WideChar-Util-0.14-3rhghO/blib/lib/Text/WideChar/Util.pm line 188.
Wide character (U+606F) in pattern match (m//) at /usr/home/njh/.cpan/build/Text-WideChar-Util-0.14-3rhghO/blib/lib/Text/WideChar/Util.pm line 188.
Wide character (U+606F) in pattern match (m//) at /usr/home/njh/.cpan/build/Text-WideChar-Util-0.14-3rhghO/blib/lib/Text/WideChar/Util.pm line 188.
Wide character (U+606F) in pattern match (m//) at /usr/home/njh/.cpan/build/Text-WideChar-Util-0.14-3rhghO/blib/lib/Text/WideChar/Util.pm line 188.
Wide character (U+606F) in pattern match (m//) at /usr/home/njh/.cpan/build/Text-WideChar-Util-0.14-3rhghO/blib/lib/Text/WideChar/Util.pm line 188.
Wide character (U+606F) in pattern match (m//) at /usr/home/njh/.cpan/build/Text-WideChar-Util-0.14-3rhghO/blib/lib/Text/WideChar/Util.pm line 188.
Wide character (U+606F) in pattern match (m//) at /usr/home/njh/.cpan/build/Text-WideChar-Util-0.14-3rhghO/blib/lib/Text/WideChar/Util.pm line 188.
Wide character (U+606F) in pattern match (m//) at /usr/home/njh/.cpan/build/Text-WideChar-Util-0.14-3rhghO/blib/lib/Text/WideChar/Util.pm line 188.
Wide character (U+606F) in pattern match (m//) at /usr/home/njh/.cpan/build/Text-WideChar-Util-0.14-3rhghO/blib/lib/Text/WideChar/Util.pm line 188.
Wide character (U+7BA1) in pattern match (m//) at /usr/home/njh/.cpan/build/Text-WideChar-Util-0.14-3rhghO/blib/lib/Text/WideChar/Util.pm line 188.
Wide character (U+7BA1) in pattern match (m//) at /usr/home/njh/.cpan/build/Text-WideChar-Util-0.14-3rhghO/blib/lib/Text/WideChar/Util.pm line 188.
Wide character (U+7BA1) in pattern match (m//) at /usr/home/njh/.cpan/build/Text-WideChar-Util-0.14-3rhghO/blib/lib/Text/WideChar/Util.pm line 188.
Wide character (U+7BA1) in pattern match (m//) at /usr/home/njh/.cpan/build/Text-WideChar-Util-0.14-3rhghO/blib/lib/Text/WideChar/Util.pm line 188.
Wide character (U+7BA1) in pattern match (m//) at /usr/home/njh/.cpan/build/Text-WideChar-Util-0.14-3rhghO/blib/lib/Text/WideChar/Util.pm line 188.
Wide character (U+7BA1) in pattern match (m//) at /usr/home/njh/.cpan/build/Text-WideChar-Util-0.14-3rhghO/blib/lib/Text/WideChar/Util.pm line 188.
Wide character (U+7BA1) in pattern match (m//) at /usr/home/njh/.cpan/build/Text-WideChar-Util-0.14-3rhghO/blib/lib/Text/WideChar/Util.pm line 188.
Wide character (U+7BA1) in pattern match (m//) at /usr/home/njh/.cpan/build/Text-WideChar-Util-0.14-3rhghO/blib/lib/Text/WideChar/Util.pm line 188.
Wide character (U+7406) in pattern match (m//) at /usr/home/njh/.cpan/build/Text-WideChar-Util-0.14-3rhghO/blib/lib/Text/WideChar/Util.pm line 188.
Wide character (U+7406) in pattern match (m//) at /usr/home/njh/.cpan/build/Text-WideChar-Util-0.14-3rhghO/blib/lib/Text/WideChar/Util.pm line 188.
Wide character (U+7406) in pattern match (m//) at /usr/home/njh/.cpan/build/Text-WideChar-Util-0.14-3rhghO/blib/lib/Text/WideChar/Util.pm line 188.
Wide character (U+7406) in pattern match (m//) at /usr/home/njh/.cpan/build/Text-WideChar-Util-0.14-3rhghO/blib/lib/Text/WideChar/Util.pm line 188.
Wide character (U+7406) in pattern match (m//) at /usr/home/njh/.cpan/build/Text-WideChar-Util-0.14-3rhghO/blib/lib/Text/WideChar/Util.pm line 188.
Wide character (U+7406) in pattern match (m//) at /usr/home/njh/.cpan/build/Text-WideChar-Util-0.14-3rhghO/blib/lib/Text/WideChar/Util.pm line 188.
Wide character (U+7406) in pattern match (m//) at /usr/home/njh/.cpan/build/Text-WideChar-Util-0.14-3rhghO/blib/lib/Text/WideChar/Util.pm line 188.
Wide character (U+7406) in pattern match (m//) at /usr/home/njh/.cpan/build/Text-WideChar-Util-0.14-3rhghO/blib/lib/Text/WideChar/Util.pm line 188.
Wide character (U+516C) in pattern match (m//) at /usr/home/njh/.cpan/build/Text-WideChar-Util-0.14-3rhghO/blib/lib/Text/WideChar/Util.pm line 188.
Wide character (U+516C) in pattern match (m//) at /usr/home/njh/.cpan/build/Text-WideChar-Util-0.14-3rhghO/blib/lib/Text/WideChar/Util.pm line 188.
Wide character (U+516C) in pattern match (m//) at /usr/home/njh/.cpan/build/Text-WideChar-Util-0.14-3rhghO/blib/lib/Text/WideChar/Util.pm line 188.
Wide character (U+516C) in pattern match (m//) at /usr/home/njh/.cpan/build/Text-WideChar-Util-0.14-3rhghO/blib/lib/Text/WideChar/Util.pm line 188.
Wide character (U+516C) in pattern match (m//) at /usr/home/njh/.cpan/build/Text-WideChar-Util-0.14-3rhghO/blib/lib/Text/WideChar/Util.pm line 188.
Wide character (U+516C) in pattern match (m//) at /usr/home/njh/.cpan/build/Text-WideChar-Util-0.14-3rhghO/blib/lib/Text/WideChar/Util.pm line 188.
Wide character (U+516C) in pattern match (m//) at /usr/home/njh/.cpan/build/Text-WideChar-Util-0.14-3rhghO/blib/lib/Text/WideChar/Util.pm line 188.
Wide character (U+516C) in pattern match (m//) at /usr/home/njh/.cpan/build/Text-WideChar-Util-0.14-3rhghO/blib/lib/Text/WideChar/Util.pm line 188.
Wide character (U+53F8) in pattern match (m//) at /usr/home/njh/.cpan/build/Text-WideChar-Util-0.14-3rhghO/blib/lib/Text/WideChar/Util.pm line 188.
Wide character (U+53F8) in pattern match (m//) at /usr/home/njh/.cpan/build/Text-WideChar-Util-0.14-3rhghO/blib/lib/Text/WideChar/Util.pm line 188.
Wide character (U+53F8) in pattern match (m//) at /usr/home/njh/.cpan/build/Text-WideChar-Util-0.14-3rhghO/blib/lib/Text/WideChar/Util.pm line 188.
Wide character (U+53F8) in pattern match (m//) at /usr/home/njh/.cpan/build/Text-WideChar-Util-0.14-3rhghO/blib/lib/Text/WideChar/Util.pm line 188.
Wide character (U+53F8) in pattern match (m//) at /usr/home/njh/.cpan/build/Text-WideChar-Util-0.14-3rhghO/blib/lib/Text/WideChar/Util.pm line 188.
Wide character (U+53F8) in pattern match (m//) at /usr/home/njh/.cpan/build/Text-WideChar-Util-0.14-3rhghO/blib/lib/Text/WideChar/Util.pm line 188.
Wide character (U+53F8) in pattern match (m//) at /usr/home/njh/.cpan/build/Text-WideChar-Util-0.14-3rhghO/blib/lib/Text/WideChar/Util.pm line 188.
Wide character (U+53F8) in pattern match (m//) at /usr/home/njh/.cpan/build/Text-WideChar-Util-0.14-3rhghO/blib/lib/Text/WideChar/Util.pm line 188.
Wide character (U+4F4D) in pattern match (m//) at /usr/home/njh/.cpan/build/Text-WideChar-Util-0.14-3rhghO/blib/lib/Text/WideChar/Util.pm line 190.
Wide character (U+4E8E) in pattern match (m//) at /usr/home/njh/.cpan/build/Text-WideChar-Util-0.14-3rhghO/blib/lib/Text/WideChar/Util.pm line 190.
Wide character (U+963F) in pattern match (m//) at /usr/home/njh/.cpan/build/Text-WideChar-Util-0.14-3rhghO/blib/lib/Text/WideChar/Util.pm line 190.
Wide character (U+6839) in pattern match (m//) at /usr/home/njh/.cpan/build/Text-WideChar-Util-0.14-3rhghO/blib/lib/Text/WideChar/Util.pm line 190.
Wide character (U+5EF7) in pattern match (m//) at /usr/home/njh/.cpan/build/Text-WideChar-Util-0.14-3rhghO/blib/lib/Text/WideChar/Util.pm line 190.
Wide character (U+9996) in pattern match (m//) at /usr/home/njh/.cpan/build/Text-WideChar-Util-0.14-3rhghO/blib/lib/Text/WideChar/Util.pm line 190.
Wide character (U+90FD) in pattern match (m//) at /usr/home/njh/.cpan/build/Text-WideChar-Util-0.14-3rhghO/blib/lib/Text/WideChar/Util.pm line 190.
Wide character (U+5E03) in pattern match (m//) at /usr/home/njh/.cpan/build/Text-WideChar-Util-0.14-3rhghO/blib/lib/Text/WideChar/Util.pm line 190.
Wide character (U+5B9C) in pattern match (m//) at /usr/home/njh/.cpan/build/Text-WideChar-Util-0.14-3rhghO/blib/lib/Text/WideChar/Util.pm line 190.
Wide character (U+8BFA) in pattern match (m//) at /usr/home/njh/.cpan/build/Text-WideChar-Util-0.14-3rhghO/blib/lib/Text/WideChar/Util.pm line 190.
Wide character (U+65AF) in pattern match (m//) at /usr/home/njh/.cpan/build/Text-WideChar-Util-0.14-3rhghO/blib/lib/Text/WideChar/Util.pm line 190.
Wide character (U+827E) in pattern match (m//) at /usr/home/njh/.cpan/build/Text-WideChar-Util-0.14-3rhghO/blib/lib/Text/WideChar/Util.pm line 190.
Wide character (U+5229) in pattern match (m//) at /usr/home/njh/.cpan/build/Text-WideChar-Util-0.14-3rhghO/blib/lib/Text/WideChar/Util.pm line 190.
Wide character (U+65AF) in pattern match (m//) at /usr/home/njh/.cpan/build/Text-WideChar-Util-0.14-3rhghO/blib/lib/Text/WideChar/Util.pm line 190.
Wide character (U+7684) in pattern match (m//) at /usr/home/njh/.cpan/build/Text-WideChar-Util-0.14-3rhghO/blib/lib/Text/WideChar/Util.pm line 190.
Wide character (U+4E00) in pattern match (m//) at /usr/home/njh/.cpan/build/Text-WideChar-Util-0.14-3rhghO/blib/lib/Text/WideChar/Util.pm line 190.
Wide character (U+4E2A) in pattern match (m//) at /usr/home/njh/.cpan/build/Text-WideChar-Util-0.14-3rhghO/blib/lib/Text/WideChar/Util.pm line 190.
Wide character (U+5927) in pattern match (m//) at /usr/home/njh/.cpan/build/Text-WideChar-Util-0.14-3rhghO/blib/lib/Text/WideChar/Util.pm line 190.
Wide character (U+6570) in pattern match (m//) at /usr/home/njh/.cpan/build/Text-WideChar-Util-0.14-3rhghO/blib/lib/Text/WideChar/Util.pm line 190.
Wide character (U+636E) in pattern match (m//) at /usr/home/njh/.cpan/build/Text-WideChar-Util-0.14-3rhghO/blib/lib/Text/WideChar/Util.pm line 190.
Wide character (U+4E2D) in pattern match (m//) at /usr/home/njh/.cpan/build/Text-WideChar-Util-0.14-3rhghO/blib/lib/Text/WideChar/Util.pm line 190.
Wide character (U+5FC3) in pattern match (m//) at /usr/home/njh/.cpan/build/Text-WideChar-Util-0.14-3rhghO/blib/lib/Text/WideChar/Util.pm line 190.
Wide character (U+5468) in pattern match (m//) at /usr/home/njh/.cpan/build/Text-WideChar-Util-0.14-3rhghO/blib/lib/Text/WideChar/Util.pm line 190.
Wide character (U+4E09) in pattern match (m//) at /usr/home/njh/.cpan/build/Text-WideChar-Util-0.14-3rhghO/blib/lib/Text/WideChar/Util.pm line 190.
Wide character (U+906D) in pattern match (m//) at /usr/home/njh/.cpan/build/Text-WideChar-Util-0.14-3rhghO/blib/lib/Text/WideChar/Util.pm line 190.
Wide character (U+5927) in pattern match (m//) at /usr/home/njh/.cpan/build/Text-WideChar-Util-0.14-3rhghO/blib/lib/Text/WideChar/Util.pm line 190.
Wide character (U+706B) in pattern match (m//) at /usr/home/njh/.cpan/build/Text-WideChar-Util-0.14-3rhghO/blib/lib/Text/WideChar/Util.pm line 190.
Wide character (U+70E7) in pattern match (m//) at /usr/home/njh/.cpan/build/Text-WideChar-Util-0.14-3rhghO/blib/lib/Text/WideChar/Util.pm line 190.
Wide character (U+6BC1) in pattern match (m//) at /usr/home/njh/.cpan/build/Text-WideChar-Util-0.14-3rhghO/blib/lib/Text/WideChar/Util.pm line 190.
Wide character (U+FF0C) in pattern match (m//) at /usr/home/njh/.cpan/build/Text-WideChar-Util-0.14-3rhghO/blib/lib/Text/WideChar/Util.pm line 190.
Wide character (U+4E5D) in pattern match (m//) at /usr/home/njh/.cpan/build/Text-WideChar-Util-0.14-3rhghO/blib/lib/Text/WideChar/Util.pm line 190.
Wide character (U+540D) in pattern match (m//) at /usr/home/njh/.cpan/build/Text-WideChar-Util-0.14-3rhghO/blib/lib/Text/WideChar/Util.pm line 190.
Wide character (U+6D88) in pattern match (m//) at /usr/home/njh/.cpan/build/Text-WideChar-Util-0.14-3rhghO/blib/lib/Text/WideChar/Util.pm line 190.
Wide character (U+9632) in pattern match (m//) at /usr/home/njh/.cpan/build/Text-WideChar-Util-0.14-3rhghO/blib/lib/Text/WideChar/Util.pm line 190.
Wide character (U+5458) in pattern match (m//) at /usr/home/njh/.cpan/build/Text-WideChar-Util-0.14-3rhghO/blib/lib/Text/WideChar/Util.pm line 190.
Wide character (U+5728) in pattern match (m//) at /usr/home/njh/.cpan/build/Text-WideChar-Util-0.14-3rhghO/blib/lib/Text/WideChar/Util.pm line 190.
Wide character (U+6551) in pattern match (m//) at /usr/home/njh/.cpan/build/Text-WideChar-Util-0.14-3rhghO/blib/lib/Text/WideChar/Util.pm line 190.
Wide character (U+706B) in pattern match (m//) at /usr/home/njh/.cpan/build/Text-WideChar-Util-0.14-3rhghO/blib/lib/Text/WideChar/Util.pm line 190.
Wide character (U+4E2D) in pattern match (m//) at /usr/home/njh/.cpan/build/Text-WideChar-Util-0.14-3rhghO/blib/lib/Text/WideChar/Util.pm line 190.
Wide character (U+4E27) in pattern match (m//) at /usr/home/njh/.cpan/build/Text-WideChar-Util-0.14-3rhghO/blib/lib/Text/WideChar/Util.pm line 190.
Wide character (U+751F) in pattern match (m//) at /usr/home/njh/.cpan/build/Text-WideChar-Util-0.14-3rhghO/blib/lib/Text/WideChar/Util.pm line 190.
Wide character (U+FF0C) in pattern match (m//) at /usr/home/njh/.cpan/build/Text-WideChar-Util-0.14-3rhghO/blib/lib/Text/WideChar/Util.pm line 190.
Wide character (U+4EBA) in pattern match (m//) at /usr/home/njh/.cpan/build/Text-WideChar-Util-0.14-3rhghO/blib/lib/Text/WideChar/Util.pm line 190.
Wide character (U+5931) in pattern match (m//) at /usr/home/njh/.cpan/build/Text-WideChar-Util-0.14-3rhghO/blib/lib/Text/WideChar/Util.pm line 190.
Wide character (U+8E2A) in pattern match (m//) at /usr/home/njh/.cpan/build/Text-WideChar-Util-0.14-3rhghO/blib/lib/Text/WideChar/Util.pm line 190.
Wide character (U+FF0C) in pattern match (m//) at /usr/home/njh/.cpan/build/Text-WideChar-Util-0.14-3rhghO/blib/lib/Text/WideChar/Util.pm line 190.
Wide character (U+4EBA) in pattern match (m//) at /usr/home/njh/.cpan/build/Text-WideChar-Util-0.14-3rhghO/blib/lib/Text/WideChar/Util.pm line 190.
Wide character (U+53D7) in pattern match (m//) at /usr/home/njh/.cpan/build/Text-WideChar-Util-0.14-3rhghO/blib/lib/Text/WideChar/Util.pm line 190.
Wide character (U+4F24) in pattern match (m//) at /usr/home/njh/.cpan/build/Text-WideChar-Util-0.14-3rhghO/blib/lib/Text/WideChar/Util.pm line 190.
Wide character (U+3002) in pattern match (m//) at /usr/home/njh/.cpan/build/Text-WideChar-Util-0.14-3rhghO/blib/lib/Text/WideChar/Util.pm line 190.
Wide character (U+6570) in pattern match (m//) at /usr/home/njh/.cpan/build/Text-WideChar-Util-0.14-3rhghO/blib/lib/Text/WideChar/Util.pm line 190.
Wide character (U+636E) in pattern match (m//) at /usr/home/njh/.cpan/build/Text-WideChar-Util-0.14-3rhghO/blib/lib/Text/WideChar/Util.pm line 190.
Wide character (U+4E2D) in pattern match (m//) at /usr/home/njh/.cpan/build/Text-WideChar-Util-0.14-3rhghO/blib/lib/Text/WideChar/Util.pm line 190.
Wide character (U+5FC3) in pattern match (m//) at /usr/home/njh/.cpan/build/Text-WideChar-Util-0.14-3rhghO/blib/lib/Text/WideChar/Util.pm line 190.
Wide character (U+50A8) in pattern match (m//) at /usr/home/njh/.cpan/build/Text-WideChar-Util-0.14-3rhghO/blib/lib/Text/WideChar/Util.pm line 190.
Wide character (U+5B58) in pattern match (m//) at /usr/home/njh/.cpan/build/Text-WideChar-Util-0.14-3rhghO/blib/lib/Text/WideChar/Util.pm line 190.
Wide character (U+4E86) in pattern match (m//) at /usr/home/njh/.cpan/build/Text-WideChar-Util-0.14-3rhghO/blib/lib/Text/WideChar/Util.pm line 190.
Wide character (U+963F) in pattern match (m//) at /usr/home/njh/.cpan/build/Text-WideChar-Util-0.14-3rhghO/blib/lib/Text/WideChar/Util.pm line 190.
Wide character (U+6839) in pattern match (m//) at /usr/home/njh/.cpan/build/Text-WideChar-Util-0.14-3rhghO/blib/lib/Text/WideChar/Util.pm line 190.
Wide character (U+5EF7) in pattern match (m//) at /usr/home/njh/.cpan/build/Text-WideChar-Util-0.14-3rhghO/blib/lib/Text/WideChar/Util.pm line 190.
Wide character (U+592E) in pattern match (m//) at /usr/home/njh/.cpan/build/Text-WideChar-Util-0.14-3rhghO/blib/lib/Text/WideChar/Util.pm line 190.
Wide character (U+884C) in pattern match (m//) at /usr/home/njh/.cpan/build/Text-WideChar-Util-0.14-3rhghO/blib/lib/Text/WideChar/Util.pm line 190.
Wide character (U+548C) in pattern match (m//) at /usr/home/njh/.cpan/build/Text-WideChar-Util-0.14-3rhghO/blib/lib/Text/WideChar/Util.pm line 190.
Wide character (U+4F01) in pattern match (m//) at /usr/home/njh/.cpan/build/Text-WideChar-Util-0.14-3rhghO/blib/lib/Text/WideChar/Util.pm line 190.
Wide character (U+4E1A) in pattern match (m//) at /usr/home/njh/.cpan/build/Text-WideChar-Util-0.14-3rhghO/blib/lib/Text/WideChar/Util.pm line 190.
Wide character (U+6863) in pattern match (m//) at /usr/home/njh/.cpan/build/Text-WideChar-Util-0.14-3rhghO/blib/lib/Text/WideChar/Util.pm line 190.
Wide character (U+6848) in pattern match (m//) at /usr/home/njh/.cpan/build/Text-WideChar-Util-0.14-3rhghO/blib/lib/Text/WideChar/Util.pm line 190.
Wide character (U+FF0C) in pattern match (m//) at /usr/home/njh/.cpan/build/Text-WideChar-Util-0.14-3rhghO/blib/lib/Text/WideChar/Util.pm line 190.
Wide character (U+56E0) in pattern match (m//) at /usr/home/njh/.cpan/build/Text-WideChar-Util-0.14-3rhghO/blib/lib/Text/WideChar/Util.pm line 190.
Wide character (U+6B64) in pattern match (m//) at /usr/home/njh/.cpan/build/Text-WideChar-Util-0.14-3rhghO/blib/lib/Text/WideChar/Util.pm line 190.
Wide character (U+635F) in pattern match (m//) at /usr/home/njh/.cpan/build/Text-WideChar-Util-0.14-3rhghO/blib/lib/Text/WideChar/Util.pm line 190.
Wide character (U+5931) in pattern match (m//) at /usr/home/njh/.cpan/build/Text-WideChar-Util-0.14-3rhghO/blib/lib/Text/WideChar/Util.pm line 190.
Wide character (U+53EF) in pattern match (m//) at /usr/home/njh/.cpan/build/Text-WideChar-Util-0.14-3rhghO/blib/lib/Text/WideChar/Util.pm line 190.
Wide character (U+80FD) in pattern match (m//) at /usr/home/njh/.cpan/build/Text-WideChar-Util-0.14-3rhghO/blib/lib/Text/WideChar/Util.pm line 190.
Wide character (U+975E) in pattern match (m//) at /usr/home/njh/.cpan/build/Text-WideChar-Util-0.14-3rhghO/blib/lib/Text/WideChar/Util.pm line 190.
Wide character (U+5E38) in pattern match (m//) at /usr/home/njh/.cpan/build/Text-WideChar-Util-0.14-3rhghO/blib/lib/Text/WideChar/Util.pm line 190.
Wide character (U+5DE8) in pattern match (m//) at /usr/home/njh/.cpan/build/Text-WideChar-Util-0.14-3rhghO/blib/lib/Text/WideChar/Util.pm line 190.
Wide character (U+5927) in pattern match (m//) at /usr/home/njh/.cpan/build/Text-WideChar-Util-0.14-3rhghO/blib/lib/Text/WideChar/Util.pm line 190.
Wide character (U+3002) in pattern match (m//) at /usr/home/njh/.cpan/build/Text-WideChar-Util-0.14-3rhghO/blib/lib/Text/WideChar/Util.pm line 190.
Wide character (U+8FD9) in pattern match (m//) at /usr/home/njh/.cpan/build/Text-WideChar-Util-0.14-3rhghO/blib/lib/Text/WideChar/Util.pm line 190.
Wide character (U+4E2A) in pattern match (m//) at /usr/home/njh/.cpan/build/Text-WideChar-Util-0.14-3rhghO/blib/lib/Text/WideChar/Util.pm line 190.
Wide character (U+6570) in pattern match (m//) at /usr/home/njh/.cpan/build/Text-WideChar-Util-0.14-3rhghO/blib/lib/Text/WideChar/Util.pm line 190.
Wide character (U+636E) in pattern match (m//) at /usr/home/njh/.cpan/build/Text-WideChar-Util-0.14-3rhghO/blib/lib/Text/WideChar/Util.pm line 190.
Wide character (U+4E2D) in pattern match (m//) at /usr/home/njh/.cpan/build/Text-WideChar-Util-0.14-3rhghO/blib/lib/Text/WideChar/Util.pm line 190.
Wide character (U+5FC3) in pattern match (m//) at /usr/home/njh/.cpan/build/Text-WideChar-Util-0.14-3rhghO/blib/lib/Text/WideChar/Util.pm line 190.
Wide character (U+914D) in pattern match (m//) at /usr/home/njh/.cpan/build/Text-WideChar-Util-0.14-3rhghO/blib/lib/Text/WideChar/Util.pm line 190.
Wide character (U+5907) in pattern match (m//) at /usr/home/njh/.cpan/build/Text-WideChar-Util-0.14-3rhghO/blib/lib/Text/WideChar/Util.pm line 190.
Wide character (U+4E86) in pattern match (m//) at /usr/home/njh/.cpan/build/Text-WideChar-Util-0.14-3rhghO/blib/lib/Text/WideChar/Util.pm line 190.
Wide character (U+79C1) in pattern match (m//) at /usr/home/njh/.cpan/build/Text-WideChar-Util-0.14-3rhghO/blib/lib/Text/WideChar/Util.pm line 190.
Wide character (U+4EBA) in pattern match (m//) at /usr/home/njh/.cpan/build/Text-WideChar-Util-0.14-3rhghO/blib/lib/Text/WideChar/Util.pm line 190.
Wide character (U+7684) in pattern match (m//) at /usr/home/njh/.cpan/build/Text-WideChar-Util-0.14-3rhghO/blib/lib/Text/WideChar/Util.pm line 190.
Wide character (U+6551) in pattern match (m//) at /usr/home/njh/.cpan/build/Text-WideChar-Util-0.14-3rhghO/blib/lib/Text/WideChar/Util.pm line 190.
Wide character (U+706B) in pattern match (m//) at /usr/home/njh/.cpan/build/Text-WideChar-Util-0.14-3rhghO/blib/lib/Text/WideChar/Util.pm line 190.
Wide character (U+961F) in pattern match (m//) at /usr/home/njh/.cpan/build/Text-WideChar-Util-0.14-3rhghO/blib/lib/Text/WideChar/Util.pm line 190.
Wide character (U+FF0C) in pattern match (m//) at /usr/home/njh/.cpan/build/Text-WideChar-Util-0.14-3rhghO/blib/lib/Text/WideChar/Util.pm line 190.
Wide character (U+81EA) in pattern match (m//) at /usr/home/njh/.cpan/build/Text-WideChar-Util-0.14-3rhghO/blib/lib/Text/WideChar/Util.pm line 190.
Wide character (U+52A8) in pattern match (m//) at /usr/home/njh/.cpan/build/Text-WideChar-Util-0.14-3rhghO/blib/lib/Text/WideChar/Util.pm line 190.
Wide character (U+55B7) in pattern match (m//) at /usr/home/njh/.cpan/build/Text-WideChar-Util-0.14-3rhghO/blib/lib/Text/WideChar/Util.pm line 190.
Wide character (U+6C34) in pattern match (m//) at /usr/home/njh/.cpan/build/Text-WideChar-Util-0.14-3rhghO/blib/lib/Text/WideChar/Util.pm line 190.
Wide character (U+706D) in pattern match (m//) at /usr/home/njh/.cpan/build/Text-WideChar-Util-0.14-3rhghO/blib/lib/Text/WideChar/Util.pm line 190.
Wide character (U+706B) in pattern match (m//) at /usr/home/njh/.cpan/build/Text-WideChar-Util-0.14-3rhghO/blib/lib/Text/WideChar/Util.pm line 190.
Wide character (U+7CFB) in pattern match (m//) at /usr/home/njh/.cpan/build/Text-WideChar-Util-0.14-3rhghO/blib/lib/Text/WideChar/Util.pm line 190.
Wide character (U+7EDF) in pattern match (m//) at /usr/home/njh/.cpan/build/Text-WideChar-Util-0.14-3rhghO/blib/lib/Text/WideChar/Util.pm line 190.
Wide character (U+FF0C) in pattern match (m//) at /usr/home/njh/.cpan/build/Text-WideChar-Util-0.14-3rhghO/blib/lib/Text/WideChar/Util.pm line 190.
Wide character (U+706B) in pattern match (m//) at /usr/home/njh/.cpan/build/Text-WideChar-Util-0.14-3rhghO/blib/lib/Text/WideChar/Util.pm line 190.
Wide character (U+707E) in pattern match (m//) at /usr/home/njh/.cpan/build/Text-WideChar-Util-0.14-3rhghO/blib/lib/Text/WideChar/Util.pm line 190.
Wide character (U+63A7) in pattern match (m//) at /usr/home/njh/.cpan/build/Text-WideChar-Util-0.14-3rhghO/blib/lib/Text/WideChar/Util.pm line 190.
Wide character (U+5236) in pattern match (m//) at /usr/home/njh/.cpan/build/Text-WideChar-Util-0.14-3rhghO/blib/lib/Text/WideChar/Util.pm line 190.
Wide character (U+7CFB) in pattern match (m//) at /usr/home/njh/.cpan/build/Text-WideChar-Util-0.14-3rhghO/blib/lib/Text/WideChar/Util.pm line 190.
Wide character (U+7EDF) in pattern match (m//) at /usr/home/njh/.cpan/build/Text-WideChar-Util-0.14-3rhghO/blib/lib/Text/WideChar/Util.pm line 190.
Wide character (U+4EE5) in pattern match (m//) at /usr/home/njh/.cpan/build/Text-WideChar-Util-0.14-3rhghO/blib/lib/Text/WideChar/Util.pm line 190.
Wide character (U+53CA) in pattern match (m//) at /usr/home/njh/.cpan/build/Text-WideChar-Util-0.14-3rhghO/blib/lib/Text/WideChar/Util.pm line 190.
Wide character (U+5176) in pattern match (m//) at /usr/home/njh/.cpan/build/Text-WideChar-Util-0.14-3rhghO/blib/lib/Text/WideChar/Util.pm line 190.
Wide character (U+5B83) in pattern match (m//) at /usr/home/njh/.cpan/build/Text-WideChar-Util-0.14-3rhghO/blib/lib/Text/WideChar/Util.pm line 190.
Wide character (U+706B) in pattern match (m//) at /usr/home/njh/.cpan/build/Text-WideChar-Util-0.14-3rhghO/blib/lib/Text/WideChar/Util.pm line 190.
Wide character (U+707E) in pattern match (m//) at /usr/home/njh/.cpan/build/Text-WideChar-Util-0.14-3rhghO/blib/lib/Text/WideChar/Util.pm line 190.
Wide character (U+9884) in pattern match (m//) at /usr/home/njh/.cpan/build/Text-WideChar-Util-0.14-3rhghO/blib/lib/Text/WideChar/Util.pm line 190.
Wide character (U+9632) in pattern match (m//) at /usr/home/njh/.cpan/build/Text-WideChar-Util-0.14-3rhghO/blib/lib/Text/WideChar/Util.pm line 190.
Wide character (U+7684) in pattern match (m//) at /usr/home/njh/.cpan/build/Text-WideChar-Util-0.14-3rhghO/blib/lib/Text/WideChar/Util.pm line 190.
Wide character (U+63AA) in pattern match (m//) at /usr/home/njh/.cpan/build/Text-WideChar-Util-0.14-3rhghO/blib/lib/Text/WideChar/Util.pm line 190.
Wide character (U+65BD) in pattern match (m//) at /usr/home/njh/.cpan/build/Text-WideChar-Util-0.14-3rhghO/blib/lib/Text/WideChar/Util.pm line 190.
Wide character (U+3002) in pattern match (m//) at /usr/home/njh/.cpan/build/Text-WideChar-Util-0.14-3rhghO/blib/lib/Text/WideChar/Util.pm line 190.
Wide character (U+4F46) in pattern match (m//) at /usr/home/njh/.cpan/build/Text-WideChar-Util-0.14-3rhghO/blib/lib/Text/WideChar/Util.pm line 190.
Wide character (U+5373) in pattern match (m//) at /usr/home/njh/.cpan/build/Text-WideChar-Util-0.14-3rhghO/blib/lib/Text/WideChar/Util.pm line 190.
Wide character (U+4FBF) in pattern match (m//) at /usr/home/njh/.cpan/build/Text-WideChar-Util-0.14-3rhghO/blib/lib/Text/WideChar/Util.pm line 190.
Wide character (U+5982) in pattern match (m//) at /usr/home/njh/.cpan/build/Text-WideChar-Util-0.14-3rhghO/blib/lib/Text/WideChar/Util.pm line 190.
Wide character (U+6B64) in pattern match (m//) at /usr/home/njh/.cpan/build/Text-WideChar-Util-0.14-3rhghO/blib/lib/Text/WideChar/Util.pm line 190.
Wide character (U+FF0C) in pattern match (m//) at /usr/home/njh/.cpan/build/Text-WideChar-Util-0.14-3rhghO/blib/lib/Text/WideChar/Util.pm line 190.
Wide character (U+4ECD) in pattern match (m//) at /usr/home/njh/.cpan/build/Text-WideChar-Util-0.14-3rhghO/blib/lib/Text/WideChar/Util.pm line 190.
Wide character (U+7136) in pattern match (m//) at /usr/home/njh/.cpan/build/Text-WideChar-Util-0.14-3rhghO/blib/lib/Text/WideChar/Util.pm line 190.
Wide character (U+6CA1) in pattern match (m//) at /usr/home/njh/.cpan/build/Text-WideChar-Util-0.14-3rhghO/blib/lib/Text/WideChar/Util.pm line 190.
Wide character (U+6709) in pattern match (m//) at /usr/home/njh/.cpan/build/Text-WideChar-Util-0.14-3rhghO/blib/lib/Text/WideChar/Util.pm line 190.
Wide character (U+9884) in pattern match (m//) at /usr/home/njh/.cpan/build/Text-WideChar-Util-0.14-3rhghO/blib/lib/Text/WideChar/Util.pm line 190.
Wide character (U+9632) in pattern match (m//) at /usr/home/njh/.cpan/build/Text-WideChar-Util-0.14-3rhghO/blib/lib/Text/WideChar/Util.pm line 190.
Wide character (U+707E) in pattern match (m//) at /usr/home/njh/.cpan/build/Text-WideChar-Util-0.14-3rhghO/blib/lib/Text/WideChar/Util.pm line 190.
Wide character (U+96BE) in pattern match (m//) at /usr/home/njh/.cpan/build/Text-WideChar-Util-0.14-3rhghO/blib/lib/Text/WideChar/Util.pm line 190.
Wide character (U+7684) in pattern match (m//) at /usr/home/njh/.cpan/build/Text-WideChar-Util-0.14-3rhghO/blib/lib/Text/WideChar/Util.pm line 190.
Wide character (U+53D1) in pattern match (m//) at /usr/home/njh/.cpan/build/Text-WideChar-Util-0.14-3rhghO/blib/lib/Text/WideChar/Util.pm line 190.
Wide character (U+751F) in pattern match (m//) at /usr/home/njh/.cpan/build/Text-WideChar-Util-0.14-3rhghO/blib/lib/Text/WideChar/Util.pm line 190.
Wide character (U+3002) in pattern match (m//) at /usr/home/njh/.cpan/build/Text-WideChar-Util-0.14-3rhghO/blib/lib/Text/WideChar/Util.pm line 190.
Wide character (U+76EE) in pattern match (m//) at /usr/home/njh/.cpan/build/Text-WideChar-Util-0.14-3rhghO/blib/lib/Text/WideChar/Util.pm line 190.
Wide character (U+524D) in pattern match (m//) at /usr/home/njh/.cpan/build/Text-WideChar-Util-0.14-3rhghO/blib/lib/Text/WideChar/Util.pm line 190.
Wide character (U+8FD8) in pattern match (m//) at /usr/home/njh/.cpan/build/Text-WideChar-Util-0.14-3rhghO/blib/lib/Text/WideChar/Util.pm line 190.
Wide character (U+4E0D) in pattern match (m//) at /usr/home/njh/.cpan/build/Text-WideChar-Util-0.14-3rhghO/blib/lib/Text/WideChar/Util.pm line 190.
Wide character (U+6E05) in pattern match (m//) at /usr/home/njh/.cpan/build/Text-WideChar-Util-0.14-3rhghO/blib/lib/Text/WideChar/Util.pm line 190.
Wide character (U+695A) in pattern match (m//) at /usr/home/njh/.cpan/build/Text-WideChar-Util-0.14-3rhghO/blib/lib/Text/WideChar/Util.pm line 190.
Wide character (U+6570) in pattern match (m//) at /usr/home/njh/.cpan/build/Text-WideChar-Util-0.14-3rhghO/blib/lib/Text/WideChar/Util.pm line 190.
Wide character (U+636E) in pattern match (m//) at /usr/home/njh/.cpan/build/Text-WideChar-Util-0.14-3rhghO/blib/lib/Text/WideChar/Util.pm line 190.
Wide character (U+4E2D) in pattern match (m//) at /usr/home/njh/.cpan/build/Text-WideChar-Util-0.14-3rhghO/blib/lib/Text/WideChar/Util.pm line 190.
Wide character (U+5FC3) in pattern match (m//) at /usr/home/njh/.cpan/build/Text-WideChar-Util-0.14-3rhghO/blib/lib/Text/WideChar/Util.pm line 190.
Wide character (U+8D77) in pattern match (m//) at /usr/home/njh/.cpan/build/Text-WideChar-Util-0.14-3rhghO/blib/lib/Text/WideChar/Util.pm line 190.
Wide character (U+706B) in pattern match (m//) at /usr/home/njh/.cpan/build/Text-WideChar-Util-0.14-3rhghO/blib/lib/Text/WideChar/Util.pm line 190.
Wide character (U+7684) in pattern match (m//) at /usr/home/njh/.cpan/build/Text-WideChar-Util-0.14-3rhghO/blib/lib/Text/WideChar/Util.pm line 190.
Wide character (U+539F) in pattern match (m//) at /usr/home/njh/.cpan/build/Text-WideChar-Util-0.14-3rhghO/blib/lib/Text/WideChar/Util.pm line 190.
Wide character (U+56E0) in pattern match (m//) at /usr/home/njh/.cpan/build/Text-WideChar-Util-0.14-3rhghO/blib/lib/Text/WideChar/Util.pm line 190.
Wide character (U+3002) in pattern match (m//) at /usr/home/njh/.cpan/build/Text-WideChar-Util-0.14-3rhghO/blib/lib/Text/WideChar/Util.pm line 190.
Wide character (U+4F4D) in pattern match (m//) at /usr/home/njh/.cpan/build/Text-WideChar-Util-0.14-3rhghO/blib/lib/Text/WideChar/Util.pm line 194.
Wide character (U+4F4D) in pattern match (m//) at /usr/home/njh/.cpan/build/Text-WideChar-Util-0.14-3rhghO/blib/lib/Text/WideChar/Util.pm line 196.
Wide character (U+4E8E) in pattern match (m//) at /usr/home/njh/.cpan/build/Text-WideChar-Util-0.14-3rhghO/blib/lib/Text/WideChar/Util.pm line 196.
Wide character (U+963F) in pattern match (m//) at /usr/home/njh/.cpan/build/Text-WideChar-Util-0.14-3rhghO/blib/lib/Text/WideChar/Util.pm line 196.
Wide character (U+6839) in pattern match (m//) at /usr/home/njh/.cpan/build/Text-WideChar-Util-0.14-3rhghO/blib/lib/Text/WideChar/Util.pm line 196.
Wide character (U+5EF7) in pattern match (m//) at /usr/home/njh/.cpan/build/Text-WideChar-Util-0.14-3rhghO/blib/lib/Text/WideChar/Util.pm line 196.
Wide character (U+9996) in pattern match (m//) at /usr/home/njh/.cpan/build/Text-WideChar-Util-0.14-3rhghO/blib/lib/Text/WideChar/Util.pm line 196.
Wide character (U+90FD) in pattern match (m//) at /usr/home/njh/.cpan/build/Text-WideChar-Util-0.14-3rhghO/blib/lib/Text/WideChar/Util.pm line 196.
Wide character (U+5E03) in pattern match (m//) at /usr/home/njh/.cpan/build/Text-WideChar-Util-0.14-3rhghO/blib/lib/Text/WideChar/Util.pm line 196.
Wide character (U+5B9C) in pattern match (m//) at /usr/home/njh/.cpan/build/Text-WideChar-Util-0.14-3rhghO/blib/lib/Text/WideChar/Util.pm line 196.
Wide character (U+8BFA) in pattern match (m//) at /usr/home/njh/.cpan/build/Text-WideChar-Util-0.14-3rhghO/blib/lib/Text/WideChar/Util.pm line 196.
Wide character (U+65AF) in pattern match (m//) at /usr/home/njh/.cpan/build/Text-WideChar-Util-0.14-3rhghO/blib/lib/Text/WideChar/Util.pm line 196.
Wide character (U+827E) in pattern match (m//) at /usr/home/njh/.cpan/build/Text-WideChar-Util-0.14-3rhghO/blib/lib/Text/WideChar/Util.pm line 196.
Wide character (U+5229) in pattern match (m//) at /usr/home/njh/.cpan/build/Text-WideChar-Util-0.14-3rhghO/blib/lib/Text/WideChar/Util.pm line 196.
Wide character (U+65AF) in pattern match (m//) at /usr/home/njh/.cpan/build/Text-WideChar-Util-0.14-3rhghO/blib/lib/Text/WideChar/Util.pm line 196.
Wide character (U+7684) in pattern match (m//) at /usr/home/njh/.cpan/build/Text-WideChar-Util-0.14-3rhghO/blib/lib/Text/WideChar/Util.pm line 196.
Wide character (U+4E00) in pattern match (m//) at /usr/home/njh/.cpan/build/Text-WideChar-Util-0.14-3rhghO/blib/lib/Text/WideChar/Util.pm line 196.
Wide character (U+4E2A) in pattern match (m//) at /usr/home/njh/.cpan/build/Text-WideChar-Util-0.14-3rhghO/blib/lib/Text/WideChar/Util.pm line 196.
Wide character (U+5927) in pattern match (m//) at /usr/home/njh/.cpan/build/Text-WideChar-Util-0.14-3rhghO/blib/lib/Text/WideChar/Util.pm line 196.
Wide character (U+6570) in pattern match (m//) at /usr/home/njh/.cpan/build/Text-WideChar-Util-0.14-3rhghO/blib/lib/Text/WideChar/Util.pm line 196.
Wide character (U+636E) in pattern match (m//) at /usr/home/njh/.cpan/build/Text-WideChar-Util-0.14-3rhghO/blib/lib/Text/WideChar/Util.pm line 196.
Wide character (U+4E2D) in pattern match (m//) at /usr/home/njh/.cpan/build/Text-WideChar-Util-0.14-3rhghO/blib/lib/Text/WideChar/Util.pm line 196.
Wide character (U+5FC3) in pattern match (m//) at /usr/home/njh/.cpan/build/Text-WideChar-Util-0.14-3rhghO/blib/lib/Text/WideChar/Util.pm line 196.
Wide character (U+5468) in pattern match (m//) at /usr/home/njh/.cpan/build/Text-WideChar-Util-0.14-3rhghO/blib/lib/Text/WideChar/Util.pm line 196.
Wide character (U+4E09) in pattern match (m//) at /usr/home/njh/.cpan/build/Text-WideChar-Util-0.14-3rhghO/blib/lib/Text/WideChar/Util.pm line 196.
Wide character (U+906D) in pattern match (m//) at /usr/home/njh/.cpan/build/Text-WideChar-Util-0.14-3rhghO/blib/lib/Text/WideChar/Util.pm line 196.
Wide character (U+5927) in pattern match (m//) at /usr/home/njh/.cpan/build/Text-WideChar-Util-0.14-3rhghO/blib/lib/Text/WideChar/Util.pm line 196.
Wide character (U+706B) in pattern match (m//) at /usr/home/njh/.cpan/build/Text-WideChar-Util-0.14-3rhghO/blib/lib/Text/WideChar/Util.pm line 196.
Wide character (U+70E7) in pattern match (m//) at /usr/home/njh/.cpan/build/Text-WideChar-Util-0.14-3rhghO/blib/lib/Text/WideChar/Util.pm line 196.
Wide character (U+6BC1) in pattern match (m//) at /usr/home/njh/.cpan/build/Text-WideChar-Util-0.14-3rhghO/blib/lib/Text/WideChar/Util.pm line 196.
Wide character (U+FF0C) in pattern match (m//) at /usr/home/njh/.cpan/build/Text-WideChar-Util-0.14-3rhghO/blib/lib/Text/WideChar/Util.pm line 196.
Wide character (U+4E5D) in pattern match (m//) at /usr/home/njh/.cpan/build/Text-WideChar-Util-0.14-3rhghO/blib/lib/Text/WideChar/Util.pm line 196.
Wide character (U+540D) in pattern match (m//) at /usr/home/njh/.cpan/build/Text-WideChar-Util-0.14-3rhghO/blib/lib/Text/WideChar/Util.pm line 196.
Wide character (U+6D88) in pattern match (m//) at /usr/home/njh/.cpan/build/Text-WideChar-Util-0.14-3rhghO/blib/lib/Text/WideChar/Util.pm line 196.
Wide character (U+9632) in pattern match (m//) at /usr/home/njh/.cpan/build/Text-WideChar-Util-0.14-3rhghO/blib/lib/Text/WideChar/Util.pm line 196.
Wide character (U+5458) in pattern match (m//) at /usr/home/njh/.cpan/build/Text-WideChar-Util-0.14-3rhghO/blib/lib/Text/WideChar/Util.pm line 196.
Wide character (U+5728) in pattern match (m//) at /usr/home/njh/.cpan/build/Text-WideChar-Util-0.14-3rhghO/blib/lib/Text/WideChar/Util.pm line 196.
Wide character (U+6551) in pattern match (m//) at /usr/home/njh/.cpan/build/Text-WideChar-Util-0.14-3rhghO/blib/lib/Text/WideChar/Util.pm line 196.
Wide character (U+706B) in pattern match (m//) at /usr/home/njh/.cpan/build/Text-WideChar-Util-0.14-3rhghO/blib/lib/Text/WideChar/Util.pm line 196.
Wide character (U+4E2D) in pattern match (m//) at /usr/home/njh/.cpan/build/Text-WideChar-Util-0.14-3rhghO/blib/lib/Text/WideChar/Util.pm line 196.
Wide character (U+4E27) in pattern match (m//) at /usr/home/njh/.cpan/build/Text-WideChar-Util-0.14-3rhghO/blib/lib/Text/WideChar/Util.pm line 196.
Wide character (U+751F) in pattern match (m//) at /usr/home/njh/.cpan/build/Text-WideChar-Util-0.14-3rhghO/blib/lib/Text/WideChar/Util.pm line 196.
Wide character (U+FF0C) in pattern match (m//) at /usr/home/njh/.cpan/build/Text-WideChar-Util-0.14-3rhghO/blib/lib/Text/WideChar/Util.pm line 196.
Wide character (U+4EBA) in pattern match (m//) at /usr/home/njh/.cpan/build/Text-WideChar-Util-0.14-3rhghO/blib/lib/Text/WideChar/Util.pm line 196.
Wide character (U+4EBA) in pattern match (m//) at /usr/home/njh/.cpan/build/Text-WideChar-Util-0.14-3rhghO/blib/lib/Text/WideChar/Util.pm line 196.
Wide character (U+5931) in pattern match (m//) at /usr/home/njh/.cpan/build/Text-WideChar-Util-0.14-3rhghO/blib/lib/Text/WideChar/Util.pm line 196.
Wide character (U+8E2A) in pattern match (m//) at /usr/home/njh/.cpan/build/Text-WideChar-Util-0.14-3rhghO/blib/lib/Text/WideChar/Util.pm line 196.
Wide character (U+FF0C) in pattern match (m//) at /usr/home/njh/.cpan/build/Text-WideChar-Util-0.14-3rhghO/blib/lib/Text/WideChar/Util.pm line 196.
Wide character (U+4EBA) in pattern match (m//) at /usr/home/njh/.cpan/build/Text-WideChar-Util-0.14-3rhghO/blib/lib/Text/WideChar/Util.pm line 196.
Wide character (U+4EBA) in pattern match (m//) at /usr/home/njh/.cpan/build/Text-WideChar-Util-0.14-3rhghO/blib/lib/Text/WideChar/Util.pm line 196.
Wide character (U+53D7) in pattern match (m//) at /usr/home/njh/.cpan/build/Text-WideChar-Util-0.14-3rhghO/blib/lib/Text/WideChar/Util.pm line 196.
Wide character (U+4F24) in pattern match (m//) at /usr/home/njh/.cpan/build/Text-WideChar-Util-0.14-3rhghO/blib/lib/Text/WideChar/Util.pm line 196.
Wide character (U+3002) in pattern match (m//) at /usr/home/njh/.cpan/build/Text-WideChar-Util-0.14-3rhghO/blib/lib/Text/WideChar/Util.pm line 196.
Wide character (U+6570) in pattern match (m//) at /usr/home/njh/.cpan/build/Text-WideChar-Util-0.14-3rhghO/blib/lib/Text/WideChar/Util.pm line 196.
Wide character (U+636E) in pattern match (m//) at /usr/home/njh/.cpan/build/Text-WideChar-Util-0.14-3rhghO/blib/lib/Text/WideChar/Util.pm line 196.
Wide character (U+4E2D) in pattern match (m//) at /usr/home/njh/.cpan/build/Text-WideChar-Util-0.14-3rhghO/blib/lib/Text/WideChar/Util.pm line 196.
Wide character (U+5FC3) in pattern match (m//) at /usr/home/njh/.cpan/build/Text-WideChar-Util-0.14-3rhghO/blib/lib/Text/WideChar/Util.pm line 196.
Wide character (U+50A8) in pattern match (m//) at /usr/home/njh/.cpan/build/Text-WideChar-Util-0.14-3rhghO/blib/lib/Text/WideChar/Util.pm line 196.
Wide character (U+5B58) in pattern match (m//) at /usr/home/njh/.cpan/build/Text-WideChar-Util-0.14-3rhghO/blib/lib/Text/WideChar/Util.pm line 196.
Wide character (U+4E86) in pattern match (m//) at /usr/home/njh/.cpan/build/Text-WideChar-Util-0.14-3rhghO/blib/lib/Text/WideChar/Util.pm line 196.
Wide character (U+963F) in pattern match (m//) at /usr/home/njh/.cpan/build/Text-WideChar-Util-0.14-3rhghO/blib/lib/Text/WideChar/Util.pm line 196.
Wide character (U+6839) in pattern match (m//) at /usr/home/njh/.cpan/build/Text-WideChar-Util-0.14-3rhghO/blib/lib/Text/WideChar/Util.pm line 196.
Wide character (U+5EF7) in pattern match (m//) at /usr/home/njh/.cpan/build/Text-WideChar-Util-0.14-3rhghO/blib/lib/Text/WideChar/Util.pm line 196.
Wide character (U+592E) in pattern match (m//) at /usr/home/njh/.cpan/build/Text-WideChar-Util-0.14-3rhghO/blib/lib/Text/WideChar/Util.pm line 196.
Wide character (U+884C) in pattern match (m//) at /usr/home/njh/.cpan/build/Text-WideChar-Util-0.14-3rhghO/blib/lib/Text/WideChar/Util.pm line 196.
Wide character (U+548C) in pattern match (m//) at /usr/home/njh/.cpan/build/Text-WideChar-Util-0.14-3rhghO/blib/lib/Text/WideChar/Util.pm line 196.
Wide character (U+4F01) in pattern match (m//) at /usr/home/njh/.cpan/build/Text-WideChar-Util-0.14-3rhghO/blib/lib/Text/WideChar/Util.pm line 196.
Wide character (U+4E1A) in pattern match (m//) at /usr/home/njh/.cpan/build/Text-WideChar-Util-0.14-3rhghO/blib/lib/Text/WideChar/Util.pm line 196.
Wide character (U+6863) in pattern match (m//) at /usr/home/njh/.cpan/build/Text-WideChar-Util-0.14-3rhghO/blib/lib/Text/WideChar/Util.pm line 196.
Wide character (U+6848) in pattern match (m//) at /usr/home/njh/.cpan/build/Text-WideChar-Util-0.14-3rhghO/blib/lib/Text/WideChar/Util.pm line 196.
Wide character (U+FF0C) in pattern match (m//) at /usr/home/njh/.cpan/build/Text-WideChar-Util-0.14-3rhghO/blib/lib/Text/WideChar/Util.pm line 196.
Wide character (U+56E0) in pattern match (m//) at /usr/home/njh/.cpan/build/Text-WideChar-Util-0.14-3rhghO/blib/lib/Text/WideChar/Util.pm line 196.
Wide character (U+6B64) in pattern match (m//) at /usr/home/njh/.cpan/build/Text-WideChar-Util-0.14-3rhghO/blib/lib/Text/WideChar/Util.pm line 196.
Wide character (U+635F) in pattern match (m//) at /usr/home/njh/.cpan/build/Text-WideChar-Util-0.14-3rhghO/blib/lib/Text/WideChar/Util.pm line 196.
Wide character (U+5931) in pattern match (m//) at /usr/home/njh/.cpan/build/Text-WideChar-Util-0.14-3rhghO/blib/lib/Text/WideChar/Util.pm line 196.
Wide character (U+53EF) in pattern match (m//) at /usr/home/njh/.cpan/build/Text-WideChar-Util-0.14-3rhghO/blib/lib/Text/WideChar/Util.pm line 196.
Wide character (U+80FD) in pattern match (m//) at /usr/home/njh/.cpan/build/Text-WideChar-Util-0.14-3rhghO/blib/lib/Text/WideChar/Util.pm line 196.
Wide character (U+975E) in pattern match (m//) at /usr/home/njh/.cpan/build/Text-WideChar-Util-0.14-3rhghO/blib/lib/Text/WideChar/Util.pm line 196.
Wide character (U+5E38) in pattern match (m//) at /usr/home/njh/.cpan/build/Text-WideChar-Util-0.14-3rhghO/blib/lib/Text/WideChar/Util.pm line 196.
Wide character (U+5DE8) in pattern match (m//) at /usr/home/njh/.cpan/build/Text-WideChar-Util-0.14-3rhghO/blib/lib/Text/WideChar/Util.pm line 196.
Wide character (U+5927) in pattern match (m//) at /usr/home/njh/.cpan/build/Text-WideChar-Util-0.14-3rhghO/blib/lib/Text/WideChar/Util.pm line 196.
Wide character (U+3002) in pattern match (m//) at /usr/home/njh/.cpan/build/Text-WideChar-Util-0.14-3rhghO/blib/lib/Text/WideChar/Util.pm line 196.
Wide character (U+8FD9) in pattern match (m//) at /usr/home/njh/.cpan/build/Text-WideChar-Util-0.14-3rhghO/blib/lib/Text/WideChar/Util.pm line 196.
Wide character (U+4E2A) in pattern match (m//) at /usr/home/njh/.cpan/build/Text-WideChar-Util-0.14-3rhghO/blib/lib/Text/WideChar/Util.pm line 196.
Wide character (U+6570) in pattern match (m//) at /usr/home/njh/.cpan/build/Text-WideChar-Util-0.14-3rhghO/blib/lib/Text/WideChar/Util.pm line 196.
Wide character (U+636E) in pattern match (m//) at /usr/home/njh/.cpan/build/Text-WideChar-Util-0.14-3rhghO/blib/lib/Text/WideChar/Util.pm line 196.
Wide character (U+4E2D) in pattern match (m//) at /usr/home/njh/.cpan/build/Text-WideChar-Util-0.14-3rhghO/blib/lib/Text/WideChar/Util.pm line 196.
Wide character (U+5FC3) in pattern match (m//) at /usr/home/njh/.cpan/build/Text-WideChar-Util-0.14-3rhghO/blib/lib/Text/WideChar/Util.pm line 196.
Wide character (U+914D) in pattern match (m//) at /usr/home/njh/.cpan/build/Text-WideChar-Util-0.14-3rhghO/blib/lib/Text/WideChar/Util.pm line 196.
Wide character (U+5907) in pattern match (m//) at /usr/home/njh/.cpan/build/Text-WideChar-Util-0.14-3rhghO/blib/lib/Text/WideChar/Util.pm line 196.
Wide character (U+4E86) in pattern match (m//) at /usr/home/njh/.cpan/build/Text-WideChar-Util-0.14-3rhghO/blib/lib/Text/WideChar/Util.pm line 196.
Wide character (U+79C1) in pattern match (m//) at /usr/home/njh/.cpan/build/Text-WideChar-Util-0.14-3rhghO/blib/lib/Text/WideChar/Util.pm line 196.
Wide character (U+4EBA) in pattern match (m//) at /usr/home/njh/.cpan/build/Text-WideChar-Util-0.14-3rhghO/blib/lib/Text/WideChar/Util.pm line 196.
Wide character (U+7684) in pattern match (m//) at /usr/home/njh/.cpan/build/Text-WideChar-Util-0.14-3rhghO/blib/lib/Text/WideChar/Util.pm line 196.
Wide character (U+6551) in pattern match (m//) at /usr/home/njh/.cpan/build/Text-WideChar-Util-0.14-3rhghO/blib/lib/Text/WideChar/Util.pm line 196.
Wide character (U+706B) in pattern match (m//) at /usr/home/njh/.cpan/build/Text-WideChar-Util-0.14-3rhghO/blib/lib/Text/WideChar/Util.pm line 196.
Wide character (U+961F) in pattern match (m//) at /usr/home/njh/.cpan/build/Text-WideChar-Util-0.14-3rhghO/blib/lib/Text/WideChar/Util.pm line 196.
Wide character (U+FF0C) in pattern match (m//) at /usr/home/njh/.cpan/build/Text-WideChar-Util-0.14-3rhghO/blib/lib/Text/WideChar/Util.pm line 196.
Wide character (U+81EA) in pattern match (m//) at /usr/home/njh/.cpan/build/Text-WideChar-Util-0.14-3rhghO/blib/lib/Text/WideChar/Util.pm line 196.
Wide character (U+52A8) in pattern match (m//) at /usr/home/njh/.cpan/build/Text-WideChar-Util-0.14-3rhghO/blib/lib/Text/WideChar/Util.pm line 196.
Wide character (U+55B7) in pattern match (m//) at /usr/home/njh/.cpan/build/Text-WideChar-Util-0.14-3rhghO/blib/lib/Text/WideChar/Util.pm line 196.
Wide character (U+6C34) in pattern match (m//) at /usr/home/njh/.cpan/build/Text-WideChar-Util-0.14-3rhghO/blib/lib/Text/WideChar/Util.pm line 196.
Wide character (U+706D) in pattern match (m//) at /usr/home/njh/.cpan/build/Text-WideChar-Util-0.14-3rhghO/blib/lib/Text/WideChar/Util.pm line 196.
Wide character (U+706B) in pattern match (m//) at /usr/home/njh/.cpan/build/Text-WideChar-Util-0.14-3rhghO/blib/lib/Text/WideChar/Util.pm line 196.
Wide character (U+7CFB) in pattern match (m//) at /usr/home/njh/.cpan/build/Text-WideChar-Util-0.14-3rhghO/blib/lib/Text/WideChar/Util.pm line 196.
Wide character (U+7EDF) in pattern match (m//) at /usr/home/njh/.cpan/build/Text-WideChar-Util-0.14-3rhghO/blib/lib/Text/WideChar/Util.pm line 196.
Wide character (U+FF0C) in pattern match (m//) at /usr/home/njh/.cpan/build/Text-WideChar-Util-0.14-3rhghO/blib/lib/Text/WideChar/Util.pm line 196.
Wide character (U+706B) in pattern match (m//) at /usr/home/njh/.cpan/build/Text-WideChar-Util-0.14-3rhghO/blib/lib/Text/WideChar/Util.pm line 196.
Wide character (U+707E) in pattern match (m//) at /usr/home/njh/.cpan/build/Text-WideChar-Util-0.14-3rhghO/blib/lib/Text/WideChar/Util.pm line 196.
Wide character (U+63A7) in pattern match (m//) at /usr/home/njh/.cpan/build/Text-WideChar-Util-0.14-3rhghO/blib/lib/Text/WideChar/Util.pm line 196.
Wide character (U+5236) in pattern match (m//) at /usr/home/njh/.cpan/build/Text-WideChar-Util-0.14-3rhghO/blib/lib/Text/WideChar/Util.pm line 196.
Wide character (U+7CFB) in pattern match (m//) at /usr/home/njh/.cpan/build/Text-WideChar-Util-0.14-3rhghO/blib/lib/Text/WideChar/Util.pm line 196.
Wide character (U+7EDF) in pattern match (m//) at /usr/home/njh/.cpan/build/Text-WideChar-Util-0.14-3rhghO/blib/lib/Text/WideChar/Util.pm line 196.
Wide character (U+4EE5) in pattern match (m//) at /usr/home/njh/.cpan/build/Text-WideChar-Util-0.14-3rhghO/blib/lib/Text/WideChar/Util.pm line 196.
Wide character (U+53CA) in pattern match (m//) at /usr/home/njh/.cpan/build/Text-WideChar-Util-0.14-3rhghO/blib/lib/Text/WideChar/Util.pm line 196.
Wide character (U+5176) in pattern match (m//) at /usr/home/njh/.cpan/build/Text-WideChar-Util-0.14-3rhghO/blib/lib/Text/WideChar/Util.pm line 196.
Wide character (U+5B83) in pattern match (m//) at /usr/home/njh/.cpan/build/Text-WideChar-Util-0.14-3rhghO/blib/lib/Text/WideChar/Util.pm line 196.
Wide character (U+706B) in pattern match (m//) at /usr/home/njh/.cpan/build/Text-WideChar-Util-0.14-3rhghO/blib/lib/Text/WideChar/Util.pm line 196.
Wide character (U+707E) in pattern match (m//) at /usr/home/njh/.cpan/build/Text-WideChar-Util-0.14-3rhghO/blib/lib/Text/WideChar/Util.pm line 196.
Wide character (U+9884) in pattern match (m//) at /usr/home/njh/.cpan/build/Text-WideChar-Util-0.14-3rhghO/blib/lib/Text/WideChar/Util.pm line 196.
Wide character (U+9632) in pattern match (m//) at /usr/home/njh/.cpan/build/Text-WideChar-Util-0.14-3rhghO/blib/lib/Text/WideChar/Util.pm line 196.
Wide character (U+7684) in pattern match (m//) at /usr/home/njh/.cpan/build/Text-WideChar-Util-0.14-3rhghO/blib/lib/Text/WideChar/Util.pm line 196.
Wide character (U+63AA) in pattern match (m//) at /usr/home/njh/.cpan/build/Text-WideChar-Util-0.14-3rhghO/blib/lib/Text/WideChar/Util.pm line 196.
Wide character (U+65BD) in pattern match (m//) at /usr/home/njh/.cpan/build/Text-WideChar-Util-0.14-3rhghO/blib/lib/Text/WideChar/Util.pm line 196.
Wide character (U+3002) in pattern match (m//) at /usr/home/njh/.cpan/build/Text-WideChar-Util-0.14-3rhghO/blib/lib/Text/WideChar/Util.pm line 196.
Wide character (U+4F46) in pattern match (m//) at /usr/home/njh/.cpan/build/Text-WideChar-Util-0.14-3rhghO/blib/lib/Text/WideChar/Util.pm line 196.
Wide character (U+5373) in pattern match (m//) at /usr/home/njh/.cpan/build/Text-WideChar-Util-0.14-3rhghO/blib/lib/Text/WideChar/Util.pm line 196.
Wide character (U+4FBF) in pattern match (m//) at /usr/home/njh/.cpan/build/Text-WideChar-Util-0.14-3rhghO/blib/lib/Text/WideChar/Util.pm line 196.
Wide character (U+5982) in pattern match (m//) at /usr/home/njh/.cpan/build/Text-WideChar-Util-0.14-3rhghO/blib/lib/Text/WideChar/Util.pm line 196.
Wide character (U+6B64) in pattern match (m//) at /usr/home/njh/.cpan/build/Text-WideChar-Util-0.14-3rhghO/blib/lib/Text/WideChar/Util.pm line 196.
Wide character (U+FF0C) in pattern match (m//) at /usr/home/njh/.cpan/build/Text-WideChar-Util-0.14-3rhghO/blib/lib/Text/WideChar/Util.pm line 196.
Wide character (U+4ECD) in pattern match (m//) at /usr/home/njh/.cpan/build/Text-WideChar-Util-0.14-3rhghO/blib/lib/Text/WideChar/Util.pm line 196.
Wide character (U+7136) in pattern match (m//) at /usr/home/njh/.cpan/build/Text-WideChar-Util-0.14-3rhghO/blib/lib/Text/WideChar/Util.pm line 196.
Wide character (U+6CA1) in pattern match (m//) at /usr/home/njh/.cpan/build/Text-WideChar-Util-0.14-3rhghO/blib/lib/Text/WideChar/Util.pm line 196.
Wide character (U+6709) in pattern match (m//) at /usr/home/njh/.cpan/build/Text-WideChar-Util-0.14-3rhghO/blib/lib/Text/WideChar/Util.pm line 196.
Wide character (U+9884) in pattern match (m//) at /usr/home/njh/.cpan/build/Text-WideChar-Util-0.14-3rhghO/blib/lib/Text/WideChar/Util.pm line 196.
Wide character (U+9632) in pattern match (m//) at /usr/home/njh/.cpan/build/Text-WideChar-Util-0.14-3rhghO/blib/lib/Text/WideChar/Util.pm line 196.
Wide character (U+707E) in pattern match (m//) at /usr/home/njh/.cpan/build/Text-WideChar-Util-0.14-3rhghO/blib/lib/Text/WideChar/Util.pm line 196.
Wide character (U+96BE) in pattern match (m//) at /usr/home/njh/.cpan/build/Text-WideChar-Util-0.14-3rhghO/blib/lib/Text/WideChar/Util.pm line 196.
Wide character (U+7684) in pattern match (m//) at /usr/home/njh/.cpan/build/Text-WideChar-Util-0.14-3rhghO/blib/lib/Text/WideChar/Util.pm line 196.
Wide character (U+53D1) in pattern match (m//) at /usr/home/njh/.cpan/build/Text-WideChar-Util-0.14-3rhghO/blib/lib/Text/WideChar/Util.pm line 196.
Wide character (U+751F) in pattern match (m//) at /usr/home/njh/.cpan/build/Text-WideChar-Util-0.14-3rhghO/blib/lib/Text/WideChar/Util.pm line 196.
Wide character (U+3002) in pattern match (m//) at /usr/home/njh/.cpan/build/Text-WideChar-Util-0.14-3rhghO/blib/lib/Text/WideChar/Util.pm line 196.
Wide character (U+76EE) in pattern match (m//) at /usr/home/njh/.cpan/build/Text-WideChar-Util-0.14-3rhghO/blib/lib/Text/WideChar/Util.pm line 196.
Wide character (U+524D) in pattern match (m//) at /usr/home/njh/.cpan/build/Text-WideChar-Util-0.14-3rhghO/blib/lib/Text/WideChar/Util.pm line 196.
Wide character (U+8FD8) in pattern match (m//) at /usr/home/njh/.cpan/build/Text-WideChar-Util-0.14-3rhghO/blib/lib/Text/WideChar/Util.pm line 196.
Wide character (U+4E0D) in pattern match (m//) at /usr/home/njh/.cpan/build/Text-WideChar-Util-0.14-3rhghO/blib/lib/Text/WideChar/Util.pm line 196.
Wide character (U+6E05) in pattern match (m//) at /usr/home/njh/.cpan/build/Text-WideChar-Util-0.14-3rhghO/blib/lib/Text/WideChar/Util.pm line 196.
Wide character (U+695A) in pattern match (m//) at /usr/home/njh/.cpan/build/Text-WideChar-Util-0.14-3rhghO/blib/lib/Text/WideChar/Util.pm line 196.
Wide character (U+6570) in pattern match (m//) at /usr/home/njh/.cpan/build/Text-WideChar-Util-0.14-3rhghO/blib/lib/Text/WideChar/Util.pm line 196.
Wide character (U+636E) in pattern match (m//) at /usr/home/njh/.cpan/build/Text-WideChar-Util-0.14-3rhghO/blib/lib/Text/WideChar/Util.pm line 196.
Wide character (U+4E2D) in pattern match (m//) at /usr/home/njh/.cpan/build/Text-WideChar-Util-0.14-3rhghO/blib/lib/Text/WideChar/Util.pm line 196.
Wide character (U+5FC3) in pattern match (m//) at /usr/home/njh/.cpan/build/Text-WideChar-Util-0.14-3rhghO/blib/lib/Text/WideChar/Util.pm line 196.
Wide character (U+8D77) in pattern match (m//) at /usr/home/njh/.cpan/build/Text-WideChar-Util-0.14-3rhghO/blib/lib/Text/WideChar/Util.pm line 196.
Wide character (U+706B) in pattern match (m//) at /usr/home/njh/.cpan/build/Text-WideChar-Util-0.14-3rhghO/blib/lib/Text/WideChar/Util.pm line 196.
Wide character (U+7684) in pattern match (m//) at /usr/home/njh/.cpan/build/Text-WideChar-Util-0.14-3rhghO/blib/lib/Text/WideChar/Util.pm line 196.
Wide character (U+539F) in pattern match (m//) at /usr/home/njh/.cpan/build/Text-WideChar-Util-0.14-3rhghO/blib/lib/Text/WideChar/Util.pm line 196.
Wide character (U+56E0) in pattern match (m//) at /usr/home/njh/.cpan/build/Text-WideChar-Util-0.14-3rhghO/blib/lib/Text/WideChar/Util.pm line 196.
Wide character (U+3002) in pattern match (m//) at /usr/home/njh/.cpan/build/Text-WideChar-Util-0.14-3rhghO/blib/lib/Text/WideChar/Util.pm line 196.
Wide character (U+5403) in pattern match (m//) at /usr/home/njh/.cpan/build/Text-WideChar-Util-0.14-3rhghO/blib/lib/Text/WideChar/Util.pm line 190.
Wide character (U+5403) in pattern match (m//) at /usr/home/njh/.cpan/build/Text-WideChar-Util-0.14-3rhghO/blib/lib/Text/WideChar/Util.pm line 190.
Wide character (U+5403) in pattern match (m//) at /usr/home/njh/.cpan/build/Text-WideChar-Util-0.14-3rhghO/blib/lib/Text/WideChar/Util.pm line 190.
Wide character (U+5403) in pattern match (m//) at /usr/home/njh/.cpan/build/Text-WideChar-Util-0.14-3rhghO/blib/lib/Text/WideChar/Util.pm line 190.
Wide character (U+5403) in pattern match (m//) at /usr/home/njh/.cpan/build/Text-WideChar-Util-0.14-3rhghO/blib/lib/Text/WideChar/Util.pm line 190.
Wide character (U+5403) in pattern match (m//) at /usr/home/njh/.cpan/build/Text-WideChar-Util-0.14-3rhghO/blib/lib/Text/WideChar/Util.pm line 190.
Wide character (U+5403) in pattern match (m//) at /usr/home/njh/.cpan/build/Text-WideChar-Util-0.14-3rhghO/blib/lib/Text/WideChar/Util.pm line 190.
Wide character (U+5403) in pattern match (m//) at /usr/home/njh/.cpan/build/Text-WideChar-Util-0.14-3rhghO/blib/lib/Text/WideChar/Util.pm line 190.
Wide character (U+5403) in pattern match (m//) at /usr/home/njh/.cpan/build/Text-WideChar-Util-0.14-3rhghO/blib/lib/Text/WideChar/Util.pm line 190.
Wide character (U+996D) in pattern match (m//) at /usr/home/njh/.cpan/build/Text-WideChar-Util-0.14-3rhghO/blib/lib/Text/WideChar/Util.pm line 190.
Wide character (U+996D) in pattern match (m//) at /usr/home/njh/.cpan/build/Text-WideChar-Util-0.14-3rhghO/blib/lib/Text/WideChar/Util.pm line 190.
Wide character (U+996D) in pattern match (m//) at /usr/home/njh/.cpan/build/Text-WideChar-Util-0.14-3rhghO/blib/lib/Text/WideChar/Util.pm line 190.
Wide character (U+996D) in pattern match (m//) at /usr/home/njh/.cpan/build/Text-WideChar-Util-0.14-3rhghO/blib/lib/Text/WideChar/Util.pm line 190.
Wide character (U+996D) in pattern match (m//) at /usr/home/njh/.cpan/build/Text-WideChar-Util-0.14-3rhghO/blib/lib/Text/WideChar/Util.pm line 190.
Wide character (U+996D) in pattern match (m//) at /usr/home/njh/.cpan/build/Text-WideChar-Util-0.14-3rhghO/blib/lib/Text/WideChar/Util.pm line 190.
Wide character (U+996D) in pattern match (m//) at /usr/home/njh/.cpan/build/Text-WideChar-Util-0.14-3rhghO/blib/lib/Text/WideChar/Util.pm line 190.
Wide character (U+996D) in pattern match (m//) at /usr/home/njh/.cpan/build/Text-WideChar-Util-0.14-3rhghO/blib/lib/Text/WideChar/Util.pm line 190.
Wide character (U+5403) in pattern match (m//) at /usr/home/njh/.cpan/build/Text-WideChar-Util-0.14-3rhghO/blib/lib/Text/WideChar/Util.pm line 190.
Wide character (U+5403) in pattern match (m//) at /usr/home/njh/.cpan/build/Text-WideChar-Util-0.14-3rhghO/blib/lib/Text/WideChar/Util.pm line 190.
Wide character (U+5403) in pattern match (m//) at /usr/home/njh/.cpan/build/Text-WideChar-Util-0.14-3rhghO/blib/lib/Text/WideChar/Util.pm line 190.
Wide character (U+5403) in pattern match (m//) at /usr/home/njh/.cpan/build/Text-WideChar-Util-0.14-3rhghO/blib/lib/Text/WideChar/Util.pm line 190.
Wide character (U+5403) in pattern match (m//) at /usr/home/njh/.cpan/build/Text-WideChar-Util-0.14-3rhghO/blib/lib/Text/WideChar/Util.pm line 190.
Wide character (U+5403) in pattern match (m//) at /usr/home/njh/.cpan/build/Text-WideChar-Util-0.14-3rhghO/blib/lib/Text/WideChar/Util.pm line 190.
Wide character (U+5403) in pattern match (m//) at /usr/home/njh/.cpan/build/Text-WideChar-Util-0.14-3rhghO/blib/lib/Text/WideChar/Util.pm line 190.
Wide character (U+5403) in pattern match (m//) at /usr/home/njh/.cpan/build/Text-WideChar-Util-0.14-3rhghO/blib/lib/Text/WideChar/Util.pm line 190.
Wide character (U+996D) in pattern match (m//) at /usr/home/njh/.cpan/build/Text-WideChar-Util-0.14-3rhghO/blib/lib/Text/WideChar/Util.pm line 190.
Wide character (U+996D) in pattern match (m//) at /usr/home/njh/.cpan/build/Text-WideChar-Util-0.14-3rhghO/blib/lib/Text/WideChar/Util.pm line 190.
Wide character (U+996D) in pattern match (m//) at /usr/home/njh/.cpan/build/Text-WideChar-Util-0.14-3rhghO/blib/lib/Text/WideChar/Util.pm line 190.
Wide character (U+996D) in pattern match (m//) at /usr/home/njh/.cpan/build/Text-WideChar-Util-0.14-3rhghO/blib/lib/Text/WideChar/Util.pm line 190.
Wide character (U+996D) in pattern match (m//) at /usr/home/njh/.cpan/build/Text-WideChar-Util-0.14-3rhghO/blib/lib/Text/WideChar/Util.pm line 190.
Wide character (U+996D) in pattern match (m//) at /usr/home/njh/.cpan/build/Text-WideChar-Util-0.14-3rhghO/blib/lib/Text/WideChar/Util.pm line 190.
Wide character (U+996D) in pattern match (m//) at /usr/home/njh/.cpan/build/Text-WideChar-Util-0.14-3rhghO/blib/lib/Text/WideChar/Util.pm line 190.
Wide character (U+996D) in pattern match (m//) at /usr/home/njh/.cpan/build/Text-WideChar-Util-0.14-3rhghO/blib/lib/Text/WideChar/Util.pm line 190.
Wide character (U+5403) in pattern match (m//) at /usr/home/njh/.cpan/build/Text-WideChar-Util-0.14-3rhghO/blib/lib/Text/WideChar/Util.pm line 190.
Wide character (U+5403) in pattern match (m//) at /usr/home/njh/.cpan/build/Text-WideChar-Util-0.14-3rhghO/blib/lib/Text/WideChar/Util.pm line 190.
Wide character (U+5403) in pattern match (m//) at /usr/home/njh/.cpan/build/Text-WideChar-Util-0.14-3rhghO/blib/lib/Text/WideChar/Util.pm line 190.
Wide character (U+5403) in pattern match (m//) at /usr/home/njh/.cpan/build/Text-WideChar-Util-0.14-3rhghO/blib/lib/Text/WideChar/Util.pm line 190.
Wide character (U+5403) in pattern match (m//) at /usr/home/njh/.cpan/build/Text-WideChar-Util-0.14-3rhghO/blib/lib/Text/WideChar/Util.pm line 190.
Wide character (U+5403) in pattern match (m//) at /usr/home/njh/.cpan/build/Text-WideChar-Util-0.14-3rhghO/blib/lib/Text/WideChar/Util.pm line 190.
Wide character (U+5403) in pattern match (m//) at /usr/home/njh/.cpan/build/Text-WideChar-Util-0.14-3rhghO/blib/lib/Text/WideChar/Util.pm line 190.
Wide character (U+5403) in pattern match (m//) at /usr/home/njh/.cpan/build/Text-WideChar-Util-0.14-3rhghO/blib/lib/Text/WideChar/Util.pm line 190.
Wide character (U+996D) in pattern match (m//) at /usr/home/njh/.cpan/build/Text-WideChar-Util-0.14-3rhghO/blib/lib/Text/WideChar/Util.pm line 190.
Wide character (U+996D) in pattern match (m//) at /usr/home/njh/.cpan/build/Text-WideChar-Util-0.14-3rhghO/blib/lib/Text/WideChar/Util.pm line 190.
Wide character (U+996D) in pattern match (m//) at /usr/home/njh/.cpan/build/Text-WideChar-Util-0.14-3rhghO/blib/lib/Text/WideChar/Util.pm line 190.
Wide character (U+996D) in pattern match (m//) at /usr/home/njh/.cpan/build/Text-WideChar-Util-0.14-3rhghO/blib/lib/Text/WideChar/Util.pm line 190.
Wide character (U+996D) in pattern match (m//) at /usr/home/njh/.cpan/build/Text-WideChar-Util-0.14-3rhghO/blib/lib/Text/WideChar/Util.pm line 190.
Wide character (U+996D) in pattern match (m//) at /usr/home/njh/.cpan/build/Text-WideChar-Util-0.14-3rhghO/blib/lib/Text/WideChar/Util.pm line 190.
Wide character (U+996D) in pattern match (m//) at /usr/home/njh/.cpan/build/Text-WideChar-Util-0.14-3rhghO/blib/lib/Text/WideChar/Util.pm line 190.
Wide character (U+996D) in pattern match (m//) at /usr/home/njh/.cpan/build/Text-WideChar-Util-0.14-3rhghO/blib/lib/Text/WideChar/Util.pm line 190.
Wide character (U+5403) in pattern match (m//) at /usr/home/njh/.cpan/build/Text-WideChar-Util-0.14-3rhghO/blib/lib/Text/WideChar/Util.pm line 190.
Wide character (U+5403) in pattern match (m//) at /usr/home/njh/.cpan/build/Text-WideChar-Util-0.14-3rhghO/blib/lib/Text/WideChar/Util.pm line 190.
Wide character (U+5403) in pattern match (m//) at /usr/home/njh/.cpan/build/Text-WideChar-Util-0.14-3rhghO/blib/lib/Text/WideChar/Util.pm line 190.
Wide character (U+5403) in pattern match (m//) at /usr/home/njh/.cpan/build/Text-WideChar-Util-0.14-3rhghO/blib/lib/Text/WideChar/Util.pm line 190.
Wide character (U+5403) in pattern match (m//) at /usr/home/njh/.cpan/build/Text-WideChar-Util-0.14-3rhghO/blib/lib/Text/WideChar/Util.pm line 190.
Wide character (U+5403) in pattern match (m//) at /usr/home/njh/.cpan/build/Text-WideChar-Util-0.14-3rhghO/blib/lib/Text/WideChar/Util.pm line 190.
Wide character (U+5403) in pattern match (m//) at /usr/home/njh/.cpan/build/Text-WideChar-Util-0.14-3rhghO/blib/lib/Text/WideChar/Util.pm line 190.
Wide character (U+5403) in pattern match (m//) at /usr/home/njh/.cpan/build/Text-WideChar-Util-0.14-3rhghO/blib/lib/Text/WideChar/Util.pm line 190.
Wide character (U+996D) in pattern match (m//) at /usr/home/njh/.cpan/build/Text-WideChar-Util-0.14-3rhghO/blib/lib/Text/WideChar/Util.pm line 190.
Wide character (U+996D) in pattern match (m//) at /usr/home/njh/.cpan/build/Text-WideChar-Util-0.14-3rhghO/blib/lib/Text/WideChar/Util.pm line 190.
Wide character (U+996D) in pattern match (m//) at /usr/home/njh/.cpan/build/Text-WideChar-Util-0.14-3rhghO/blib/lib/Text/WideChar/Util.pm line 190.
Wide character (U+996D) in pattern match (m//) at /usr/home/njh/.cpan/build/Text-WideChar-Util-0.14-3rhghO/blib/lib/Text/WideChar/Util.pm line 190.
Wide character (U+996D) in pattern match (m//) at /usr/home/njh/.cpan/build/Text-WideChar-Util-0.14-3rhghO/blib/lib/Text/WideChar/Util.pm line 190.
Wide character (U+996D) in pattern match (m//) at /usr/home/njh/.cpan/build/Text-WideChar-Util-0.14-3rhghO/blib/lib/Text/WideChar/Util.pm line 190.
Wide character (U+996D) in pattern match (m//) at /usr/home/njh/.cpan/build/Text-WideChar-Util-0.14-3rhghO/blib/lib/Text/WideChar/Util.pm line 190.
Wide character (U+996D) in pattern match (m//) at /usr/home/njh/.cpan/build/Text-WideChar-Util-0.14-3rhghO/blib/lib/Text/WideChar/Util.pm line 190.
t/wrap.t .................. ok
All tests successful.
Files=6, Tests=13, 13 wallclock secs ( 0.43 usr  0.38 sys +  5.34 cusr  5.98 csys = 12.13 CPU)
Result: PASS

------------------------------
PREREQUISITES
------------------------------

Prerequisite modules loaded:

requires:

    Module              Need     Have        
    ------------------- -------- ------------
    perl                5.010001 5.021008    
    Unicode::GCString   0        2013.10     

build_requires:

    Module              Need     Have        
    ------------------- -------- ------------
    ExtUtils::MakeMaker 0        7.04        
    File::Spec          0        3.53        
    IO::Handle          0        1.35        
    IPC::Open3          0        1.18        
    Test::More          0.98     1.301001_097

configure_requires:

    Module              Need     Have        
    ------------------- -------- ------------
    ExtUtils::MakeMaker 0        7.04        
    Perl::osnames       0.09     0.11        


------------------------------
ENVIRONMENT AND OTHER CONTEXT
------------------------------

Environment variables:

    AUTOMATED_TESTING = 1
    PATH = /home/njh/perl5/perlbrew/bin:/home/njh/perl5/perlbrew/perls/perl-5.21.8/bin:/home/njh/perl5/perlbrew/bin:/home/njh/perl5/perlbrew/perls/perl-5.21.8/bin:/sbin:/bin:/usr/sbin:/usr/bin:/usr/games:/usr/local/sbin:/usr/local/bin:/home/njh/bin
    PERL5LIB = /home/njh/.cpan/build/Unicode-LineBreak-2014.06-VKbE40/blib/arch:/home/njh/.cpan/build/Unicode-LineBreak-2014.06-VKbE40/blib/lib:/home/njh/.cpan/build/MIME-Charset-1.011.3-U2VPrP/blib/arch:/home/njh/.cpan/build/MIME-Charset-1.011.3-U2VPrP/blib/lib:/home/njh/.cpan/build/Color-ANSI-Util-0.14-nMhnOD/blib/arch:/home/njh/.cpan/build/Color-ANSI-Util-0.14-nMhnOD/blib/lib:/home/njh/.cpan/build/Progress-Any-0.20-UFhqjg/blib/arch:/home/njh/.cpan/build/Progress-Any-0.20-UFhqjg/blib/lib:/home/njh/.cpan/build/Perinci-CmdLine-Help-0.03-4TpY0n/blib/arch:/home/njh/.cpan/build/Perinci-CmdLine-Help-0.03-4TpY0n/blib/lib:/home/njh/.cpan/build/Perinci-Sub-To-CLIDocData-0.14-np9w1g/blib/arch:/home/njh/.cpan/build/Perinci-Sub-To-CLIDocData-0.14-np9w1g/blib/lib:/home/njh/.cpan/build/String-ShellQuote-1.04-2NMozm/blib/arch:/home/njh/.cpan/build/String-ShellQuote-1.04-2NMozm/blib/lib:/home/njh/.cpan/build/Perinci-Sub-ConvertArgs-Argv-0.04-JgK9GX/blib/arch:/home/njh/.cpan/build/Perinci-Sub-ConvertArgs-Argv-0.04-JgK9GX/blib/lib:/home/njh/.cpan/build/Mo-0.39-r8rfxm/blib/arch:/home/njh/.cpan/build/Mo-0.39-r8rfxm/blib/lib:/home/njh/.cpan/build/Data-Sah-Util-Type-0.42-32j5m9/blib/arch:/home/njh/.cpan/build/Data-Sah-Util-Type-0.42-32j5m9/blib/lib:/home/njh/.cpan/build/Log-Any-Adapter-ScreenColoredLevel-0.07-ByKahG/blib/arch:/home/njh/.cpan/build/Log-Any-Adapter-ScreenColoredLevel-0.07-ByKahG/blib/lib:/home/njh/.cpan/build/Data-Check-Structure-0.03-84FUrm/blib/arch:/home/njh/.cpan/build/Data-Check-Structure-0.03-84FUrm/blib/lib:/home/njh/.cpan/build/Perinci-Sub-Complete-0.75-OZH4tu/blib/arch:/home/njh/.cpan/build/Perinci-Sub-Complete-0.75-OZH4tu/blib/lib:/home/njh/.cpan/build/Monkey-Patch-Action-0.04-U9OkTL/blib/arch:/home/njh/.cpan/build/Monkey-Patch-Action-0.04-U9OkTL/blib/lib:/home/njh/.cpan/build/Sub-Delete-1.00002-IbsvOy/blib/arch:/home/njh/.cpan/build/Sub-Delete-1.00002-IbsvOy/blib/lib:/home/njh/.cpan/build/Perinci-Sub-ArgEntity-0.01-kxk8Fa/blib/arch:/home/njh/.cpan/build/Perinci-Sub-ArgEntity-0.01-kxk8Fa/blib/lib:/home/njh/.cpan/build/Module-Path-More-0.27-SAZKgc/blib/arch:/home/njh/.cpan/build/Module-Path-More-0.27-SAZKgc/blib/lib:/home/njh/.cpan/build/Perinci-Sub-GetArgs-Argv-0.63-PSrkTC/blib/arch:/home/njh/.cpan/build/Perinci-Sub-GetArgs-Argv-0.63-PSrkTC/blib/lib:/home/njh/.cpan/build/Perinci-Sub-GetArgs-Array-0.14-rtlQO3/blib/arch:/home/njh/.cpan/build/Perinci-Sub-GetArgs-Array-0.14-rtlQO3/blib/lib:/home/njh/.cpan/build/Data-Clean-JSON-0.20-Psb7rS/blib/arch:/home/njh/.cpan/build/Data-Clean-JSON-0.20-Psb7rS/blib/lib:/home/njh/.cpan/build/String-LineNumber-0.01-MFddFI/blib/arch:/home/njh/.cpan/build/String-LineNumber-0.01-MFddFI/blib/lib:/home/njh/.cpan/build/String-PerlQuote-0.01-KBUPCl/blib/arch:/home/njh/.cpan/build/String-PerlQuote-0.01-KBUPCl/blib/lib:/home/njh/.cpan/build/Perinci-Sub-Normalize-0.09-px8Fc_/blib/arch:/home/njh/.cpan/build/Perinci-Sub-Normalize-0.09-px8Fc_/blib/lib:/home/njh/.cpan/build/Perinci-Examples-0.49-W3XOpr/blib/arch:/home/njh/.cpan/build/Perinci-Examples-0.49-W3XOpr/blib/lib:/home/njh/.cpan/build/Perinci-Sub-Util-0.41-sFHpfZ/blib/arch:/home/njh/.cpan/build/Perinci-Sub-Util-0.41-sFHpfZ/blib/lib:/home/njh/.cpan/build/Function-Fallback-CoreOrPP-0.06-Y0FfVS/blib/arch:/home/njh/.cpan/build/Function-Fallback-CoreOrPP-0.06-Y0FfVS/blib/lib:/home/njh/.cpan/build/Clone-PP-1.06-RfFY8v/blib/arch:/home/njh/.cpan/build/Clone-PP-1.06-RfFY8v/blib/lib:/home/njh/.cpan/build/Gen-Test-Rinci-FuncResult-0.04-FhxecZ/blib/arch:/home/njh/.cpan/build/Gen-Test-Rinci-FuncResult-0.04-FhxecZ/blib/lib:/home/njh/.cpan/build/Data-Dump-OneLine-0.06-A2bp4f/blib/arch:/home/njh/.cpan/build/Data-Dump-OneLine-0.06-A2bp4f/blib/lib:/home/njh/.cpan/build/Data-Dmp-0.08-s1EyjU/blib/arch:/home/njh/.cpan/build/Data-Dmp-0.08-s1EyjU/blib/lib:/home/njh/.cpan/build/Regexp-Stringify-0.03-zVUemh/blib/arch:/home/njh/.cpan/build/Regexp-Stringify-0.03-zVUemh/blib/lib:/home/njh/.cpan/build/Version-Util-0.71-h2So3L/blib/arch:/home/njh/.cpan/build/Version-Util-0.71-h2So3L/blib/lib:/home/njh/.cpan/build/Perinci-Object-0.21-9gxDH8/blib/arch:/home/njh/.cpan/build/Perinci-Object-0.21-9gxDH8/blib/lib:/home/njh/.cpan/build/String-Trim-More-0.02-GHIJp0/blib/arch:/home/njh/.cpan/build/String-Trim-More-0.02-GHIJp0/blib/lib:/home/njh/.cpan/build/Data-Sah-Normalize-0.01-cq62Mz/blib/arch:/home/njh/.cpan/build/Data-Sah-Normalize-0.01-cq62Mz/blib/lib:/home/njh/.cpan/build/Complete-Fish-0.03-FBrxDp/blib/arch:/home/njh/.cpan/build/Complete-Fish-0.03-FBrxDp/blib/lib:/home/njh/.cpan/build/Getopt-Long-Complete-0.24-IrRa4m/blib/arch:/home/njh/.cpan/build/Getopt-Long-Complete-0.24-IrRa4m/blib/lib:/home/njh/.cpan/build/Complete-Tcsh-0.01-Eg9wzL/blib/arch:/home/njh/.cpan/build/Complete-Tcsh-0.01-Eg9wzL/blib/lib:/home/njh/.cpan/build/Complete-Getopt-Long-0.30-NmMSC6/blib/arch:/home/njh/.cpan/build/Complete-Getopt-Long-0.30-NmMSC6/blib/lib:/home/njh/.cpan/build/Getopt-Long-Util-0.80-HMUYc3/blib/arch:/home/njh/.cpan/build/Getopt-Long-Util-0.80-HMUYc3/blib/lib:/home/njh/.cpan/build/String-Wildcard-Bash-0.02-8ohRUQ/blib/arch:/home/njh/.cpan/build/String-Wildcard-Bash-0.02-8ohRUQ/blib/lib:/home/njh/.cpan/build/Complete-Bash-0.17-Eufw3B/blib/arch:/home/njh/.cpan/build/Complete-Bash-0.17-Eufw3B/blib/lib:/home/njh/.cpan/build/Complete-Util-0.24-xCkEZL/blib/arch:/home/njh/.cpan/build/Complete-Util-0.24-xCkEZL/blib/lib:/home/njh/.cpan/build/Complete-Path-0.12-iOrMc1/blib/arch:/home/njh/.cpan/build/Complete-Path-0.12-iOrMc1/blib/lib:/home/njh/.cpan/build/Complete-0.12-E1H7pd/blib/arch:/home/njh/.cpan/build/Complete-0.12-E1H7pd/blib/lib:/home/njh/.cpan/build/Rinci-1.1.73-LUseBO/blib/arch:/home/njh/.cpan/build/Rinci-1.1.73-LUseBO/blib/lib:/home/njh/.cpan/build/DefHash-1.0.8-KQnIwA/blib/arch:/home/njh/.cpan/build/DefHash-1.0.8-KQnIwA/blib/lib:/home/njh/.cpan/build/Filesys-Cap-0.01-aDkO_B/blib/arch:/home/njh/.cpan/build/Filesys-Cap-0.01-aDkO_B/blib/lib:/home/njh/.cpan/build/UUID-Random-0.04-Ag4fPY/blib/arch:/home/njh/.cpan/build/UUID-Random-0.04-Ag4fPY/blib/lib:/home/njh/.cpan/build/File-Slurp-Tiny-0.003-HxmubL/blib/arch:/home/njh/.cpan/build/File-Slurp-Tiny-0.003-HxmubL/blib/lib:/home/njh/.cpan/build/File-chdir-0.1010-28f4Iz/blib/arch:/home/njh/.cpan/build/File-chdir-0.1010-28f4Iz/blib/lib:/home/njh/.cpan/build/Perl-osnames-0.11-geWRhi/blib/arch:/home/njh/.cpan/build/Perl-osnames-0.11-geWRhi/blib/lib
    PERL5OPT = 
    PERL5_CPANPLUS_IS_RUNNING = 68368
    PERL5_CPAN_IS_RUNNING = 68368
    PERL5_MINISMOKEBOX = 0.58
    PERLBREW_BASHRC_VERSION = 0.73
    PERLBREW_HOME = /home/njh/.perlbrew
    PERLBREW_LIB = 
    PERLBREW_MANPATH = /home/njh/perl5/perlbrew/perls/perl-5.21.8/man
    PERLBREW_PATH = /home/njh/perl5/perlbrew/bin:/home/njh/perl5/perlbrew/perls/perl-5.21.8/bin
    PERLBREW_PERL = perl-5.21.8
    PERLBREW_ROOT = /home/njh/perl5/perlbrew
    PERLBREW_VERSION = 0.73
    PERL_EXTUTILS_AUTOINSTALL = --defaultdeps
    PERL_LOCAL_LIB_ROOT = 
    PERL_MM_USE_DEFAULT = 1
    SHELL = /bin/bash
    TERM = xterm-256color
    TMPDIR = /tmp

Perl special variables (and OS-specific diagnostics, for MSWin32):

    $^X = /usr/home/njh/perl5/perlbrew/perls/perl-5.21.8/bin/perl5.21.8
    $UID/$EUID = 1000 / 1000
    $GID = 1000 1000 0
    $EGID = 1000 1000 0

Perl module toolchain versions installed:

    Module              Have        
    ------------------- ------------
    CPAN                2.05        
    CPAN::Meta          2.143240    
    Cwd                 3.54        
    ExtUtils::CBuilder  0.280221    
    ExtUtils::Command   1.20        
    ExtUtils::Install   2.04        
    ExtUtils::MakeMaker 7.04        
    ExtUtils::Manifest  1.70        
    ExtUtils::ParseXS   3.27        
    File::Spec          3.53        
    JSON                2.90        
    JSON::PP            2.27300     
    Module::Build       0.4211      
    Module::Signature   n/a         
    Parse::CPAN::Meta   1.4414      
    Test::Harness       3.35        
    Test::More          1.301001_097
    YAML                1.14        
    YAML::Syck          1.29        
    version             0.9909      


--

Summary of my perl5 (revision 5 version 21 subversion 8) configuration:
   
  Platform:
    osname=freebsd, osvers=9.1-release, archname=i386-freebsd-thread-multi
    uname='freebsd amber 9.1-release freebsd 9.1-release #0 r243826: tue dec 4 06:55:39 utc 2012 root@obrian.cse.buffalo.edu:usrobjusrsrcsysgeneric i386 '
    config_args='-de -Dprefix=/home/njh/perl5/perlbrew/perls/perl-5.21.8 -Duseithreads -Dusemultiplicity -Dusedevel -Dusedevel -Accflags=-O2 -W -Wformat=2 -Wswitch -Wshadow -Wwrite-strings -Wuninitialized -Wall -pipe -mtune=native -march=native -fomit-frame-pointer -msse2 -msse -mmmx -mfpmath=sse -D_FORTIFY_SOURCE=2 -Wpointer-arith -Wstrict-prototypes -fstack-protector -Wstack-protector -Wextra -Wbad-function-cast -Wcast-align -Wcast-qual -Wdisabled-optimization -Wendif-labels -Wfloat-equal -Wformat-nonliteral -Winline -Wmissing-declarations -Wmissing-prototypes -Wnested-externs -Wpointer-arith -Wundef -Wformat-security -ftree-vectorize -Aeval:scriptdir=/home/njh/perl5/perlbrew/perls/perl-5.21.8/bin'
    hint=recommended, useposix=true, d_sigaction=define
    useithreads=define, usemultiplicity=define
    use64bitint=undef, use64bitall=undef, uselongdouble=undef
    usemymalloc=n, bincompat5005=undef
  Compiler:
    cc='cc', ccflags ='-DHAS_FPSETMASK -DHAS_FLOATINGPOINT_H -O2 -W -Wformat=2 -Wswitch -Wshadow -Wwrite-strings -Wuninitialized -Wall -pipe -mtune=native -march=native -fomit-frame-pointer -msse2 -msse -mmmx -mfpmath=sse -D_FORTIFY_SOURCE=2 -Wpointer-arith -Wstrict-prototypes -fstack-protector -Wstack-protector -Wextra -Wbad-function-cast -Wcast-align -Wcast-qual -Wdisabled-optimization -Wendif-labels -Wfloat-equal -Wformat-nonliteral -Winline -Wmissing-declarations -Wmissing-prototypes -Wnested-externs -Wpointer-arith -Wundef -Wformat-security -ftree-vectorize -fno-strict-aliasing -I/usr/local/include',
    optimize='-O',
    cppflags='-DHAS_FPSETMASK -DHAS_FLOATINGPOINT_H -O2 -W -Wformat=2 -Wswitch -Wshadow -Wwrite-strings -Wuninitialized -Wall -pipe -mtune=native -march=native -fomit-frame-pointer -msse2 -msse -mmmx -mfpmath=sse -D_FORTIFY_SOURCE=2 -Wpointer-arith -Wstrict-prototypes -fstack-protector -Wstack-protector -Wextra -Wbad-function-cast -Wcast-align -Wcast-qual -Wdisabled-optimization -Wendif-labels -Wfloat-equal -Wformat-nonliteral -Winline -Wmissing-declarations -Wmissing-prototypes -Wnested-externs -Wpointer-arith -Wundef -Wformat-security -ftree-vectorize -fno-strict-aliasing -I/usr/local/include'
    ccversion='', gccversion='4.2.1 20070831 patched [FreeBSD]', gccosandvers=''
    intsize=4, longsize=4, ptrsize=4, doublesize=8, byteorder=1234, doublekind=3
    d_longlong=define, longlongsize=8, d_longdbl=define, longdblsize=12, longdblkind=-1
    ivtype='long', ivsize=4, nvtype='double', nvsize=8, Off_t='off_t', lseeksize=8
    alignbytes=4, prototype=define
  Linker and Libraries:
    ld='cc', ldflags ='-pthread -Wl,-E  -fstack-protector -L/usr/local/lib'
    libpth=/usr/lib /usr/local/lib /usr/include/gcc/4.2 /usr/lib
    libs=-lpthread -lm -lcrypt
    perllibs=-lpthread -lm -lcrypt
    libc=, so=so, useshrplib=false, libperl=libperl.a
    gnulibc_version=''
  Dynamic Linking:
    dlsrc=dl_dlopen.xs, dlext=so, d_dlsymun=undef, ccdlflags=' '
    cccdlflags='-DPIC -fPIC', lddlflags='-shared  -L/usr/local/lib -fstack-protector'


Characteristics of this binary (from libperl): 
  Compile-time options: HAS_TIMES MULTIPLICITY PERLIO_LAYERS
                        PERL_DONT_CREATE_GVSV
                        PERL_HASH_FUNC_ONE_AT_A_TIME_HARD
                        PERL_IMPLICIT_CONTEXT PERL_MALLOC_WRAP
                        PERL_NEW_COPY_ON_WRITE PERL_PRESERVE_IVUV
                        PERL_USE_DEVEL USE_ITHREADS USE_LARGE_FILES
                        USE_LOCALE USE_LOCALE_COLLATE USE_LOCALE_CTYPE
                        USE_LOCALE_NUMERIC USE_LOCALE_TIME USE_PERLIO
                        USE_PERL_ATOF USE_REENTRANT_API
  Locally applied patches:
	Devel::PatchPerl 1.30
  Built under freebsd
  Compiled at Mar  1 2015 09:01:42
  %ENV:
    PERL5LIB="/home/njh/.cpan/build/Unicode-LineBreak-2014.06-VKbE40/blib/arch:/home/njh/.cpan/build/Unicode-LineBreak-2014.06-VKbE40/blib/lib:/home/njh/.cpan/build/MIME-Charset-1.011.3-U2VPrP/blib/arch:/home/njh/.cpan/build/MIME-Charset-1.011.3-U2VPrP/blib/lib:/home/njh/.cpan/build/Color-ANSI-Util-0.14-nMhnOD/blib/arch:/home/njh/.cpan/build/Color-ANSI-Util-0.14-nMhnOD/blib/lib:/home/njh/.cpan/build/Progress-Any-0.20-UFhqjg/blib/arch:/home/njh/.cpan/build/Progress-Any-0.20-UFhqjg/blib/lib:/home/njh/.cpan/build/Perinci-CmdLine-Help-0.03-4TpY0n/blib/arch:/home/njh/.cpan/build/Perinci-CmdLine-Help-0.03-4TpY0n/blib/lib:/home/njh/.cpan/build/Perinci-Sub-To-CLIDocData-0.14-np9w1g/blib/arch:/home/njh/.cpan/build/Perinci-Sub-To-CLIDocData-0.14-np9w1g/blib/lib:/home/njh/.cpan/build/String-ShellQuote-1.04-2NMozm/blib/arch:/home/njh/.cpan/build/String-ShellQuote-1.04-2NMozm/blib/lib:/home/njh/.cpan/build/Perinci-Sub-ConvertArgs-Argv-0.04-JgK9GX/blib/arch:/home/njh/.cpan/build/Perinci-Sub-ConvertArgs-Argv-0.04-JgK9GX/blib/lib:/home/njh/.cpan/build/Mo-0.39-r8rfxm/blib/arch:/home/njh/.cpan/build/Mo-0.39-r8rfxm/blib/lib:/home/njh/.cpan/build/Data-Sah-Util-Type-0.42-32j5m9/blib/arch:/home/njh/.cpan/build/Data-Sah-Util-Type-0.42-32j5m9/blib/lib:/home/njh/.cpan/build/Log-Any-Adapter-ScreenColoredLevel-0.07-ByKahG/blib/arch:/home/njh/.cpan/build/Log-Any-Adapter-ScreenColoredLevel-0.07-ByKahG/blib/lib:/home/njh/.cpan/build/Data-Check-Structure-0.03-84FUrm/blib/arch:/home/njh/.cpan/build/Data-Check-Structure-0.03-84FUrm/blib/lib:/home/njh/.cpan/build/Perinci-Sub-Complete-0.75-OZH4tu/blib/arch:/home/njh/.cpan/build/Perinci-Sub-Complete-0.75-OZH4tu/blib/lib:/home/njh/.cpan/build/Monkey-Patch-Action-0.04-U9OkTL/blib/arch:/home/njh/.cpan/build/Monkey-Patch-Action-0.04-U9OkTL/blib/lib:/home/njh/.cpan/build/Sub-Delete-1.00002-IbsvOy/blib/arch:/home/njh/.cpan/build/Sub-Delete-1.00002-IbsvOy/blib/lib:/home/njh/.cpan/build/Perinci-Sub-ArgEntity-0.01-kxk8Fa/blib/arch:/home/njh/.cpan/build/Perinci-Sub-ArgEntity-0.01-kxk8Fa/blib/lib:/home/njh/.cpan/build/Module-Path-More-0.27-SAZKgc/blib/arch:/home/njh/.cpan/build/Module-Path-More-0.27-SAZKgc/blib/lib:/home/njh/.cpan/build/Perinci-Sub-GetArgs-Argv-0.63-PSrkTC/blib/arch:/home/njh/.cpan/build/Perinci-Sub-GetArgs-Argv-0.63-PSrkTC/blib/lib:/home/njh/.cpan/build/Perinci-Sub-GetArgs-Array-0.14-rtlQO3/blib/arch:/home/njh/.cpan/build/Perinci-Sub-GetArgs-Array-0.14-rtlQO3/blib/lib:/home/njh/.cpan/build/Data-Clean-JSON-0.20-Psb7rS/blib/arch:/home/njh/.cpan/build/Data-Clean-JSON-0.20-Psb7rS/blib/lib:/home/njh/.cpan/build/String-LineNumber-0.01-MFddFI/blib/arch:/home/njh/.cpan/build/String-LineNumber-0.01-MFddFI/blib/lib:/home/njh/.cpan/build/String-PerlQuote-0.01-KBUPCl/blib/arch:/home/njh/.cpan/build/String-PerlQuote-0.01-KBUPCl/blib/lib:/home/njh/.cpan/build/Perinci-Sub-Normalize-0.09-px8Fc_/blib/arch:/home/njh/.cpan/build/Perinci-Sub-Normalize-0.09-px8Fc_/blib/lib:/home/njh/.cpan/build/Perinci-Examples-0.49-W3XOpr/blib/arch:/home/njh/.cpan/build/Perinci-Examples-0.49-W3XOpr/blib/lib:/home/njh/.cpan/build/Perinci-Sub-Util-0.41-sFHpfZ/blib/arch:/home/njh/.cpan/build/Perinci-Sub-Util-0.41-sFHpfZ/blib/lib:/home/njh/.cpan/build/Function-Fallback-CoreOrPP-0.06-Y0FfVS/blib/arch:/home/njh/.cpan/build/Function-Fallback-CoreOrPP-0.06-Y0FfVS/blib/lib:/home/njh/.cpan/build/Clone-PP-1.06-RfFY8v/blib/arch:/home/njh/.cpan/build/Clone-PP-1.06-RfFY8v/blib/lib:/home/njh/.cpan/build/Gen-Test-Rinci-FuncResult-0.04-FhxecZ/blib/arch:/home/njh/.cpan/build/Gen-Test-Rinci-FuncResult-0.04-FhxecZ/blib/lib:/home/njh/.cpan/build/Data-Dump-OneLine-0.06-A2bp4f/blib/arch:/home/njh/.cpan/build/Data-Dump-OneLine-0.06-A2bp4f/blib/lib:/home/njh/.cpan/build/Data-Dmp-0.08-s1EyjU/blib/arch:/home/njh/.cpan/build/Data-Dmp-0.08-s1EyjU/blib/lib:/home/njh/.cpan/build/Regexp-Stringify-0.03-zVUemh/blib/arch:/home/njh/.cpan/build/Regexp-Stringify-0.03-zVUemh/blib/lib:/home/njh/.cpan/build/Version-Util-0.71-h2So3L/blib/arch:/home/njh/.cpan/build/Version-Util-0.71-h2So3L/blib/lib:/home/njh/.cpan/build/Perinci-Object-0.21-9gxDH8/blib/arch:/home/njh/.cpan/build/Perinci-Object-0.21-9gxDH8/blib/lib:/home/njh/.cpan/build/String-Trim-More-0.02-GHIJp0/blib/arch:/home/njh/.cpan/build/String-Trim-More-0.02-GHIJp0/blib/lib:/home/njh/.cpan/build/Data-Sah-Normalize-0.01-cq62Mz/blib/arch:/home/njh/.cpan/build/Data-Sah-Normalize-0.01-cq62Mz/blib/lib:/home/njh/.cpan/build/Complete-Fish-0.03-FBrxDp/blib/arch:/home/njh/.cpan/build/Complete-Fish-0.03-FBrxDp/blib/lib:/home/njh/.cpan/build/Getopt-Long-Complete-0.24-IrRa4m/blib/arch:/home/njh/.cpan/build/Getopt-Long-Complete-0.24-IrRa4m/blib/lib:/home/njh/.cpan/build/Complete-Tcsh-0.01-Eg9wzL/blib/arch:/home/njh/.cpan/build/Complete-Tcsh-0.01-Eg9wzL/blib/lib:/home/njh/.cpan/build/Complete-Getopt-Long-0.30-NmMSC6/blib/arch:/home/njh/.cpan/build/Complete-Getopt-Long-0.30-NmMSC6/blib/lib:/home/njh/.cpan/build/Getopt-Long-Util-0.80-HMUYc3/blib/arch:/home/njh/.cpan/build/Getopt-Long-Util-0.80-HMUYc3/blib/lib:/home/njh/.cpan/build/String-Wildcard-Bash-0.02-8ohRUQ/blib/arch:/home/njh/.cpan/build/String-Wildcard-Bash-0.02-8ohRUQ/blib/lib:/home/njh/.cpan/build/Complete-Bash-0.17-Eufw3B/blib/arch:/home/njh/.cpan/build/Complete-Bash-0.17-Eufw3B/blib/lib:/home/njh/.cpan/build/Complete-Util-0.24-xCkEZL/blib/arch:/home/njh/.cpan/build/Complete-Util-0.24-xCkEZL/blib/lib:/home/njh/.cpan/build/Complete-Path-0.12-iOrMc1/blib/arch:/home/njh/.cpan/build/Complete-Path-0.12-iOrMc1/blib/lib:/home/njh/.cpan/build/Complete-0.12-E1H7pd/blib/arch:/home/njh/.cpan/build/Complete-0.12-E1H7pd/blib/lib:/home/njh/.cpan/build/Rinci-1.1.73-LUseBO/blib/arch:/home/njh/.cpan/build/Rinci-1.1.73-LUseBO/blib/lib:/home/njh/.cpan/build/DefHash-1.0.8-KQnIwA/blib/arch:/home/njh/.cpan/build/DefHash-1.0.8-KQnIwA/blib/lib:/home/njh/.cpan/build/Filesys-Cap-0.01-aDkO_B/blib/arch:/home/njh/.cpan/build/Filesys-Cap-0.01-aDkO_B/blib/lib:/home/njh/.cpan/build/UUID-Random-0.04-Ag4fPY/blib/arch:/home/njh/.cpan/build/UUID-Random-0.04-Ag4fPY/blib/lib:/home/njh/.cpan/build/File-Slurp-Tiny-0.003-HxmubL/blib/arch:/home/njh/.cpan/build/File-Slurp-Tiny-0.003-HxmubL/blib/lib:/home/njh/.cpan/build/File-chdir-0.1010-28f4Iz/blib/arch:/home/njh/.cpan/build/File-chdir-0.1010-28f4Iz/blib/lib:/home/njh/.cpan/build/Perl-osnames-0.11-geWRhi/blib/arch:/home/njh/.cpan/build/Perl-osnames-0.11-geWRhi/blib/lib"
    PERL5OPT=""
    PERL5_CPANPLUS_IS_RUNNING="68368"
    PERL5_CPAN_IS_RUNNING="68368"
    PERL5_MINISMOKEBOX="0.58"
    PERLBREW_BASHRC_VERSION="0.73"
    PERLBREW_HOME="/home/njh/.perlbrew"
    PERLBREW_LIB=""
    PERLBREW_MANPATH="/home/njh/perl5/perlbrew/perls/perl-5.21.8/man"
    PERLBREW_PATH="/home/njh/perl5/perlbrew/bin:/home/njh/perl5/perlbrew/perls/perl-5.21.8/bin"
    PERLBREW_PERL="perl-5.21.8"
    PERLBREW_ROOT="/home/njh/perl5/perlbrew"
    PERLBREW_VERSION="0.73"
    PERL_EXTUTILS_AUTOINSTALL="--defaultdeps"
    PERL_LOCAL_LIB_ROOT=""
    PERL_MM_USE_DEFAULT="1"
  @INC:
    /home/njh/.cpan/build/Unicode-LineBreak-2014.06-VKbE40/blib/arch
    /home/njh/.cpan/build/Unicode-LineBreak-2014.06-VKbE40/blib/lib
    /home/njh/.cpan/build/MIME-Charset-1.011.3-U2VPrP/blib/arch
    /home/njh/.cpan/build/MIME-Charset-1.011.3-U2VPrP/blib/lib
    /home/njh/.cpan/build/Color-ANSI-Util-0.14-nMhnOD/blib/arch
    /home/njh/.cpan/build/Color-ANSI-Util-0.14-nMhnOD/blib/lib
    /home/njh/.cpan/build/Progress-Any-0.20-UFhqjg/blib/arch
    /home/njh/.cpan/build/Progress-Any-0.20-UFhqjg/blib/lib
    /home/njh/.cpan/build/Perinci-CmdLine-Help-0.03-4TpY0n/blib/arch
    /home/njh/.cpan/build/Perinci-CmdLine-Help-0.03-4TpY0n/blib/lib
    /home/njh/.cpan/build/Perinci-Sub-To-CLIDocData-0.14-np9w1g/blib/arch
    /home/njh/.cpan/build/Perinci-Sub-To-CLIDocData-0.14-np9w1g/blib/lib
    /home/njh/.cpan/build/String-ShellQuote-1.04-2NMozm/blib/arch
    /home/njh/.cpan/build/String-ShellQuote-1.04-2NMozm/blib/lib
    /home/njh/.cpan/build/Perinci-Sub-ConvertArgs-Argv-0.04-JgK9GX/blib/arch
    /home/njh/.cpan/build/Perinci-Sub-ConvertArgs-Argv-0.04-JgK9GX/blib/lib
    /home/njh/.cpan/build/Mo-0.39-r8rfxm/blib/arch
    /home/njh/.cpan/build/Mo-0.39-r8rfxm/blib/lib
    /home/njh/.cpan/build/Data-Sah-Util-Type-0.42-32j5m9/blib/arch
    /home/njh/.cpan/build/Data-Sah-Util-Type-0.42-32j5m9/blib/lib
    /home/njh/.cpan/build/Log-Any-Adapter-ScreenColoredLevel-0.07-ByKahG/blib/arch
    /home/njh/.cpan/build/Log-Any-Adapter-ScreenColoredLevel-0.07-ByKahG/blib/lib
    /home/njh/.cpan/build/Data-Check-Structure-0.03-84FUrm/blib/arch
    /home/njh/.cpan/build/Data-Check-Structure-0.03-84FUrm/blib/lib
    /home/njh/.cpan/build/Perinci-Sub-Complete-0.75-OZH4tu/blib/arch
    /home/njh/.cpan/build/Perinci-Sub-Complete-0.75-OZH4tu/blib/lib
    /home/njh/.cpan/build/Monkey-Patch-Action-0.04-U9OkTL/blib/arch
    /home/njh/.cpan/build/Monkey-Patch-Action-0.04-U9OkTL/blib/lib
    /home/njh/.cpan/build/Sub-Delete-1.00002-IbsvOy/blib/arch
    /home/njh/.cpan/build/Sub-Delete-1.00002-IbsvOy/blib/lib
    /home/njh/.cpan/build/Perinci-Sub-ArgEntity-0.01-kxk8Fa/blib/arch
    /home/njh/.cpan/build/Perinci-Sub-ArgEntity-0.01-kxk8Fa/blib/lib
    /home/njh/.cpan/build/Module-Path-More-0.27-SAZKgc/blib/arch
    /home/njh/.cpan/build/Module-Path-More-0.27-SAZKgc/blib/lib
    /home/njh/.cpan/build/Perinci-Sub-GetArgs-Argv-0.63-PSrkTC/blib/arch
    /home/njh/.cpan/build/Perinci-Sub-GetArgs-Argv-0.63-PSrkTC/blib/lib
    /home/njh/.cpan/build/Perinci-Sub-GetArgs-Array-0.14-rtlQO3/blib/arch
    /home/njh/.cpan/build/Perinci-Sub-GetArgs-Array-0.14-rtlQO3/blib/lib
    /home/njh/.cpan/build/Data-Clean-JSON-0.20-Psb7rS/blib/arch
    /home/njh/.cpan/build/Data-Clean-JSON-0.20-Psb7rS/blib/lib
    /home/njh/.cpan/build/String-LineNumber-0.01-MFddFI/blib/arch
    /home/njh/.cpan/build/String-LineNumber-0.01-MFddFI/blib/lib
    /home/njh/.cpan/build/String-PerlQuote-0.01-KBUPCl/blib/arch
    /home/njh/.cpan/build/String-PerlQuote-0.01-KBUPCl/blib/lib
    /home/njh/.cpan/build/Perinci-Sub-Normalize-0.09-px8Fc_/blib/arch
    /home/njh/.cpan/build/Perinci-Sub-Normalize-0.09-px8Fc_/blib/lib
    /home/njh/.cpan/build/Perinci-Examples-0.49-W3XOpr/blib/arch
    /home/njh/.cpan/build/Perinci-Examples-0.49-W3XOpr/blib/lib
    /home/njh/.cpan/build/Perinci-Sub-Util-0.41-sFHpfZ/blib/arch
    /home/njh/.cpan/build/Perinci-Sub-Util-0.41-sFHpfZ/blib/lib
    /home/njh/.cpan/build/Function-Fallback-CoreOrPP-0.06-Y0FfVS/blib/arch
    /home/njh/.cpan/build/Function-Fallback-CoreOrPP-0.06-Y0FfVS/blib/lib
    /home/njh/.cpan/build/Clone-PP-1.06-RfFY8v/blib/arch
    /home/njh/.cpan/build/Clone-PP-1.06-RfFY8v/blib/lib
    /home/njh/.cpan/build/Gen-Test-Rinci-FuncResult-0.04-FhxecZ/blib/arch
    /home/njh/.cpan/build/Gen-Test-Rinci-FuncResult-0.04-FhxecZ/blib/lib
    /home/njh/.cpan/build/Data-Dump-OneLine-0.06-A2bp4f/blib/arch
    /home/njh/.cpan/build/Data-Dump-OneLine-0.06-A2bp4f/blib/lib
    /home/njh/.cpan/build/Data-Dmp-0.08-s1EyjU/blib/arch
    /home/njh/.cpan/build/Data-Dmp-0.08-s1EyjU/blib/lib
    /home/njh/.cpan/build/Regexp-Stringify-0.03-zVUemh/blib/arch
    /home/njh/.cpan/build/Regexp-Stringify-0.03-zVUemh/blib/lib
    /home/njh/.cpan/build/Version-Util-0.71-h2So3L/blib/arch
    /home/njh/.cpan/build/Version-Util-0.71-h2So3L/blib/lib
    /home/njh/.cpan/build/Perinci-Object-0.21-9gxDH8/blib/arch
    /home/njh/.cpan/build/Perinci-Object-0.21-9gxDH8/blib/lib
    /home/njh/.cpan/build/String-Trim-More-0.02-GHIJp0/blib/arch
    /home/njh/.cpan/build/String-Trim-More-0.02-GHIJp0/blib/lib
    /home/njh/.cpan/build/Data-Sah-Normalize-0.01-cq62Mz/blib/arch
    /home/njh/.cpan/build/Data-Sah-Normalize-0.01-cq62Mz/blib/lib
    /home/njh/.cpan/build/Complete-Fish-0.03-FBrxDp/blib/arch
    /home/njh/.cpan/build/Complete-Fish-0.03-FBrxDp/blib/lib
    /home/njh/.cpan/build/Getopt-Long-Complete-0.24-IrRa4m/blib/arch
    /home/njh/.cpan/build/Getopt-Long-Complete-0.24-IrRa4m/blib/lib
    /home/njh/.cpan/build/Complete-Tcsh-0.01-Eg9wzL/blib/arch
    /home/njh/.cpan/build/Complete-Tcsh-0.01-Eg9wzL/blib/lib
    /home/njh/.cpan/build/Complete-Getopt-Long-0.30-NmMSC6/blib/arch
    /home/njh/.cpan/build/Complete-Getopt-Long-0.30-NmMSC6/blib/lib
    /home/njh/.cpan/build/Getopt-Long-Util-0.80-HMUYc3/blib/arch
    /home/njh/.cpan/build/Getopt-Long-Util-0.80-HMUYc3/blib/lib
    /home/njh/.cpan/build/String-Wildcard-Bash-0.02-8ohRUQ/blib/arch
    /home/njh/.cpan/build/String-Wildcard-Bash-0.02-8ohRUQ/blib/lib
    /home/njh/.cpan/build/Complete-Bash-0.17-Eufw3B/blib/arch
    /home/njh/.cpan/build/Complete-Bash-0.17-Eufw3B/blib/lib
    /home/njh/.cpan/build/Complete-Util-0.24-xCkEZL/blib/arch
    /home/njh/.cpan/build/Complete-Util-0.24-xCkEZL/blib/lib
    /home/njh/.cpan/build/Complete-Path-0.12-iOrMc1/blib/arch
    /home/njh/.cpan/build/Complete-Path-0.12-iOrMc1/blib/lib
    /home/njh/.cpan/build/Complete-0.12-E1H7pd/blib/arch
    /home/njh/.cpan/build/Complete-0.12-E1H7pd/blib/lib
    /home/njh/.cpan/build/Rinci-1.1.73-LUseBO/blib/arch
    /home/njh/.cpan/build/Rinci-1.1.73-LUseBO/blib/lib
    /home/njh/.cpan/build/DefHash-1.0.8-KQnIwA/blib/arch
    /home/njh/.cpan/build/DefHash-1.0.8-KQnIwA/blib/lib
    /home/njh/.cpan/build/Filesys-Cap-0.01-aDkO_B/blib/arch
    /home/njh/.cpan/build/Filesys-Cap-0.01-aDkO_B/blib/lib
    /home/njh/.cpan/build/UUID-Random-0.04-Ag4fPY/blib/arch
    /home/njh/.cpan/build/UUID-Random-0.04-Ag4fPY/blib/lib
    /home/njh/.cpan/build/File-Slurp-Tiny-0.003-HxmubL/blib/arch
    /home/njh/.cpan/build/File-Slurp-Tiny-0.003-HxmubL/blib/lib
    /home/njh/.cpan/build/File-chdir-0.1010-28f4Iz/blib/arch
    /home/njh/.cpan/build/File-chdir-0.1010-28f4Iz/blib/lib
    /home/njh/.cpan/build/Perl-osnames-0.11-geWRhi/blib/arch
    /home/njh/.cpan/build/Perl-osnames-0.11-geWRhi/blib/lib
    /home/njh/perl5/perlbrew/perls/perl-5.21.8/lib/site_perl/5.21.8/i386-freebsd-thread-multi
    /home/njh/perl5/perlbrew/perls/perl-5.21.8/lib/site_perl/5.21.8
    /home/njh/perl5/perlbrew/perls/perl-5.21.8/lib/5.21.8/i386-freebsd-thread-multi
    /home/njh/perl5/perlbrew/perls/perl-5.21.8/lib/5.21.8
    .