Role-REST-Client v0.23 Perl 5 v5.24.3 RC1 amd64-freebsd

Status
Pass
From
Slaven Rezić (SREZIC)
Dist
Role-REST-Client v0.23
Platform
Perl 5 v5.24.3 RC1 amd64-freebsd
Date
2018-10-30 22:34:32
ID
f8f0cfbe-dc93-11e8-b9c5-ec96fdebec87
This distribution has been tested as part of the CPAN Testers
project, supporting the Perl programming language.  See
http://wiki.cpantesters.org/ for more information or email
questions to cpan-testers-discuss@perl.org


--
Dear Kaare Rasmussen,

This is a computer-generated report for Role-REST-Client-0.23
on perl 5.24.3, created by CPAN-Reporter-1.2018.

Thank you for uploading your work to CPAN.  Congratulations!
All tests were successful.

Sections of this report:

    * Tester comments
    * Program output
    * Prerequisites
    * Environment and other context

------------------------------
TESTER COMMENTS
------------------------------

Additional comments from tester:

none provided

------------------------------
PROGRAM OUTPUT
------------------------------

Output from './Build test':

t/boilerplate.t .................. ok
t/compile.t ...................... ok
t/conditional_deserialization.t .. ok
t/pod.t .......................... ok
t/response.t ..................... ok
t/rest.t ......................... ok
t/serializer.t ................... ok
All tests successful.
Files=7, Tests=93,  2 wallclock secs ( 0.04 usr  0.01 sys +  1.41 cusr  0.31 csys =  1.77 CPU)
Result: PASS

------------------------------
PREREQUISITES
------------------------------

Prerequisite modules loaded:

requires:

    Module                        Need     Have    
    ----------------------------- -------- --------
    Carp                          0        1.40    
    Data::Dumper                  0        2.161   
    Data::Serializer::Raw         0        0.02    
    HTTP::Headers                 0        6.13    
    HTTP::Message                 0        6.13    
    HTTP::Response                0        6.13    
    HTTP::Status                  0        6.13    
    HTTP::Thin                    0        0.006   
    HTTP::Tiny                    0        0.070   
    Moo                           1.003000 2.003002
    Moo::Role                     0        2.003002
    MooX::HandlesVia              0.001004 0.001008
    Try::Tiny                     0        0.28    
    Type::Tiny                    0.024    1.002001
    Types::Standard               0        1.002001
    URI::Escape::XS               0.11     0.14    

build_requires:

    Module                        Need     Have    
    ----------------------------- -------- --------
    Data::Serializer::JSON        0        0.04    
    Data::Serializer::XML::Simple 0        0.03    
    Data::Serializer::YAML        0        0.02    
    File::Find                    0        1.34    
    File::Temp                    0        0.2304  
    HTTP::Request                 0        6.13    
    HTTP::Thin                    0        0.006   
    JSON                          2.00     2.94    
    Module::Build                 0.28     0.4224  
    Moose                         0        2.2006  
    parent                        0        0.234   
    Plack::Component              0        0       
    Plack::Request                0        1.0044  
    Plack::Runner                 0        0       
    strict                        0        1.11    
    Test::Deep                    0        1.127   
    Test::Exception               0        0.43    
    Test::More                    0.88     1.302096
    Test::TCP                     0        2.19    
    Test::Warnings                0        0.026   
    utf8                          0        1.19    
    warnings                      0        1.36    
    XML::Simple                   0        2.24    
    YAML                          0        1.23    

configure_requires:

    Module                        Need     Have    
    ----------------------------- -------- --------
    ExtUtils::MakeMaker           0        7.30    
    Module::Build                 0.28     0.4224  


------------------------------
ENVIRONMENT AND OTHER CONTEXT
------------------------------

Environment variables:

    PATH = /usr/local/bin:/usr/bin:/bin:/usr/local/sbin:/usr/sbin:/sbin:/home/cpansand/bin/freebsd11.1:/home/cpansand/bin/sh:/home/cpansand/bin:/usr/games:/home/cpansand/devel:/home/eserte/src/srezic-misc/scripts
    PERL5LIB = /home/cpansand/.cpan/build/2018103106/WWW-Form-UrlEncoded-XS-0.25-1/blib/arch:/home/cpansand/.cpan/build/2018103106/WWW-Form-UrlEncoded-XS-0.25-1/blib/lib
    PERL5OPT = 
    PERL5_CPANPLUS_IS_RUNNING = 16534
    PERL5_CPAN_IS_RUNNING = 16534
    PERL5_CPAN_IS_RUNNING_IN_RECURSION = 4684,16534
    PERLDOC = -MPod::Perldoc::ToTextOverstrike
    PERL_BATCH = yes
    PERL_CANARY_STABILITY_NOPROMPT = 1
    PERL_CPAN_REPORTER_CONFIG = /var/tmp/cpansmoker-1023/2018103106/cpanreporter_000_config.ini
    PERL_EXTUTILS_AUTOINSTALL = --defaultdeps
    SHELL = /usr/local/bin/zsh
    TERM = screen
    TMPDIR = /var/tmp/cpansmoker-1023/2018103106

Perl special variables (and OS-specific diagnostics, for MSWin32):

    $^X = /usr/perl5.24.3-RC1p/bin/perl
    $UID/$EUID = 1023 / 1023
    $GID = 1023 1023
    $EGID = 1023 1023

Perl module toolchain versions installed:

    Module              Have      
    ------------------- ----------
    CPAN                2.16      
    CPAN::Meta          2.150005  
    Cwd                 3.63_01   
    ExtUtils::CBuilder  0.280226  
    ExtUtils::Command   7.30      
    ExtUtils::Install   2.14      
    ExtUtils::MakeMaker 7.30      
    ExtUtils::Manifest  1.70      
    ExtUtils::ParseXS   3.35      
    File::Spec          3.63_01   
    JSON                2.94      
    JSON::PP            2.94      
    Module::Build       0.4224    
    Module::Signature   0.81      
    Parse::CPAN::Meta   1.4417_001
    Test::Harness       3.39      
    Test::More          1.302096  
    YAML                1.23      
    YAML::Syck          1.30      
    version             0.9918    


--

Summary of my perl5 (revision 5 version 24 subversion 3) configuration:
   
  Platform:
    osname=freebsd, osvers=11.1-stable, archname=amd64-freebsd
    uname='freebsd ali3.bbbike.org 11.1-stable freebsd 11.1-stable #0 r313908+86423c22e2d(stable11): thu sep 7 22:30:27 utc 2017 root@ali3.bbbike.org:usrobjhomeprojectsfreebsdsysgeneric amd64 '
    config_args='-ds -e -Dprefix=/usr/perl5.24.3-RC1p -Dcf_email=srezic@cpan.org -Doptimize=-O2 -pipe'
    hint=recommended, useposix=true, d_sigaction=define
    useithreads=undef, usemultiplicity=undef
    use64bitint=define, use64bitall=define, uselongdouble=undef
    usemymalloc=n, bincompat5005=undef
  Compiler:
    cc='cc', ccflags ='-DHAS_FPSETMASK -DHAS_FLOATINGPOINT_H -fno-strict-aliasing -pipe -fstack-protector-strong -I/usr/local/include -D_FORTIFY_SOURCE=2',
    optimize='-O2 -pipe',
    cppflags='-DHAS_FPSETMASK -DHAS_FLOATINGPOINT_H -fno-strict-aliasing -pipe -fstack-protector-strong -I/usr/local/include'
    ccversion='', gccversion='4.2.1 Compatible FreeBSD Clang 4.0.0 (tags/RELEASE_400/final 297347)', gccosandvers=''
    intsize=4, longsize=8, ptrsize=8, doublesize=8, byteorder=12345678, doublekind=3
    d_longlong=define, longlongsize=8, d_longdbl=define, longdblsize=16, longdblkind=3
    ivtype='long', ivsize=8, nvtype='double', nvsize=8, Off_t='off_t', lseeksize=8
    alignbytes=8, prototype=define
  Linker and Libraries:
    ld='cc', ldflags ='-pthread -Wl,-E  -fstack-protector-strong -L/usr/local/lib'
    libpth=/usr/lib /usr/local/lib /usr/bin/../lib/clang/4.0.0/lib /usr/lib
    libs=-lpthread -lgdbm -lm -lcrypt -lutil -lc
    perllibs=-lpthread -lm -lcrypt -lutil -lc
    libc=, so=so, useshrplib=false, libperl=libperl.a
    gnulibc_version=''
  Dynamic Linking:
    dlsrc=dl_dlopen.xs, dlext=so, d_dlsymun=undef, ccdlflags=' '
    cccdlflags='-DPIC -fPIC', lddlflags='-shared  -L/usr/local/lib -fstack-protector-strong'


Characteristics of this binary (from libperl): 
  Compile-time options: HAS_TIMES PERLIO_LAYERS PERL_COPY_ON_WRITE
                        PERL_DONT_CREATE_GVSV
                        PERL_HASH_FUNC_ONE_AT_A_TIME_HARD PERL_MALLOC_WRAP
                        PERL_PRESERVE_IVUV USE_64_BIT_ALL USE_64_BIT_INT
                        USE_LARGE_FILES USE_LOCALE USE_LOCALE_COLLATE
                        USE_LOCALE_CTYPE USE_LOCALE_NUMERIC USE_LOCALE_TIME
                        USE_PERLIO USE_PERL_ATOF
  Locally applied patches:
	RC1
  Built under freebsd
  Compiled at Sep 10 2017 16:26:52
  %ENV:
    PERL5LIB="/home/cpansand/.cpan/build/2018103106/WWW-Form-UrlEncoded-XS-0.25-1/blib/arch:/home/cpansand/.cpan/build/2018103106/WWW-Form-UrlEncoded-XS-0.25-1/blib/lib"
    PERL5OPT=""
    PERL5_CPANPLUS_IS_RUNNING="16534"
    PERL5_CPAN_IS_RUNNING="16534"
    PERL5_CPAN_IS_RUNNING_IN_RECURSION="4684,16534"
    PERLDOC="-MPod::Perldoc::ToTextOverstrike"
    PERL_BATCH="yes"
    PERL_CANARY_STABILITY_NOPROMPT="1"
    PERL_CPAN_REPORTER_CONFIG="/var/tmp/cpansmoker-1023/2018103106/cpanreporter_000_config.ini"
    PERL_EXTUTILS_AUTOINSTALL="--defaultdeps"
  @INC:
    /home/cpansand/.cpan/build/2018103106/WWW-Form-UrlEncoded-XS-0.25-1/blib/arch
    /home/cpansand/.cpan/build/2018103106/WWW-Form-UrlEncoded-XS-0.25-1/blib/lib
    /usr/perl5.24.3-RC1p/lib/site_perl/5.24.3/amd64-freebsd
    /usr/perl5.24.3-RC1p/lib/site_perl/5.24.3
    /usr/perl5.24.3-RC1p/lib/5.24.3/amd64-freebsd
    /usr/perl5.24.3-RC1p/lib/5.24.3
    .