Back
From: metabase:user:320bfe00-2aae-11df-837a-5e0a49663a4f
Subject: PASS Algorithm-AM-3.08 v5.21.5 GNU/Linux
Date: 2015-06-07T11:47:28Z
This distribution has been tested as part of the CPAN Testers
project, supporting the Perl programming language. See
http://wiki.cpantesters.org/ for more information or email
questions to cpan-testers-discuss@perl.org
--
Dear Nathan Gary Glenn,
This is a computer-generated report for Algorithm-AM-3.08
on perl 5.21.5, created by CPAN-Reporter-1.2014.
Thank you for uploading your work to CPAN. Congratulations!
All tests were successful.
Sections of this report:
* Tester comments
* Program output
* Prerequisites
* Environment and other context
------------------------------
TESTER COMMENTS
------------------------------
Additional comments from tester:
this report is from an automated smoke testing program
and was not reviewed by a human for accuracy
------------------------------
PROGRAM OUTPUT
------------------------------
Output from '/usr/bin/make test':
Running Mkbootstrap for Algorithm::AM ()
chmod 644 "AM.bs"
PERL_DL_NONLAZY=1 "/home/sand/src/perl/repoperls/installed-perls/perl/v5.21.5/8005/bin/perl" "-MExtUtils::Command::MM" "-MTest::Harness" "-e" "undef *Test::Harness::Switches; test_harness(0, 'blib/lib', 'blib/arch')" t/*.t
t/0-use_AM.t ........... ok
t/0-use_Batch.t ........ ok
#
# Versions for all modules listed in MYMETA.json (including optional ones):
#
# === Configure Requires ===
#
# Module Want Have
# ------------------- ---- ----
# ExtUtils::MakeMaker 6.17 7.04
#
# === Build Requires ===
#
# Module Want Have
# ------------------- ---- ----
# ExtUtils::MakeMaker any 7.04
#
# === Test Requires ===
#
# Module Want Have
# ------------------- ---- ------------
# ExtUtils::MakeMaker any 7.04
# File::Spec any 3.51
# FindBin any 1.51
# Test::Deep any 0.115
# Test::Exception any 0.40
# Test::LongString any 0.17
# Test::More 0.88 1.302003_001
# Test::NoWarnings any 1.04
#
# === Test Recommends ===
#
# Module Want Have
# ---------- -------- --------
# CPAN::Meta 2.120900 2.150004
#
# === Runtime Requires ===
#
# Module Want Have
# -------------- ---- --------
# Carp any 1.36
# Class::Tiny any 1.001
# Crypt::PRNG any undef
# Exporter::Easy any 0.17
# Getopt::Long 2.13 2.46
# Import::Into any 1.002004
# Log::Any any 1.032
# Path::Tiny any 0.068
# Pod::Usage any 1.64
# Text::Table any 1.130
# XSLoader any 0.18
# feature any 1.38
# integer any 1.01
# strict any 1.08
# warnings any 1.28
#
t/00-report-prereqs.t .. ok
t/01-Item.t ............ ok
t/02-DataSet.t ......... ok
t/03-AM.t .............. ok
t/04-Result.t .......... ok
t/05-Bigint.t .......... ok
t/06-Batch.t ........... ok
t/07-Batch_hooks.t ..... ok
t/08-finnverb.t ........ ok
t/09-soybean.t ......... ok
All tests successful.
Files=12, Tests=144, 5 wallclock secs ( 0.07 usr 0.10 sys + 2.48 cusr 0.30 csys = 2.95 CPU)
Result: PASS
------------------------------
PREREQUISITES
------------------------------
Prerequisite modules loaded:
requires:
Module Need Have
------------------- -------- ------------
Carp 0 1.36
Class::Tiny 0 1.001
Crypt::PRNG 0 0
Exporter::Easy 0 0.17
feature 0 1.38
Getopt::Long 2.13 2.46
Import::Into 0 1.002004
integer 0 1.01
Log::Any 0 1.032
Path::Tiny 0 0.068
perl 5.010000 5.021005
Pod::Usage 0 1.64
strict 0 1.08
Text::Table 0 1.130
warnings 0 1.28
XSLoader 0 0.18
build_requires:
Module Need Have
------------------- -------- ------------
ExtUtils::MakeMaker 0 7.04
File::Spec 0 3.51
FindBin 0 1.51
Test::Deep 0 0.115
Test::Exception 0 0.40
Test::LongString 0 0.17
Test::More 0.88 1.302003_001
Test::NoWarnings 0 1.04
configure_requires:
Module Need Have
------------------- -------- ------------
ExtUtils::MakeMaker 6.17 7.04
perl 5.010 5.021005
------------------------------
ENVIRONMENT AND OTHER CONTEXT
------------------------------
Environment variables:
AUTOMATED_TESTING = 1
LANG = en_US.UTF-8
LANGUAGE = en_US:en
PATH = /home/sand/bin:/usr/local/bin:/usr/bin:/bin:/usr/games:/usr/local/perl/bin:/usr/X11/bin:/sbin:/usr/sbin
PERL5LIB =
PERL5OPT =
PERL5_CPANPLUS_IS_RUNNING = 22350
PERL5_CPAN_IS_RUNNING = 22350
PERL_MM_USE_DEFAULT = 1
SHELL = /usr/bin/zsh
TERM = screen
Perl special variables (and OS-specific diagnostics, for MSWin32):
$^X = /home/sand/src/perl/repoperls/installed-perls/perl/v5.21.5/8005/bin/perl
$UID/$EUID = 1005 / 1005
$GID = 1005 1005
$EGID = 1005 1005
Perl module toolchain versions installed:
Module Have
------------------- ------------
CPAN 2.10
CPAN::Meta 2.150004
Cwd 3.51
ExtUtils::CBuilder 0.280223
ExtUtils::Command 1.18
ExtUtils::Install 2.04
ExtUtils::MakeMaker 7.04
ExtUtils::Manifest 1.68
ExtUtils::ParseXS 3.25
File::Spec 3.51
JSON 2.90
JSON::PP 2.27300
Module::Build 0.42_13
Module::Signature 0.79
Parse::CPAN::Meta 1.4416
Test::Harness 3.35
Test::More 1.302003_001
YAML 1.15
YAML::Syck 1.29
version 0.9909
--
Summary of my perl5 (revision 5 version 21 subversion 5) configuration:
Commit id: dbc8a3c9dcdb7b612305e7aad911da31d7d95bf5
Platform:
osname=linux, osvers=4.0.0-1-amd64, archname=x86_64-linux-thread-multi
uname='linux k83 4.0.0-1-amd64 #1 smp debian 4.0.2-1 (2015-05-11) x86_64 gnulinux '
config_args='-Dprefix=/home/sand/src/perl/repoperls/installed-perls/perl/v5.21.5/8005 -Dmyhostname=k83 -Dinstallusrbinperl=n -Uversiononly -Dusedevel -des -Ui_db -Duseithreads -Uuselongdouble'
hint=recommended, useposix=true, d_sigaction=define
useithreads=define, usemultiplicity=define
use64bitint=define, use64bitall=define, uselongdouble=undef
usemymalloc=n, bincompat5005=undef
Compiler:
cc='cc', ccflags ='-D_REENTRANT -D_GNU_SOURCE -fwrapv -fno-strict-aliasing -pipe -fstack-protector-strong -I/usr/local/include -D_LARGEFILE_SOURCE -D_FILE_OFFSET_BITS=64 -D_FORTIFY_SOURCE=2',
optimize='-O2',
cppflags='-D_REENTRANT -D_GNU_SOURCE -fwrapv -fno-strict-aliasing -pipe -fstack-protector-strong -I/usr/local/include'
ccversion='', gccversion='4.9.2', gccosandvers=''
intsize=4, longsize=8, ptrsize=8, doublesize=8, byteorder=12345678
d_longlong=define, longlongsize=8, d_longdbl=define, longdblsize=16, longdblkind=3
ivtype='long', ivsize=8, nvtype='double', nvsize=8, Off_t='off_t', lseeksize=8
alignbytes=8, prototype=define
Linker and Libraries:
ld='cc', ldflags =' -fstack-protector-strong -L/usr/local/lib'
libpth=/usr/local/lib /usr/lib/gcc/x86_64-linux-gnu/4.9/include-fixed /usr/include/x86_64-linux-gnu /usr/lib /lib/x86_64-linux-gnu /lib/../lib /usr/lib/x86_64-linux-gnu /usr/lib/../lib /lib
libs=-lnsl -lgdbm -ldb -ldl -lm -lcrypt -lutil -lpthread -lc -lgdbm_compat
perllibs=-lnsl -ldl -lm -lcrypt -lutil -lpthread -lc
libc=libc-2.19.so, so=so, useshrplib=false, libperl=libperl.a
gnulibc_version='2.19'
Dynamic Linking:
dlsrc=dl_dlopen.xs, dlext=so, d_dlsymun=undef, ccdlflags='-Wl,-E'
cccdlflags='-fPIC', lddlflags='-shared -O2 -L/usr/local/lib -fstack-protector-strong'
Characteristics of this binary (from libperl):
Compile-time options: HAS_TIMES MULTIPLICITY PERLIO_LAYERS
PERL_DONT_CREATE_GVSV
PERL_HASH_FUNC_ONE_AT_A_TIME_HARD
PERL_IMPLICIT_CONTEXT PERL_MALLOC_WRAP
PERL_NEW_COPY_ON_WRITE PERL_PRESERVE_IVUV
PERL_USE_DEVEL USE_64_BIT_ALL USE_64_BIT_INT
USE_ITHREADS USE_LARGE_FILES USE_LOCALE
USE_LOCALE_COLLATE USE_LOCALE_CTYPE
USE_LOCALE_NUMERIC USE_LOCALE_TIME USE_PERLIO
USE_PERL_ATOF USE_REENTRANT_API
Built under linux
Compiled at May 13 2015 16:44:37
%ENV:
PERL5LIB=""
PERL5OPT=""
PERL5_CPANPLUS_IS_RUNNING="22350"
PERL5_CPAN_IS_RUNNING="22350"
PERL_MM_USE_DEFAULT="1"
@INC:
/home/sand/src/perl/repoperls/installed-perls/perl/v5.21.5/8005/lib/site_perl/5.21.5/x86_64-linux-thread-multi
/home/sand/src/perl/repoperls/installed-perls/perl/v5.21.5/8005/lib/site_perl/5.21.5
/home/sand/src/perl/repoperls/installed-perls/perl/v5.21.5/8005/lib/5.21.5/x86_64-linux-thread-multi
/home/sand/src/perl/repoperls/installed-perls/perl/v5.21.5/8005/lib/5.21.5
.