Report for Graphics-Primitive-0.62

Back
From: metabase:user:84a90d77-6cfe-1014-9fde-98d5651e4251
Subject: PASS Graphics-Primitive-0.62 v5.18.1 
Date: 2014-01-28T19:37:50Z

This distribution has been tested as part of the CPAN Testers
project, supporting the Perl programming language.  See
http://wiki.cpantesters.org/ for more information or email
questions to cpan-testers-discuss@perl.org


--
Dear Cory G Watson,

This is a computer-generated report for Graphics-Primitive-0.62
on perl 5.18.1, created by CPAN-Reporter-1.2010.

Thank you for uploading your work to CPAN.  Congratulations!
All tests were successful.

Sections of this report:

    * Tester comments
    * Program output
    * Prerequisites
    * Environment and other context

------------------------------
TESTER COMMENTS
------------------------------

Additional comments from tester:

none provided

------------------------------
PROGRAM OUTPUT
------------------------------

Output from 'C:\Users\Nathan\Desktop\strawberry-perl-5.18.1.1-64bit-portable\c\bin\dmake.exe test':

C:\Users\Nathan\Desktop\strawberry-perl-5.18.1.1-64bit-portable\perl\bin\perl.exe "-MExtUtils::Command::MM" "-e" "test_harness(0, 'inc', 'blib\lib', 'blib\arch')" t/*.t
# Testing Graphics::Primitive 0.62, Perl 5.018001, C:\Users\Nathan\Desktop\strawberry-perl-5.18.1.1-64bit-portable\perl\bin\perl.exe
t/00-load.t ............ ok
t/01-font.t ............ ok
t/01-insets.t .......... ok
t/02-brush.t ........... ok
t/20-border.t .......... ok
t/30-component.t ....... ok
t/35-componentlist.t ... ok
t/40-container.t ....... ok
t/50-path.t ............ ok
t/55-canvas.t .......... ok
t/60-driver.t .......... ok
t/61-textbox.t ......... ok
t/70-op-fill.t ......... ok
t/70-op-stroke.t ....... ok
t/70-paint-gradient.t .. ok
t/80-serialize.t ....... ok
t/callback.t ........... ok
All tests successful.
Files=17, Tests=149, 24 wallclock secs ( 0.14 usr +  0.08 sys =  0.22 CPU)
Result: PASS

------------------------------
PREREQUISITES
------------------------------

Prerequisite modules loaded:

requires:

    Module              Need Have  
    ------------------- ---- ------
    Forest              0.06 0.10  
    Geometry::Primitive 0.16 0.23  
    Graphics::Color     0.20 0.29  
    JSON::Any           1.22 1.32  
    Moose               0.90 2.1005
    MooseX::Clone       0.04 0.05  
    MooseX::Storage     0.17 0.45  

build_requires:

    Module              Need Have  
    ------------------- ---- ------
    ExtUtils::MakeMaker 6.36 6.72  
    Test::More          0    0.98  

configure_requires:

    Module              Need Have  
    ------------------- ---- ------
    ExtUtils::MakeMaker 6.36 6.72  


------------------------------
ENVIRONMENT AND OTHER CONTEXT
------------------------------

Environment variables:

    COMSPEC = C:\Windows\system32\cmd.exe
    NUMBER_OF_PROCESSORS = 2
    PATH = C:\Users\Nathan\Desktop\strawberry-perl-5.18.1.1-64bit-portable\perl\site\bin;C:\Users\Nathan\Desktop\strawberry-perl-5.18.1.1-64bit-portable\perl\bin;C:\Users\Nathan\Desktop\strawberry-perl-5.18.1.1-64bit-portable\c\bin;C:\Program Files\Common Files\Microsoft Shared\Windows Live;C:\Program Files (x86)\Common Files\Microsoft Shared\Windows Live;C:\Windows\system32;C:\Windows;C:\Windows\System32\Wbem;C:\Windows\System32\WindowsPowerShell\v1.0\;C:\Program Files (x86)\Windows Live\Shared;C:\Program Files\SlikSvn\bin\;C:\Users\Nathan\dev\SoarSuite-9.3.1-win-x86_64\bin;C:\Program Files (x86)\Graphviz 2.28\bin;C:\strawberry\perl\bin;C:\Program Files\MiKTeX 2.9\miktex\bin\x64\;C:\Program Files\nodejs\;C:\Program Files (x86)\Git\cmd;C:\Program Files (x86)\WinMerge;C:\Users\Nathan\AppData\Roaming\npm
    PERL5LIB = 
    PERL5OPT = 
    PERL5_CPANPLUS_IS_RUNNING = 106672
    PERL5_CPAN_IS_RUNNING = 106672
    PROCESSOR_IDENTIFIER = AMD64 Family 16 Model 6 Stepping 3, AuthenticAMD
    TEMP = C:\Users\Nathan\AppData\Local\Temp
    TERM = dumb

Perl special variables (and OS-specific diagnostics, for MSWin32):

    $^X = C:\Users\Nathan\Desktop\strawberry-perl-5.18.1.1-64bit-portable\perl\bin\perl.exe
    $UID/$EUID = 0 / 0
    $GID = 0
    $EGID = 0
    Win32::GetOSName = Win7
    Win32::GetOSVersion = Service Pack 1, 6, 1, 7601, 2, 1, 0, 768, 1
    Win32::FsType = NTFS
    Win32::IsAdminUser = 0

Perl module toolchain versions installed:

    Module              Have    
    ------------------- --------
    CPAN                2.00    
    CPAN::Meta          2.132140
    Cwd                 3.40    
    ExtUtils::CBuilder  0.280210
    ExtUtils::Command   1.17    
    ExtUtils::Install   1.59    
    ExtUtils::MakeMaker 6.72    
    ExtUtils::Manifest  1.63    
    ExtUtils::ParseXS   3.21    
    File::Spec          3.40    
    JSON                2.59    
    JSON::PP            2.27202 
    Module::Build       0.4007  
    Module::Signature   n/a     
    Parse::CPAN::Meta   1.4405  
    Test::Harness       3.29    
    Test::More          0.98    
    YAML                0.84    
    YAML::Syck          n/a     
    version             0.9902  


--

Summary of my perl5 (revision 5 version 18 subversion 1) configuration:
   
  Platform:
    osname=MSWin32, osvers=4.0, archname=MSWin32-x64-multi-thread
    uname='Win32 strawberry-perl 5.18.1.1 #1 Tue Aug 13 17:18:28 2013 x64'
    config_args='undef'
    hint=recommended, useposix=true, d_sigaction=undef
    useithreads=define, usemultiplicity=define
    useperlio=define, d_sfio=undef, uselargefiles=define, usesocks=undef
    use64bitint=define, use64bitall=undef, uselongdouble=undef
    usemymalloc=n, bincompat5005=undef
  Compiler:
    cc='gcc', ccflags =' -s -O2 -DWIN32 -DWIN64 -DCONSERVATIVE  -DPERL_TEXTMODE_SCRIPTS -DPERL_IMPLICIT_CONTEXT -DPERL_IMPLICIT_SYS -DUSE_PERLIO -fno-strict-aliasing -mms-bitfields',
    optimize='-s -O2',
    cppflags='-DWIN32'
    ccversion='', gccversion='4.7.3', gccosandvers=''
    intsize=4, longsize=4, ptrsize=8, doublesize=8, byteorder=12345678
    d_longlong=define, longlongsize=8, d_longdbl=define, longdblsize=12
    ivtype='long long', ivsize=8, nvtype='double', nvsize=8, Off_t='long long', lseeksize=8
    alignbytes=8, prototype=define
  Linker and Libraries:
    ld='g++.exe', ldflags ='-s -L"C:\Users\Nathan\Desktop\strawberry-perl-5.18.1.1-64bit-portable\perl\lib\CORE" -L"C:\Users\Nathan\Desktop\strawberry-perl-5.18.1.1-64bit-portable\c\lib"'
    libpth=C:\Users\Nathan\Desktop\strawberry-perl-5.18.1.1-64bit-portable\c\lib C:\Users\Nathan\Desktop\strawberry-perl-5.18.1.1-64bit-portable\c\x86_64-w64-mingw32\lib
    libs=-lmoldname -lkernel32 -luser32 -lgdi32 -lwinspool -lcomdlg32 -ladvapi32 -lshell32 -lole32 -loleaut32 -lnetapi32 -luuid -lws2_32 -lmpr -lwinmm -lversion -lodbc32 -lodbccp32 -lcomctl32
    perllibs=-lmoldname -lkernel32 -luser32 -lgdi32 -lwinspool -lcomdlg32 -ladvapi32 -lshell32 -lole32 -loleaut32 -lnetapi32 -luuid -lws2_32 -lmpr -lwinmm -lversion -lodbc32 -lodbccp32 -lcomctl32
    libc=, so=dll, useshrplib=true, libperl=libperl518.a
    gnulibc_version=''
  Dynamic Linking:
    dlsrc=dl_win32.xs, dlext=dll, d_dlsymun=undef, ccdlflags=' '
    cccdlflags=' ', lddlflags='-mdll -s -L"C:\Users\Nathan\Desktop\strawberry-perl-5.18.1.1-64bit-portable\perl\lib\CORE" -L"C:\Users\Nathan\Desktop\strawberry-perl-5.18.1.1-64bit-portable\c\lib"'


Characteristics of this binary (from libperl): 
  Compile-time options: HAS_TIMES HAVE_INTERP_INTERN MULTIPLICITY
                        PERLIO_LAYERS PERL_DONT_CREATE_GVSV
                        PERL_HASH_FUNC_ONE_AT_A_TIME_HARD
                        PERL_IMPLICIT_CONTEXT PERL_IMPLICIT_SYS
                        PERL_MALLOC_WRAP PERL_PRESERVE_IVUV PERL_SAWAMPERSAND
                        USE_64_BIT_INT USE_ITHREADS USE_LARGE_FILES
                        USE_LOCALE USE_LOCALE_COLLATE USE_LOCALE_CTYPE
                        USE_LOCALE_NUMERIC USE_PERLIO USE_PERL_ATOF
  Built under MSWin32
  Compiled at Aug 13 2013 17:23:34
  %ENV:
    PERL5_CPANPLUS_IS_RUNNING="106672"
    PERL5_CPAN_IS_RUNNING="106672"
  @INC:
    C:/Users/Nathan/Desktop/strawberry-perl-5.18.1.1-64bit-portable/perl/site/lib/MSWin32-x64-multi-thread
    C:/Users/Nathan/Desktop/strawberry-perl-5.18.1.1-64bit-portable/perl/site/lib
    C:/Users/Nathan/Desktop/strawberry-perl-5.18.1.1-64bit-portable/perl/vendor/lib
    C:/Users/Nathan/Desktop/strawberry-perl-5.18.1.1-64bit-portable/perl/lib
    .