CPAN-Index-API v0.008 Perl 5 v5.24.0 x86_64-linux

Status
Pass
From
Slaven Rezić (SREZIC)
Dist
CPAN-Index-API v0.008
Platform
Perl 5 v5.24.0 x86_64-linux
Date
2019-04-13 22:10:40
ID
f905b0f6-5e38-11e9-aa20-718e1f24ea8f
This distribution has been tested as part of the CPAN Testers
project, supporting the Perl programming language.  See
http://wiki.cpantesters.org/ for more information or email
questions to cpan-testers-discuss@perl.org


--
Dear Chase Whitener,

This is a computer-generated report for CPAN-Index-API-0.008
on perl 5.24.0, created by CPAN-Reporter-1.2018.

Thank you for uploading your work to CPAN.  Congratulations!
All tests were successful.

Sections of this report:

    * Tester comments
    * Program output
    * Prerequisites
    * Environment and other context

------------------------------
TESTER COMMENTS
------------------------------

Additional comments from tester:

none provided

------------------------------
PROGRAM OUTPUT
------------------------------

Output from '/usr/bin/make test':

PERL_DL_NONLAZY=1 "/opt/perl-5.24.0/bin/perl" "-MExtUtils::Command::MM" "-MTest::Harness" "-e" "undef *Test::Harness::Switches; test_harness(0, 'blib/lib', 'blib/arch')" t/*.t
# 
# Versions for all modules listed in MYMETA.json (including optional ones):
# 
# === Configure Requires ===
# 
#     Module              Want Have
#     ------------------- ---- ----
#     ExtUtils::MakeMaker  any 7.24
# 
# === Build Requires ===
# 
#     Module              Want Have
#     ------------------- ---- ----
#     ExtUtils::MakeMaker  any 7.24
# 
# === Test Requires ===
# 
#     Module              Want     Have
#     ------------------- ---- --------
#     Compress::Zlib       any    2.069
#     ExtUtils::MakeMaker  any     7.24
#     File::Spec           any     3.63
#     File::Temp           any   0.2304
#     Path::Tiny           any    0.096
#     Test::More          0.88 1.302052
#     Test::Most           any     0.34
#     Test::XML            any     0.08
#     strict               any     1.11
#     warnings             any     1.36
# 
# === Test Recommends ===
# 
#     Module         Want     Have
#     ---------- -------- --------
#     CPAN::Meta 2.120900 2.150010
# 
# === Runtime Requires ===
# 
#     Module                       Want   Have
#     ---------------------------- ---- ------
#     Carp                          any   1.40
#     Class::Load                   any   0.23
#     Compress::Zlib                any  2.069
#     File::Basename                any   2.85
#     File::Temp                    any 0.2304
#     LWP::Simple                   any   6.15
#     List::Util                    any   1.45
#     Moose                         any 2.1805
#     Moose::Role                   any 2.1805
#     Moose::Util::TypeConstraints  any 2.1805
#     MooseX::ClassAttribute        any   0.29
#     Path::Class                   any   0.37
#     Path::Tiny                    any  0.096
#     Scalar::Util                  any   1.45
#     Symbol                        any   1.07
#     Text::Template                any   1.46
#     URI                           any   1.71
#     URI::file                     any   4.21
#     XML::Twig                     any   3.49
#     base                          any   2.23
#     namespace::autoclean          any   0.28
#     strict                        any   1.11
#     warnings                      any   1.36
# 
t/00-report-prereqs.t .. ok
t/01-packages.t ........ ok
t/02-modules.t ......... ok
t/03-authors.t ......... ok
t/04-whois.t ........... ok
All tests successful.
Files=5, Tests=70,  3 wallclock secs ( 0.02 usr  0.00 sys +  1.01 cusr  0.17 csys =  1.20 CPU)
Result: PASS

------------------------------
PREREQUISITES
------------------------------

Prerequisite modules loaded:

requires:

    Module                       Need Have    
    ---------------------------- ---- --------
    base                         0    2.23    
    Carp                         0    1.40    
    Class::Load                  0    0.23    
    Compress::Zlib               0    2.069   
    File::Basename               0    2.85    
    File::Temp                   0    0.2304  
    List::Util                   0    1.45    
    LWP::Simple                  0    6.15    
    Moose                        0    2.1805  
    Moose::Role                  0    2.1805  
    Moose::Util::TypeConstraints 0    2.1805  
    MooseX::ClassAttribute       0    0.29    
    namespace::autoclean         0    0.28    
    Path::Class                  0    0.37    
    Path::Tiny                   0    0.096   
    Scalar::Util                 0    1.45    
    strict                       0    1.11    
    Symbol                       0    1.07    
    Text::Template               0    1.46    
    URI                          0    1.71    
    URI::file                    0    4.21    
    warnings                     0    1.36    
    XML::Twig                    0    3.49    

build_requires:

    Module                       Need Have    
    ---------------------------- ---- --------
    Compress::Zlib               0    2.069   
    ExtUtils::MakeMaker          0    7.24    
    File::Spec                   0    3.63    
    File::Temp                   0    0.2304  
    Path::Tiny                   0    0.096   
    strict                       0    1.11    
    Test::More                   0.88 1.302052
    Test::Most                   0    0.34    
    Test::XML                    0    0.08    
    warnings                     0    1.36    

configure_requires:

    Module                       Need Have    
    ---------------------------- ---- --------
    ExtUtils::MakeMaker          0    7.24    


------------------------------
ENVIRONMENT AND OTHER CONTEXT
------------------------------

Environment variables:

    LANG = en_US.UTF-8
    LANGUAGE = en_US:en
    LC_ALL = en_US.UTF-8
    PATH = /usr/local/bin:/usr/bin:/bin:/usr/local/sbin:/usr/sbin:/sbin:/home/cpansand/bin/linux-gnu:/home/cpansand/bin/sh:/home/cpansand/bin:/usr/games:/home/cpansand/devel:/home/eserte/src/srezic-misc/scripts
    PERL5LIB = 
    PERL5OPT = 
    PERL5_CPANPLUS_IS_RUNNING = 17905
    PERL5_CPAN_IS_RUNNING = 17905
    PERL5_CPAN_IS_RUNNING_IN_RECURSION = 16982,17905
    PERLDOC = -MPod::Perldoc::ToTextOverstrike
    PERL_BATCH = yes
    PERL_CANARY_STABILITY_NOPROMPT = 1
    PERL_CPAN_REPORTER_CONFIG = /var/tmp/cpansmoker-1023/2019041400/cpanreporter_000_config.ini
    PERL_EXTUTILS_AUTOINSTALL = --defaultdeps
    PERL_USE_UNSAFE_INC = 1
    SHELL = /bin/zsh
    TERM = screen
    TMPDIR = /var/tmp/cpansmoker-1023/2019041400

Perl special variables (and OS-specific diagnostics, for MSWin32):

    $^X = /opt/perl-5.24.0/bin/perl
    $UID/$EUID = 1023 / 1023
    $GID = 1023 1023
    $EGID = 1023 1023

Perl module toolchain versions installed:

    Module              Have    
    ------------------- --------
    CPAN                2.14    
    CPAN::Meta          2.150010
    Cwd                 3.63    
    ExtUtils::CBuilder  0.280225
    ExtUtils::Command   7.24    
    ExtUtils::Install   2.04    
    ExtUtils::MakeMaker 7.24    
    ExtUtils::Manifest  1.70    
    ExtUtils::ParseXS   3.31    
    File::Spec          3.63    
    JSON                2.90    
    JSON::PP            2.27300 
    Module::Build       0.4220  
    Module::Signature   0.80    
    Parse::CPAN::Meta   2.150010
    Test::Harness       3.36    
    Test::More          1.302052
    YAML                1.17    
    YAML::Syck          1.29    
    version             0.9916  


--

Summary of my perl5 (revision 5 version 24 subversion 0) configuration:
   
  Platform:
    osname=linux, osvers=3.2.0-4-amd64, archname=x86_64-linux
    uname='linux cvrsnica-wheezy 3.2.0-4-amd64 #1 smp debian 3.2.54-2 x86_64 gnulinux '
    config_args='-ds -e -Dprefix=/opt/perl-5.24.0 -Dcf_email=srezic@cpan.org'
    hint=recommended, useposix=true, d_sigaction=define
    useithreads=undef, usemultiplicity=undef
    use64bitint=define, use64bitall=define, uselongdouble=undef
    usemymalloc=n, bincompat5005=undef
  Compiler:
    cc='cc', ccflags ='-fwrapv -fno-strict-aliasing -pipe -fstack-protector -I/usr/local/include -D_LARGEFILE_SOURCE -D_FILE_OFFSET_BITS=64 -D_FORTIFY_SOURCE=2',
    optimize='-O2',
    cppflags='-fwrapv -fno-strict-aliasing -pipe -fstack-protector -I/usr/local/include'
    ccversion='', gccversion='4.7.2', gccosandvers=''
    intsize=4, longsize=8, ptrsize=8, doublesize=8, byteorder=12345678, doublekind=3
    d_longlong=define, longlongsize=8, d_longdbl=define, longdblsize=16, longdblkind=3
    ivtype='long', ivsize=8, nvtype='double', nvsize=8, Off_t='off_t', lseeksize=8
    alignbytes=8, prototype=define
  Linker and Libraries:
    ld='cc', ldflags =' -fstack-protector -L/usr/local/lib'
    libpth=/usr/local/lib /usr/lib/gcc/x86_64-linux-gnu/4.7/include-fixed /usr/include/x86_64-linux-gnu /usr/lib /lib/x86_64-linux-gnu /lib/../lib /usr/lib/x86_64-linux-gnu /usr/lib/../lib /lib
    libs=-lpthread -lnsl -ldb -ldl -lm -lcrypt -lutil -lc
    perllibs=-lpthread -lnsl -ldl -lm -lcrypt -lutil -lc
    libc=libc-2.13.so, so=so, useshrplib=false, libperl=libperl.a
    gnulibc_version='2.13'
  Dynamic Linking:
    dlsrc=dl_dlopen.xs, dlext=so, d_dlsymun=undef, ccdlflags='-Wl,-E'
    cccdlflags='-fPIC', lddlflags='-shared -O2 -L/usr/local/lib -fstack-protector'


Characteristics of this binary (from libperl): 
  Compile-time options: HAS_TIMES PERLIO_LAYERS PERL_COPY_ON_WRITE
                        PERL_DONT_CREATE_GVSV
                        PERL_HASH_FUNC_ONE_AT_A_TIME_HARD PERL_MALLOC_WRAP
                        PERL_PRESERVE_IVUV USE_64_BIT_ALL USE_64_BIT_INT
                        USE_LARGE_FILES USE_LOCALE USE_LOCALE_COLLATE
                        USE_LOCALE_CTYPE USE_LOCALE_NUMERIC USE_LOCALE_TIME
                        USE_PERLIO USE_PERL_ATOF
  Built under linux
  Compiled at May 30 2016 08:43:25
  %ENV:
    PERL5LIB=""
    PERL5OPT=""
    PERL5_CPANPLUS_IS_RUNNING="17905"
    PERL5_CPAN_IS_RUNNING="17905"
    PERL5_CPAN_IS_RUNNING_IN_RECURSION="16982,17905"
    PERLDOC="-MPod::Perldoc::ToTextOverstrike"
    PERL_BATCH="yes"
    PERL_CANARY_STABILITY_NOPROMPT="1"
    PERL_CPAN_REPORTER_CONFIG="/var/tmp/cpansmoker-1023/2019041400/cpanreporter_000_config.ini"
    PERL_EXTUTILS_AUTOINSTALL="--defaultdeps"
    PERL_USE_UNSAFE_INC="1"
  @INC:
    /opt/perl-5.24.0/lib/site_perl/5.24.0/x86_64-linux
    /opt/perl-5.24.0/lib/site_perl/5.24.0
    /opt/perl-5.24.0/lib/5.24.0/x86_64-linux
    /opt/perl-5.24.0/lib/5.24.0
    .