Back
From: metabase:user:30f4dfbe-2aae-11df-837a-5e0a49663a4f
Subject: PASS MARC-Record-2.0.7 v5.8.4 GNU/Linux
Date: 2017-08-02T15:33:46Z
This distribution has been tested as part of the CPAN Testers
project, supporting the Perl programming language. See
http://wiki.cpantesters.org/ for more information or email
questions to cpan-testers-discuss@perl.org
--
Dear Galen Charlton,
This is a computer-generated report for MARC-Record-2.0.7
on perl 5.8.4, created by CPAN-Reporter-1.2018.
Thank you for uploading your work to CPAN. Congratulations!
All tests were successful.
Sections of this report:
* Tester comments
* Program output
* Prerequisites
* Environment and other context
------------------------------
TESTER COMMENTS
------------------------------
Additional comments from tester:
this report is from an automated smoke testing program
and was not reviewed by a human for accuracy
------------------------------
PROGRAM OUTPUT
------------------------------
Output from '/usr/bin/make test':
PERL_DL_NONLAZY=1 "/home/njh/perl5/perlbrew/perls/perl-5.8.4/bin/perl" "-MExtUtils::Command::MM" "-MTest::Harness" "-e" "undef *Test::Harness::Switches; test_harness(0, 'blib/lib', 'blib/arch')" t/*.t
t/11.astring.t .................... ok
t/10.camel.t ...................... ok
# Testing MARC::Record 2.0.7
t/00.load.t ....................... ok
t/12.ldr.t ........................ ok
t/20.clone.t ...................... ok
t/60.insert.t ..................... ok
t/60.update.t ..................... ok
t/61.append.t ..................... ok
t/50.batch.t ...................... ok
t/62.before.t ..................... ok
t/61.replace.t .................... ok
t/63.after.t ...................... ok
t/64.create.t ..................... ok
t/66.ordered.t .................... ok
t/66.grouped.t .................... ok
t/68.subfields.t .................. ok
t/67.subfield.t ................... ok
t/70.croak.t ...................... ok
t/81.decode.t ..................... ok
t/75.warnings.t ................... ok
t/82.baddir.t ..................... ok
t/80.alphatag.t ................... ok
t/83.indicators.t ................. ok
t/convenience.t ................... ok
t/batch-filter.t .................. ok
t/decode-filter.t ................. ok
t/delete-field.t .................. ok
t/delete-subfield.t ............... ok
t/extra_controlfields.t ........... ok
t/dosEOF.t ........................ ok
t/85.fh.t ......................... ok
t/file-filter.t ................... ok
t/filler.t ........................ ok
t/file-header.t ................... ok
t/lineendings.t ................... ok
t/rename-field.t .................. ok
t/title_proper.t .................. ok
t/rt67094_field_sans_subfields.t .. ok
t/pod-coverage.t .................. ok
t/pod.t ........................... ok
t/utf8.t .......................... ok
All tests successful.
Files=41, Tests=1020, 1 wallclock secs ( 0.19 usr 0.04 sys + 2.06 cusr 0.22 csys = 2.51 CPU)
Result: PASS
------------------------------
PREREQUISITES
------------------------------
Prerequisite modules loaded:
requires:
Module Need Have
------------------- ---- --------
Carp 0 1.26
File::Find 0 1.07
File::Spec 0 3.40
Test::More 0 1.302086
build_requires:
Module Need Have
------------------- ---- --------
ExtUtils::MakeMaker 0 7.24
configure_requires:
Module Need Have
------------------- ---- --------
ExtUtils::MakeMaker 0 7.24
------------------------------
ENVIRONMENT AND OTHER CONTEXT
------------------------------
Environment variables:
AUTOMATED_TESTING = 1
HARNESS_OPTIONS = j4
LANG = en_GB.UTF-8
LANGUAGE = en_GB:en
PATH = /home/njh/perl5/perlbrew/bin:/home/njh/perl5/perlbrew/perls/perl-5.8.4/bin:/home/njh/perl5/perlbrew/bin:/usr/bin:/bin
PERL5LIB = /home/njh/.cpan/build/Business-ISBN-3.004-2/blib/arch:/home/njh/.cpan/build/Business-ISBN-3.004-2/blib/lib:/home/njh/.cpan/build/Business-ISBN-Data-20140910.003-2/blib/arch:/home/njh/.cpan/build/Business-ISBN-Data-20140910.003-2/blib/lib
PERL5OPT =
PERL5_CPANPLUS_IS_RUNNING = 5884
PERL5_CPAN_IS_RUNNING = 5884
PERLBREW_BASHRC_VERSION = 0.73
PERLBREW_HOME = /home/njh/.perlbrew
PERLBREW_LIB =
PERLBREW_MANPATH = /home/njh/perl5/perlbrew/perls/perl-5.8.4/man
PERLBREW_PATH = /home/njh/perl5/perlbrew/bin:/home/njh/perl5/perlbrew/perls/perl-5.8.4/bin
PERLBREW_PERL = perl-5.8.4
PERLBREW_ROOT = /home/njh/perl5/perlbrew
PERLBREW_VERSION = 0.73
PERL_LOCAL_LIB_ROOT =
SHELL = /bin/sh
Perl special variables (and OS-specific diagnostics, for MSWin32):
$^X = /home/njh/perl5/perlbrew/perls/perl-5.8.4/bin/perl
$UID/$EUID = 1000 / 1000
$GID = 1000 1000 112 108 46 44 30 29 25 24 4
$EGID = 1000 1000 112 108 46 44 30 29 25 24 4
Perl module toolchain versions installed:
Module Have
------------------- --------
CPAN 2.16
CPAN::Meta 2.150005
Cwd 3.40
ExtUtils::CBuilder 0.280216
ExtUtils::Command 7.24
ExtUtils::Install 1.54
ExtUtils::MakeMaker 7.24
ExtUtils::Manifest 1.70
ExtUtils::ParseXS 3.30
File::Spec 3.40
JSON 2.93
JSON::PP 2.27400
Module::Build 0.4214
Module::Signature 0.70
Parse::CPAN::Meta 1.4422
Test::Harness 3.36
Test::More 1.302086
YAML 0.84
YAML::Syck 1.30
version 0.9902
--
Summary of my perl5 (revision 5 version 8 subversion 4) configuration:
Platform:
osname=linux, osvers=3.2.0-4-amd64, archname=x86_64-linux-thread-multi
uname='linux nigelhorne.force9.co.uk 3.2.0-4-amd64 #1 smp debian 3.2.32-1 x86_64 gnulinux '
config_args='-de -Dprefix=/home/njh/perl5/perlbrew/perls/perl-5.8.4 -Duseithreads -Dusemultiplicity -Accflags=-O2 -W -Wformat=2 -Wswitch -Wshadow -Wwrite-strings -Wuninitialized -Wall -pipe -mtune=native -march=native -fomit-frame-pointer -mfpmath=sse -pedantic -D_FORTIFY_SOURCE=2 -Wpointer-arith -Wstrict-prototypes -fstack-protector -Wstack-protector -Wextra -Wbad-function-cast -Wcast-align -Wcast-qual -Wdisabled-optimization -Wendif-labels -Wfloat-equal -Wformat-nonliteral -Winline -Wmissing-declarations -Wmissing-prototypes -Wnested-externs -Wpointer-arith -Wundef -Wformat-security -Aeval:scriptdir=/home/njh/perl5/perlbrew/perls/perl-5.8.4/bin'
hint=recommended, useposix=true, d_sigaction=define
usethreads=define use5005threads=undef useithreads=define usemultiplicity=define
useperlio=define d_sfio=undef uselargefiles=define usesocks=undef
use64bitint=define use64bitall=define uselongdouble=undef
usemymalloc=n, bincompat5005=undef
Compiler:
cc='cc', ccflags ='-D_REENTRANT -D_GNU_SOURCE -O2 -W -Wformat=2 -Wswitch -Wshadow -Wwrite-strings -Wuninitialized -Wall -pipe -mtune=native -march=native -fomit-frame-pointer -mfpmath=sse -pedantic -D_FORTIFY_SOURCE=2 -Wpointer-arith -Wstrict-prototypes -fstack-protector -Wstack-protector -Wextra -Wbad-function-cast -Wcast-align -Wcast-qual -Wdisabled-optimization -Wendif-labels -Wfloat-equal -Wformat-nonliteral -Winline -Wmissing-declarations -Wmissing-prototypes -Wnested-externs -Wpointer-arith -Wundef -Wformat-security -fno-strict-aliasing -I/usr/local/include -D_LARGEFILE_SOURCE -D_FILE_OFFSET_BITS=64',
optimize='-O2',
cppflags='-D_REENTRANT -D_GNU_SOURCE -O2 -W -Wformat=2 -Wswitch -Wshadow -Wwrite-strings -Wuninitialized -Wall -pipe -mtune=native -march=native -fomit-frame-pointer -mfpmath=sse -pedantic -D_FORTIFY_SOURCE=2 -Wpointer-arith -Wstrict-prototypes -fstack-protector -Wstack-protector -Wextra -Wbad-function-cast -Wcast-align -Wcast-qual -Wdisabled-optimization -Wendif-labels -Wfloat-equal -Wformat-nonliteral -Winline -Wmissing-declarations -Wmissing-prototypes -Wnested-externs -Wpointer-arith -Wundef -Wformat-security -fno-strict-aliasing -I/usr/local/include'
ccversion='', gccversion='4.7.2', gccosandvers=''
intsize=4, longsize=8, ptrsize=8, doublesize=8, byteorder=12345678
d_longlong=define, longlongsize=8, d_longdbl=define, longdblsize=16
ivtype='long', ivsize=8, nvtype='double', nvsize=8, Off_t='off_t', lseeksize=8
alignbytes=8, prototype=define
Linker and Libraries:
ld='cc', ldflags =' -L/usr/local/lib'
libpth=/usr/local/lib /lib/x86_64-linux-gnu /lib/../lib /usr/lib/x86_64-linux-gnu /usr/lib/../lib /lib /usr/lib
libs=-lnsl -lgdbm -ldb -ldl -lm -lcrypt -lutil -lpthread -lc -lgdbm_compat
perllibs=-lnsl -ldl -lm -lcrypt -lutil -lpthread -lc -lgdbm_compat
libc=, so=so, useshrplib=false, libperl=libperl.a
gnulibc_version='2.13'
Dynamic Linking:
dlsrc=dl_dlopen.xs, dlext=so, d_dlsymun=undef, ccdlflags='-Wl,-E'
cccdlflags='-fpic', lddlflags='-shared -L/usr/local/lib'
Characteristics of this binary (from libperl):
Compile-time options: MULTIPLICITY USE_ITHREADS USE_64_BIT_INT USE_64_BIT_ALL USE_LARGE_FILES PERL_IMPLICIT_CONTEXT
Built under linux
Compiled at Mar 5 2013 00:53:42
%ENV:
PERL5LIB="/home/njh/.cpan/build/Business-ISBN-3.004-2/blib/arch:/home/njh/.cpan/build/Business-ISBN-3.004-2/blib/lib:/home/njh/.cpan/build/Business-ISBN-Data-20140910.003-2/blib/arch:/home/njh/.cpan/build/Business-ISBN-Data-20140910.003-2/blib/lib"
PERL5OPT=""
PERL5_CPANPLUS_IS_RUNNING="5884"
PERL5_CPAN_IS_RUNNING="5884"
PERLBREW_BASHRC_VERSION="0.73"
PERLBREW_HOME="/home/njh/.perlbrew"
PERLBREW_LIB=""
PERLBREW_MANPATH="/home/njh/perl5/perlbrew/perls/perl-5.8.4/man"
PERLBREW_PATH="/home/njh/perl5/perlbrew/bin:/home/njh/perl5/perlbrew/perls/perl-5.8.4/bin"
PERLBREW_PERL="perl-5.8.4"
PERLBREW_ROOT="/home/njh/perl5/perlbrew"
PERLBREW_VERSION="0.73"
PERL_LOCAL_LIB_ROOT=""
@INC:
/home/njh/.cpan/build/Business-ISBN-3.004-2/blib/arch
/home/njh/.cpan/build/Business-ISBN-3.004-2/blib/lib
/home/njh/.cpan/build/Business-ISBN-Data-20140910.003-2/blib/arch
/home/njh/.cpan/build/Business-ISBN-Data-20140910.003-2/blib/lib
/home/njh/perl5/perlbrew/perls/perl-5.8.4/lib/5.8.4/x86_64-linux-thread-multi
/home/njh/perl5/perlbrew/perls/perl-5.8.4/lib/5.8.4
/home/njh/perl5/perlbrew/perls/perl-5.8.4/lib/site_perl/5.8.4/x86_64-linux-thread-multi
/home/njh/perl5/perlbrew/perls/perl-5.8.4/lib/site_perl/5.8.4
/home/njh/perl5/perlbrew/perls/perl-5.8.4/lib/site_perl
.