Report for Rose-HTML-Objects-0.623

Back
From: metabase:user:320bfe00-2aae-11df-837a-5e0a49663a4f
Subject: PASS Rose-HTML-Objects-0.623 v5.20.3 GNU/Linux
Date: 2017-02-26T04:13:48Z

This distribution has been tested as part of the CPAN Testers
project, supporting the Perl programming language.  See
http://wiki.cpantesters.org/ for more information or email
questions to cpan-testers-discuss@perl.org


--
Dear John Siracusa,

This is a computer-generated report for Rose-HTML-Objects-0.623
on perl 5.20.3, created by CPAN-Reporter-1.2018.

Thank you for uploading your work to CPAN.  Congratulations!
All tests were successful.

Sections of this report:

    * Tester comments
    * Program output
    * Prerequisites
    * Environment and other context

------------------------------
TESTER COMMENTS
------------------------------

Additional comments from tester:

this report is from an automated smoke testing program
and was not reviewed by a human for accuracy

------------------------------
PROGRAM OUTPUT
------------------------------

Output from '/usr/bin/make test':

PERL_DL_NONLAZY=1 "/home/sand/src/perl/repoperls/installed-perls/host/k93msid/v5.20.3/f11c/bin/perl" "-MExtUtils::Command::MM" "-MTest::Harness" "-e" "undef *Test::Harness::Switches; test_harness(0, 'blib/lib', 'blib/arch')" t/*.t
t/anchor.t ........................ ok
t/attachments.t ................... skipped: disabled
t/form-field-checkbox-group.t ..... ok
t/form-field-checkbox.t ........... ok
t/form-field-compound.t ........... ok
t/form-field-datetime-split.t ..... ok
t/form-field-datetime.t ........... ok
t/form-field-email.t .............. ok
t/form-field-file.t ............... ok
t/form-field-hidden.t ............. ok
t/form-field-integer.t ............ ok
t/form-field-l10n.t ............... ok
t/form-field-numeric.t ............ ok
t/form-field-option.t ............. ok
t/form-field-optiongroup.t ........ ok
t/form-field-password.t ........... ok
t/form-field-phone.t .............. ok
t/form-field-popup-menu.t ......... ok
t/form-field-radio-group.t ........ ok
t/form-field-radiobutton.t ........ ok
t/form-field-reset.t .............. ok
t/form-field-selectbox.t .......... ok
t/form-field-set.t ................ ok
t/form-field-submit.t ............. ok
t/form-field-text.t ............... ok
t/form-field-textarea.t ........... ok
t/form-field-time-split.t ......... ok
t/form-field-time.t ............... ok
t/form-field.t .................... ok
t/form-l10n.t ..................... ok
t/form-nested.t ................... ok
t/form-repeatable.t ............... ok
CGI::param called in list context from /tmp/loop_over_bdir-11025-7jL4kP/Rose-HTML-Objects-0.623-0/blib/lib/Rose/HTML/Form.pm line 312, this can lead to vulnerabilities. See the warning in "Fetching the value or values of a single named parameter" at /home/sand/src/perl/repoperls/installed-perls/host/k93msid/v5.20.3/f11c/lib/site_perl/5.20.3/CGI.pm line 412, <DATA> line 1.
t/form.t .......................... ok
t/image.t ......................... ok
t/l10n-errors-01.t ................ ok
t/l10n-message.t .................. ok
t/l10n-messages-01.t .............. ok
t/label.t ......................... ok
t/leaks.t ......................... ok
t/link.t .......................... ok
t/localizer-auto-load-messages.t .. ok
t/mro-c3.t ........................ ok
t/object-l10n.t ................... ok
t/object-localizer.t .............. ok
t/object-message.t ................ ok
t/object.t ........................ ok
t/pod.t ........................... ok
t/private-library.t ............... ok
t/script.t ........................ ok
t/text.t .......................... ok
All tests successful.
Files=50, Tests=2429, 18 wallclock secs ( 0.31 usr  0.34 sys +  9.08 cusr  1.80 csys = 11.53 CPU)
Result: PASS

------------------------------
PREREQUISITES
------------------------------

Prerequisite modules loaded:

requires:

    Module              Need     Have    
    ------------------- -------- --------
    base                2.18     2.22    
    Carp                0        1.38    
    Clone::PP           0        1.06    
    DateTime            0.20     1.42    
    Email::Valid        0        1.202   
    Encode              0        2.88    
    File::Basename      0        2.85    
    File::Path          0        2.12    
    File::Spec          0        3.62    
    HTML::Entities      0        3.69    
    Image::Size         0        3.300   
    IO::String          1.08     1.08    
    List::MoreUtils     0        0.416   
    perl                5.006000 5.020003
    Rose::DateTime      0.532    0.540   
    Rose::Object        0.854    0.860   
    Rose::URI           0.021    1.00    
    Scalar::Util        0        1.47    
    URI::Escape         0        3.31    

build_requires:

    Module              Need     Have    
    ------------------- -------- --------
    ExtUtils::MakeMaker 0        7.25_01 

configure_requires:

    Module              Need     Have    
    ------------------- -------- --------
    ExtUtils::MakeMaker 0        7.25_01 


------------------------------
ENVIRONMENT AND OTHER CONTEXT
------------------------------

Environment variables:

    AUTOMATED_TESTING = 1
    LANG = en_US.UTF-8
    PATH = /home/sand/bin:/usr/local/bin:/usr/bin:/bin:/usr/games:/usr/local/perl/bin:/usr/X11/bin:/sbin:/usr/sbin
    PERL5LIB = 
    PERL5OPT = 
    PERL5_CPANPLUS_IS_RUNNING = 11035
    PERL5_CPAN_IS_RUNNING = 11035
    PERL_CANARY_STABILITY_NOPROMPT = 1
    PERL_MM_USE_DEFAULT = 1
    PERL_USE_UNSAFE_INC = 1
    SHELL = /usr/bin/zsh
    TERM = screen

Perl special variables (and OS-specific diagnostics, for MSWin32):

    $^X = /home/sand/src/perl/repoperls/installed-perls/host/k93msid/v5.20.3/f11c/bin/perl
    $UID/$EUID = 1005 / 1005
    $GID = 1005 1005
    $EGID = 1005 1005

Perl module toolchain versions installed:

    Module              Have    
    ------------------- --------
    CPAN                2.17    
    CPAN::Meta          2.150010
    Cwd                 3.62    
    ExtUtils::CBuilder  0.280224
    ExtUtils::Command   7.25_01 
    ExtUtils::Install   1.67    
    ExtUtils::MakeMaker 7.25_01 
    ExtUtils::Manifest  1.70    
    ExtUtils::ParseXS   3.30    
    File::Spec          3.62    
    JSON                2.91_03 
    JSON::PP            2.91_04 
    Module::Build       0.4220  
    Module::Signature   0.81    
    Parse::CPAN::Meta   2.150010
    Test::Harness       3.37_01 
    Test::More          1.302075
    YAML                1.20    
    YAML::Syck          1.29    
    version             0.9917  


--

Summary of my perl5 (revision 5 version 20 subversion 3) configuration:
  Derived from: b67331aafd6eff33e3fd904c45e811f69cbfb0b2
  Platform:
    osname=linux, osvers=4.8.0-2-amd64, archname=x86_64-linux-thread-multi
    uname='linux k93msid 4.8.0-2-amd64 #1 smp debian 4.8.11-1 (2016-12-02) x86_64 gnulinux '
    config_args='-Dprefix=/home/sand/src/perl/repoperls/installed-perls/host/k93msid/v5.20.3/f11c -Dmyhostname=k93msid -Dinstallusrbinperl=n -Uversiononly -Dusedevel -des -Ui_db -Dlibswanted=cl pthread socket inet nsl gdbm dbm malloc dl ld sun m crypt sec util c cposix posix ucb BSD gdbm_compat -Duseithreads -Uuselongdouble -DDEBUGGING=-g'
    hint=recommended, useposix=true, d_sigaction=define
    useithreads=define, usemultiplicity=define
    use64bitint=define, use64bitall=define, uselongdouble=undef
    usemymalloc=n, bincompat5005=undef
  Compiler:
    cc='cc', ccflags ='-D_REENTRANT -D_GNU_SOURCE -fwrapv -fno-strict-aliasing -pipe -fstack-protector -I/usr/local/include -D_LARGEFILE_SOURCE -D_FILE_OFFSET_BITS=64',
    optimize='-O2 -g',
    cppflags='-D_REENTRANT -D_GNU_SOURCE -fwrapv -fno-strict-aliasing -pipe -fstack-protector -I/usr/local/include'
    ccversion='', gccversion='6.2.1 20161124', gccosandvers=''
    intsize=4, longsize=8, ptrsize=8, doublesize=8, byteorder=12345678
    d_longlong=define, longlongsize=8, d_longdbl=define, longdblsize=16
    ivtype='long', ivsize=8, nvtype='double', nvsize=8, Off_t='off_t', lseeksize=8
    alignbytes=8, prototype=define
  Linker and Libraries:
    ld='cc', ldflags =' -fstack-protector -L/usr/local/lib'
    libpth=/usr/local/lib /usr/lib/gcc/x86_64-linux-gnu/6/include-fixed /usr/include/x86_64-linux-gnu /usr/lib /lib/x86_64-linux-gnu /lib/../lib /usr/lib/x86_64-linux-gnu /usr/lib/../lib /lib
    libs=-lpthread -lnsl -ldl -lm -lcrypt -lutil -lc
    perllibs=-lpthread -lnsl -ldl -lm -lcrypt -lutil -lc
    libc=libc-2.24.so, so=so, useshrplib=false, libperl=libperl.a
    gnulibc_version='2.24'
  Dynamic Linking:
    dlsrc=dl_dlopen.xs, dlext=so, d_dlsymun=undef, ccdlflags='-Wl,-E'
    cccdlflags='-fPIC', lddlflags='-shared -O2 -g -L/usr/local/lib -fstack-protector'


Characteristics of this binary (from libperl): 
  Compile-time options: HAS_TIMES MULTIPLICITY PERLIO_LAYERS
                        PERL_DONT_CREATE_GVSV
                        PERL_HASH_FUNC_ONE_AT_A_TIME_HARD
                        PERL_IMPLICIT_CONTEXT PERL_MALLOC_WRAP
                        PERL_NEW_COPY_ON_WRITE PERL_PRESERVE_IVUV
                        PERL_USE_DEVEL USE_64_BIT_ALL USE_64_BIT_INT
                        USE_ITHREADS USE_LARGE_FILES USE_LOCALE
                        USE_LOCALE_COLLATE USE_LOCALE_CTYPE
                        USE_LOCALE_NUMERIC USE_PERLIO USE_PERL_ATOF
                        USE_REENTRANT_API
  Locally applied patches:
	uncommitted-changes
  Built under linux
  Compiled at Dec 14 2016 20:15:13
  %ENV:
    PERL5LIB=""
    PERL5OPT=""
    PERL5_CPANPLUS_IS_RUNNING="11035"
    PERL5_CPAN_IS_RUNNING="11035"
    PERL_CANARY_STABILITY_NOPROMPT="1"
    PERL_MM_USE_DEFAULT="1"
    PERL_USE_UNSAFE_INC="1"
  @INC:
    /home/sand/src/perl/repoperls/installed-perls/host/k93msid/v5.20.3/f11c/lib/site_perl/5.20.3/x86_64-linux-thread-multi
    /home/sand/src/perl/repoperls/installed-perls/host/k93msid/v5.20.3/f11c/lib/site_perl/5.20.3
    /home/sand/src/perl/repoperls/installed-perls/host/k93msid/v5.20.3/f11c/lib/5.20.3/x86_64-linux-thread-multi
    /home/sand/src/perl/repoperls/installed-perls/host/k93msid/v5.20.3/f11c/lib/5.20.3
    .