Report for Catalyst-DispatchType-Regex-5.90033

Back
From: metabase:user:e83797c6-6da0-1014-84df-33ea7e0f01d3
Subject: UNKNOWN Catalyst-DispatchType-Regex-5.90033 v5.14.2 Windows (Cygwin)
Date: 2013-09-09T00:29:15Z

This distribution has been tested as part of the CPAN Testers
project, supporting the Perl programming language.  See
http://wiki.cpantesters.org/ for more information or email
questions to cpan-testers-discuss@perl.org


--
Dear Mark Grimes,

This is a computer-generated report for Catalyst-DispatchType-Regex-5.90033
on perl 5.14.2, created by CPAN-Reporter-1.2010.

Thank you for uploading your work to CPAN.  However, attempting to
test your distribution gave an inconclusive result.

This could be because your distribution had an error during the make/build
stage, did not define tests, tests could not be found, because your tests were
interrupted before they finished, or because the results of the tests could not
be parsed.  You may wish to consult the CPAN Testers Wiki:

http://wiki.cpantesters.org/wiki/CPANAuthorNotes

Sections of this report:

    * Tester comments
    * Program output
    * Prerequisites
    * Environment and other context

------------------------------
TESTER COMMENTS
------------------------------

Additional comments from tester:

none provided

------------------------------
PROGRAM OUTPUT
------------------------------

Output from './Build test':

t/01use.t .............................................. skipped: Catalyst::Runtime required
t/aggregate/live_component_controller_action_regexp.t .. skipped: Catalyst::Runtime required
t/aggregate/live_priorities.t .......................... skipped: Catalyst::Runtime required
t/aggregate/unit_core_uri_for_action.t ................. skipped: Catalyst::Runtime required
Files=4, Tests=0,  0 wallclock secs ( 0.05 usr  0.02 sys +  0.20 cusr  0.14 csys =  0.40 CPU)
Result: NOTESTS

------------------------------
PREREQUISITES
------------------------------

Prerequisite modules loaded:

requires:

    Module               Need   Have  
    -------------------- ------ ------
    Moose                0      2.1005
    Text::Balanced       0      2.02  
    Text::SimpleTable    0      2.03  

build_requires:

    Module               Need   Have  
    -------------------- ------ ------
    Data::Dumper         0      2.145 
    MRO::Compat          0      0.12  
    namespace::autoclean 0      0.13  
    Scalar::Util         0      1.27  
    Test::More           0      0.98  

configure_requires:

    Module               Need   Have  
    -------------------- ------ ------
    Module::Build        0.4004 0.4005


------------------------------
ENVIRONMENT AND OTHER CONTEXT
------------------------------

Environment variables:

    COMSPEC = C:\Windows\system32\cmd.exe
    LANG = en_US.UTF-8
    NUMBER_OF_PROCESSORS = 4
    PATH = /usr/local/bin:/usr/bin:/cygdrive/c/Program Files (x86)/NVIDIA Corporation/PhysX/Common:/cygdrive/c/Windows/system32:/cygdrive/c/Windows:/cygdrive/c/Windows/System32/Wbem:/cygdrive/c/Windows/System32/WindowsPowerShell/v1.0
    PERL5LIB = 
    PERL5OPT = 
    PERL5_CPANPLUS_IS_RUNNING = 3876
    PERL5_CPAN_IS_RUNNING = 3876
    PROCESSOR_IDENTIFIER = AMD64 Family 16 Model 4 Stepping 3, AuthenticAMD
    SHELL = /bin/bash
    TEMP = /tmp
    TERM = xterm

Perl special variables (and OS-specific diagnostics, for MSWin32):

    $^X = /usr/bin/perl
    $UID/$EUID = 1000 / 1000
    $GID = 513 545 1002 513
    $EGID = 513 545 1002 513

Perl module toolchain versions installed:

    Module              Have    
    ------------------- --------
    CPAN                2.00    
    CPAN::Meta          2.131490
    Cwd                 3.40    
    ExtUtils::CBuilder  0.280210
    ExtUtils::Command   1.17    
    ExtUtils::Install   1.56    
    ExtUtils::MakeMaker 6.76    
    ExtUtils::Manifest  1.61    
    ExtUtils::ParseXS   3.18    
    File::Spec          3.40    
    JSON                2.58    
    JSON::PP            2.27202 
    Module::Build       0.4005  
    Module::Signature   0.68    
    Parse::CPAN::Meta   1.4405  
    Test::Harness       3.28    
    Test::More          0.98    
    YAML                0.84    
    YAML::Syck          n/a     
    version             0.88    


--

Summary of my perl5 (revision 5 version 14 subversion 2) configuration:
   
  Platform:
    osname=cygwin, osvers=1.7.15(0.26053), archname=cygwin-thread-multi-64int
    uname='cygwin_nt-5.1 winxp 1.7.15(0.26053) 2012-05-09 10:25 i686 cygwin '
    config_args='-de -Dlibperl=cygperl5_14.dll -Dcc=gcc-4 -Dld=g++-4 -Darchname=i686-cygwin-threads-64int -Dmksymlinks -Dusethreads -Accflags=-g'
    hint=recommended, useposix=true, d_sigaction=define
    useithreads=define, usemultiplicity=define
    useperlio=define, d_sfio=undef, uselargefiles=define, usesocks=undef
    use64bitint=define, use64bitall=undef, uselongdouble=undef
    usemymalloc=n, bincompat5005=undef
  Compiler:
    cc='gcc-4', ccflags ='-DPERL_USE_SAFE_PUTENV -U__STRICT_ANSI__ -g -fno-strict-aliasing -pipe -fstack-protector',
    optimize='-O3',
    cppflags='-DPERL_USE_SAFE_PUTENV -U__STRICT_ANSI__ -g -fno-strict-aliasing -pipe -fstack-protector'
    ccversion='', gccversion='4.5.3', gccosandvers=''
    intsize=4, longsize=4, ptrsize=4, doublesize=8, byteorder=12345678
    d_longlong=define, longlongsize=8, d_longdbl=define, longdblsize=12
    ivtype='long long', ivsize=8, nvtype='double', nvsize=8, Off_t='off_t', lseeksize=8
    alignbytes=8, prototype=define
  Linker and Libraries:
    ld='g++-4', ldflags =' -Wl,--enable-auto-import -Wl,--export-all-symbols -Wl,--enable-auto-image-base -fstack-protector -L/usr/local/lib'
    libpth=/usr/local/lib /usr/lib /lib
    libs=-lgdbm -ldb -ldl -lcrypt -lgdbm_compat
    perllibs=-ldl -lcrypt
    libc=/usr/lib/libc.a, so=dll, useshrplib=true, libperl=cygperl5_14.dll
    gnulibc_version=''
  Dynamic Linking:
    dlsrc=dl_dlopen.xs, dlext=dll, d_dlsymun=undef, ccdlflags=' '
    cccdlflags=' ', lddlflags=' --shared  -Wl,--enable-auto-import -Wl,--export-all-symbols -Wl,--enable-auto-image-base -L/usr/local/lib -fstack-protector'


Characteristics of this binary (from libperl): 
  Compile-time options: MULTIPLICITY PERL_DONT_CREATE_GVSV
                        PERL_IMPLICIT_CONTEXT PERL_PRESERVE_IVUV
                        PERL_USE_SAFE_PUTENV USE_64_BIT_INT USE_ITHREADS
                        USE_LARGE_FILES USE_PERLIO USE_PERL_ATOF
                        USE_REENTRANT_API
  Locally applied patches:
	Bug#55162 File::Spec::case_tolerant performance
	CYG07 $vendorarch/auto/.rebase
	CYG15 static Win32CORE
	CYG17 cyg-1.7 paths-utf8
	0c612ce82 Fix building static extensions on cygwin, -UUSEIMPORTLIB
	1bac5ecc1 Fix 64-bit threading sv.c: S_anonymise_cv_maybe
	Cygwin::sync_winenv added
  Built under cygwin
  Compiled at Jul 12 2012 14:17:21
  %ENV:
    PERL5LIB=""
    PERL5OPT=""
    PERL5_CPANPLUS_IS_RUNNING="3876"
    PERL5_CPAN_IS_RUNNING="3876"
  @INC:
    /usr/lib/perl5/site_perl/5.14/i686-cygwin-threads-64int
    /usr/lib/perl5/site_perl/5.14
    /usr/lib/perl5/vendor_perl/5.14/i686-cygwin-threads-64int
    /usr/lib/perl5/vendor_perl/5.14
    /usr/lib/perl5/5.14/i686-cygwin-threads-64int
    /usr/lib/perl5/5.14
    /usr/lib/perl5/site_perl/5.10
    /usr/lib/perl5/vendor_perl/5.10
    /usr/lib/perl5/site_perl/5.8
    .