Report for WebService-SQLFormat-0.000004

Back
From: metabase:user:314402c4-2aae-11df-837a-5e0a49663a4f
Subject: PASS WebService-SQLFormat-0.000004 v5.18.2 FreeBSD
Date: 2016-06-30T22:14:12Z

This distribution has been tested as part of the CPAN Testers
project, supporting the Perl programming language.  See
http://wiki.cpantesters.org/ for more information or email
questions to cpan-testers-discuss@perl.org


--
Dear Olaf Alders,

This is a computer-generated report for WebService-SQLFormat-0.000004
on perl 5.18.2, created by CPAN-Reporter-1.2018.

Thank you for uploading your work to CPAN.  Congratulations!
All tests were successful.

Sections of this report:

    * Tester comments
    * Program output
    * Prerequisites
    * Environment and other context

------------------------------
TESTER COMMENTS
------------------------------

Additional comments from tester:

none provided

------------------------------
PROGRAM OUTPUT
------------------------------

Output from './Build test':

POST http://sqlformat.org/api/v1/format

POST Params:

.----------------+-------------------.
| Key            | Value             |
+----------------+-------------------+
| reindent       | 1                 |
| sql            | selecT * from foo |
| strip_comments | 0                 |
'----------------+-------------------'

.-----------------+-----------------------------------.
| Request Header  | Value                             |
+-----------------+-----------------------------------+
| Accept-Encoding | gzip, x-gzip, deflate, x-bzip2    |
| Content-Length  | 49                                |
| Content-Type    | application/x-www-form-urlencoded |
| User-Agent      | libwww-perl/6.15                  |
'-----------------+-----------------------------------'

==> 200 OK

.------------------------------+-------------------------------.
| Response Header              | Value                         |
+------------------------------+-------------------------------+
| Access-Control-Allow-Headers | CONTENT-TYPE                  |
| Access-Control-Allow-Methods | HEAD, GET, POST, OPTIONS      |
| Access-Control-Allow-Origin  | *                             |
| Access-Control-Max-Age       | 21600                         |
| Client-Date                  | Thu, 30 Jun 2016 22:13:11 GMT |
| Client-Peer                  | 192.241.248.5:80              |
| Client-Response-Num          | 1                             |
| Connection                   | close                         |
| Content-Length               | 32                            |
| Content-Type                 | application/json              |
| Date                         | Thu, 30 Jun 2016 22:13:13 GMT |
| Server                       | nginx/1.6.2 (Ubuntu)          |
| X-Sentry-ID                  | None                          |
'------------------------------+-------------------------------'

.----------------------------------.
| Content                          |
+----------------------------------+
| {"result": "selecT *\nfrom foo"} |
'----------------------------------'

.----------------------------------------.
| Text                                   |
+----------------------------------------+
| {                                      |
|     result => "selecT *                |
| from foo",                             |
| }                                      |
'----------------------------------------'

# "selecT *
# from foo"
t/WebService/SQLFormat.t .. ok
t/release-cpan-changes.t .. skipped: these tests are for release candidate testing
t/release-synopsis.t ...... skipped: these tests are for release candidate testing
All tests successful.
Files=3, Tests=2,  3 wallclock secs ( 0.16 usr  0.06 sys +  1.36 cusr  0.45 csys =  2.04 CPU)
Result: PASS

------------------------------
PREREQUISITES
------------------------------

Prerequisite modules loaded:

requires:

    Module              Need  Have    
    ------------------- ----- --------
    JSON::MaybeXS       0     1.003005
    LWP::UserAgent      0     6.15    
    Module::Runtime     0     0.014   
    Moo                 0     2.001001
    perl                5.006 5.018002
    Types::Standard     0     1.000005
    Types::URI          0     0.006   

build_requires:

    Module              Need  Have    
    ------------------- ----- --------
    DDP                 0     0.38    
    Module::Build       0.28  0.4218  
    perl                5.006 5.018002
    strict              0     1.07    
    Test2::Bundle::More 0     0.000041
    warnings            0     1.18    

configure_requires:

    Module              Need  Have    
    ------------------- ----- --------
    ExtUtils::MakeMaker 0     7.18    
    Module::Build       0.28  0.4218  
    perl                5.004 5.018002


------------------------------
ENVIRONMENT AND OTHER CONTEXT
------------------------------

Environment variables:

    LC_ALL = de_DE.ISO8859-1
    PATH = /usr/local/bin:/usr/bin:/bin:/usr/local/sbin:/usr/sbin:/sbin:/home/cpansand/bin/freebsd9.3:/home/cpansand/bin/sh:/home/cpansand/bin:/usr/games:/home/cpansand/devel:/usr/home/eserte/src/srezic-misc/scripts
    PERL5LIB = /home/eserte/.cpan/build/2016070100/Algorithm-Easing-0.875-OFipXF/blib/arch:/home/eserte/.cpan/build/2016070100/Algorithm-Easing-0.875-OFipXF/blib/lib:/home/eserte/.cpan/build/2016070100/Text-BibTeX-0.75_03-y5w8CA/blib/arch:/home/eserte/.cpan/build/2016070100/Text-BibTeX-0.75_03-y5w8CA/blib/lib:/home/eserte/.cpan/build/2016070100/Keyword-Declare-0.000005-NPH_Gg/blib/arch:/home/eserte/.cpan/build/2016070100/Keyword-Declare-0.000005-NPH_Gg/blib/lib
    PERL5OPT = 
    PERL5_CPANPLUS_IS_RUNNING = 72491
    PERL5_CPAN_IS_RUNNING = 72491
    PERL5_CPAN_IS_RUNNING_IN_RECURSION = 72435,72491
    PERLDOC = -MPod::Perldoc::ToTextOverstrike
    PERL_BATCH = yes
    PERL_CANARY_STABILITY_NOPROMPT = 1
    PERL_CPAN_REPORTER_CONFIG = /var/tmp/cpansmoker-1023/2016070100/cpanreporter_000_config.ini
    PERL_EXTUTILS_AUTOINSTALL = --defaultdeps
    SHELL = /usr/local/bin/zsh
    TERM = screen
    TMPDIR = /var/tmp/cpansmoker-1023/2016070100

Perl special variables (and OS-specific diagnostics, for MSWin32):

    $^X = /usr/perl5.18.2/bin/perl
    $UID/$EUID = 1023 / 1023
    $GID = 1023 1023
    $EGID = 1023 1023

Perl module toolchain versions installed:

    Module              Have    
    ------------------- --------
    CPAN                2.10    
    CPAN::Meta          2.150005
    Cwd                 3.62    
    ExtUtils::CBuilder  0.280223
    ExtUtils::Command   7.18    
    ExtUtils::Install   2.04    
    ExtUtils::MakeMaker 7.18    
    ExtUtils::Manifest  1.70    
    ExtUtils::ParseXS   3.30    
    File::Spec          3.62    
    JSON                2.90    
    JSON::PP            2.27300 
    Module::Build       0.4218  
    Module::Signature   0.80    
    Parse::CPAN::Meta   1.4417  
    Test::Harness       3.36    
    Test::More          1.302035
    YAML                1.15    
    YAML::Syck          1.29    
    version             0.9917  


--

Summary of my perl5 (revision 5 version 18 subversion 2) configuration:
   
  Platform:
    osname=freebsd, osvers=9.2-release-p4, archname=amd64-freebsd
    uname='freebsd cvrsnica-freebsd-92 9.2-release-p4 freebsd 9.2-release-p4 #0: tue apr 8 18:08:22 utc 2014 root@amd64-builder.daemonology.net:usrobjusrsrcsysgeneric amd64 '
    config_args='-ds -e -Dprefix=/usr/perl5.18.2'
    hint=recommended, useposix=true, d_sigaction=define
    useithreads=undef, usemultiplicity=undef
    useperlio=define, d_sfio=undef, uselargefiles=define, usesocks=undef
    use64bitint=define, use64bitall=define, uselongdouble=undef
    usemymalloc=n, bincompat5005=undef
  Compiler:
    cc='cc', ccflags ='-DHAS_FPSETMASK -DHAS_FLOATINGPOINT_H -fno-strict-aliasing -pipe -fstack-protector -I/usr/local/include',
    optimize='-O',
    cppflags='-DHAS_FPSETMASK -DHAS_FLOATINGPOINT_H -fno-strict-aliasing -pipe -fstack-protector -I/usr/local/include'
    ccversion='', gccversion='4.2.1 20070831 patched [FreeBSD]', gccosandvers=''
    intsize=4, longsize=8, ptrsize=8, doublesize=8, byteorder=12345678
    d_longlong=define, longlongsize=8, d_longdbl=define, longdblsize=16
    ivtype='long', ivsize=8, nvtype='double', nvsize=8, Off_t='off_t', lseeksize=8
    alignbytes=8, prototype=define
  Linker and Libraries:
    ld='cc', ldflags ='-Wl,-E  -fstack-protector -L/usr/local/lib'
    libpth=/usr/lib /usr/local/lib
    libs=-lgdbm -lm -lcrypt -lutil -lc
    perllibs=-lm -lcrypt -lutil -lc
    libc=, so=so, useshrplib=false, libperl=libperl.a
    gnulibc_version=''
  Dynamic Linking:
    dlsrc=dl_dlopen.xs, dlext=so, d_dlsymun=undef, ccdlflags=' '
    cccdlflags='-DPIC -fPIC', lddlflags='-shared  -L/usr/local/lib -fstack-protector'


Characteristics of this binary (from libperl): 
  Compile-time options: HAS_TIMES PERLIO_LAYERS PERL_DONT_CREATE_GVSV
                        PERL_HASH_FUNC_ONE_AT_A_TIME_HARD PERL_MALLOC_WRAP
                        PERL_PRESERVE_IVUV PERL_SAWAMPERSAND USE_64_BIT_ALL
                        USE_64_BIT_INT USE_LARGE_FILES USE_LOCALE
                        USE_LOCALE_COLLATE USE_LOCALE_CTYPE
                        USE_LOCALE_NUMERIC USE_PERLIO USE_PERL_ATOF
  Built under freebsd
  Compiled at May 16 2014 01:27:28
  %ENV:
    PERL5LIB="/home/eserte/.cpan/build/2016070100/Algorithm-Easing-0.875-OFipXF/blib/arch:/home/eserte/.cpan/build/2016070100/Algorithm-Easing-0.875-OFipXF/blib/lib:/home/eserte/.cpan/build/2016070100/Text-BibTeX-0.75_03-y5w8CA/blib/arch:/home/eserte/.cpan/build/2016070100/Text-BibTeX-0.75_03-y5w8CA/blib/lib:/home/eserte/.cpan/build/2016070100/Keyword-Declare-0.000005-NPH_Gg/blib/arch:/home/eserte/.cpan/build/2016070100/Keyword-Declare-0.000005-NPH_Gg/blib/lib"
    PERL5OPT=""
    PERL5_CPANPLUS_IS_RUNNING="72491"
    PERL5_CPAN_IS_RUNNING="72491"
    PERL5_CPAN_IS_RUNNING_IN_RECURSION="72435,72491"
    PERLDOC="-MPod::Perldoc::ToTextOverstrike"
    PERL_BATCH="yes"
    PERL_CANARY_STABILITY_NOPROMPT="1"
    PERL_CPAN_REPORTER_CONFIG="/var/tmp/cpansmoker-1023/2016070100/cpanreporter_000_config.ini"
    PERL_EXTUTILS_AUTOINSTALL="--defaultdeps"
  @INC:
    /home/eserte/.cpan/build/2016070100/Algorithm-Easing-0.875-OFipXF/blib/arch
    /home/eserte/.cpan/build/2016070100/Algorithm-Easing-0.875-OFipXF/blib/lib
    /home/eserte/.cpan/build/2016070100/Text-BibTeX-0.75_03-y5w8CA/blib/arch
    /home/eserte/.cpan/build/2016070100/Text-BibTeX-0.75_03-y5w8CA/blib/lib
    /home/eserte/.cpan/build/2016070100/Keyword-Declare-0.000005-NPH_Gg/blib/arch
    /home/eserte/.cpan/build/2016070100/Keyword-Declare-0.000005-NPH_Gg/blib/lib
    /usr/perl5.18.2/lib/site_perl/5.18.2/amd64-freebsd
    /usr/perl5.18.2/lib/site_perl/5.18.2
    /usr/perl5.18.2/lib/5.18.2/amd64-freebsd
    /usr/perl5.18.2/lib/5.18.2
    .