Back
From: metabase:user:089b14b4-bfc8-11e1-a5a4-5b66e6031cdb
Subject: PASS HTTP-Body-1.15 v5.10.1 GNU/Linux
Date: 2012-09-26T16:05:21Z
This distribution has been tested as part of the CPAN Testers
project, supporting the Perl programming language. See
http://wiki.cpantesters.org/ for more information or email
questions to cpan-testers-discuss@perl.org
--
Dear Torsten Raudssus,
This is a computer-generated report for HTTP-Body-1.15
on perl 5.10.1, created by CPAN-Reporter-1.2006.
Thank you for uploading your work to CPAN. Congratulations!
All tests were successful.
Sections of this report:
* Tester comments
* Program output
* Prerequisites
* Environment and other context
------------------------------
TESTER COMMENTS
------------------------------
Additional comments from tester:
none provided
------------------------------
PROGRAM OUTPUT
------------------------------
Output from '/usr/bin/make test':
PERL_DL_NONLAZY=1 /usr/bin/perl "-MExtUtils::Command::MM" "-e" "test_harness(0, 'blib/lib', 'blib/arch')" t/*.t
t/01use.t ............... ok
t/02pod.t ............... skipped: set TEST_POD to enable this test
t/03podcoverage.t ....... skipped: set TEST_POD to enable this test
t/04critic.t ............ skipped: Critic test only for developers.
t/04multipart.t ......... ok
t/05urlencoded.t ........ ok
t/06octetstream.t ....... ok
t/07xforms.t ............ ok
t/08multipart-suffix.t .. ok
All tests successful.
Files=9, Tests=223, 1 wallclock secs ( 0.04 usr 0.01 sys + 0.36 cusr 0.06 csys = 0.47 CPU)
Result: PASS
------------------------------
PREREQUISITES
------------------------------
Prerequisite modules loaded:
requires:
Module Need Have
------------------- ---- -----
Carp 0 1.26
Digest::MD5 0 2.39
File::Temp 0.14 0.22
HTTP::Headers 0 5.827
IO::File 1.14 1.14
build_requires:
Module Need Have
------------------- ---- -----
Test::Deep 0 0.110
Test::More 0.86 0.98
configure_requires:
Module Need Have
------------------- ---- -----
ExtUtils::MakeMaker 6.30 6.62
------------------------------
ENVIRONMENT AND OTHER CONTEXT
------------------------------
Environment variables:
LANG = en_US.utf8
MANPATH_WITHOUT_PERLBREW = /home/sscaffidi/perl5/man:/usr/local/share/man:/usr/share/man/overrides:/usr/share/man/en:/usr/share/man:/usr/man
PATH = /home/sscaffidi/perl5/perlbrew/bin:/home/sscaffidi/bin/maven-lib/bin:/home/sscaffidi/perl5/bin:/home/sscaffidi/bin/maven-lib/bin:/home/sscaffidi/perl5/bin:/usr/lib64/qt-3.3/bin:/usr/local/bin:/usr/bin:/bin:/usr/local/sbin:/usr/sbin:/sbin:/home/sscaffidi/bin
PATH_WITHOUT_PERLBREW = /home/sscaffidi/bin/maven-lib/bin:/home/sscaffidi/perl5/bin:/home/sscaffidi/bin/maven-lib/bin:/home/sscaffidi/perl5/bin:/usr/lib64/qt-3.3/bin:/usr/local/bin:/usr/bin:/bin:/usr/local/sbin:/usr/sbin:/sbin:/home/sscaffidi/bin
PERL5LIB = /home/sscaffidi/perl5/lib/perl5/x86_64-linux-thread-multi:/home/sscaffidi/perl5/lib/perl5:/home/sscaffidi/perl5/lib/perl5/x86_64-linux-thread-multi:/home/sscaffidi/perl5/lib/perl5
PERL5OPT =
PERL5_CPANPLUS_IS_RUNNING = 27625
PERL5_CPAN_IS_RUNNING = 27625
PERLBREW_BASHRC_VERSION = 0.50
PERLBREW_HOME = /home/sscaffidi/.perlbrew
PERLBREW_ROOT = /home/sscaffidi/perl5/perlbrew
PERL_LOCAL_LIB_ROOT = /home/sscaffidi/perl5
PERL_MB_OPT = --install_base /home/sscaffidi/perl5
PERL_MM_OPT = INSTALL_BASE=/home/sscaffidi/perl5
SHELL = /bin/bash
TERM = xterm
Perl special variables (and OS-specific diagnostics, for MSWin32):
$^X = /usr/bin/perl
$UID/$EUID = 500 / 500
$GID = 500 3 10 500
$EGID = 500 3 10 500
Perl module toolchain versions installed:
Module Have
------------------- --------
CPAN 1.9800
CPAN::Meta 2.120921
Cwd 3.33
ExtUtils::CBuilder 0.280205
ExtUtils::Command 1.16
ExtUtils::Install 1.54
ExtUtils::MakeMaker 6.62
ExtUtils::Manifest 1.58
ExtUtils::ParseXS 3.15
File::Spec 3.33
JSON 2.53
JSON::PP 2.27200
Module::Build 0.4003
Module::Signature 0.68
Parse::CPAN::Meta 1.4404
Test::Harness 3.25
Test::More 0.98
YAML 0.84
YAML::Syck 1.21
version 0.9901
--
Summary of my perl5 (revision 5 version 10 subversion 1) configuration:
Platform:
osname=linux, osvers=2.6.32-220.el6.x86_64, archname=x86_64-linux-thread-multi
uname='linux c6b7.bsys.dev.centos.org 2.6.32-220.el6.x86_64 #1 smp tue dec 6 19:48:22 gmt 2011 x86_64 x86_64 x86_64 gnulinux '
config_args='-des -Doptimize=-O2 -g -pipe -Wall -Wp,-D_FORTIFY_SOURCE=2 -fexceptions -fstack-protector --param=ssp-buffer-size=4 -m64 -mtune=generic -DDEBUGGING=-g -Dversion=5.10.1 -Dmyhostname=localhost -Dperladmin=root@localhost -Dcc=gcc -Dcf_by=Red Hat, Inc. -Dprefix=/usr -Dvendorprefix=/usr -Dsiteprefix=/usr/local -Dsitelib=/usr/local/share/perl5 -Dsitearch=/usr/local/lib64/perl5 -Dprivlib=/usr/share/perl5 -Darchlib=/usr/lib64/perl5 -Dvendorlib=/usr/share/perl5/vendor_perl -Dvendorarch=/usr/lib64/perl5/vendor_perl -Dinc_version_list=5.10.0 -Darchname=x86_64-linux-thread-multi -Dlibpth=/usr/local/lib64 /lib64 /usr/lib64 -Duseshrplib -Dusethreads -Duseithreads -Duselargefiles -Dd_dosuid -Dd_semctl_semun -Di_db -Ui_ndbm -Di_gdbm -Di_shadow -Di_syslog -Dman3ext=3pm -Duseperlio -Dinstallusrbinperl=n -Ubincompat5005 -Uversiononly -Dpager=/usr/bin/less -isr -Dd_gethostent_r_proto -Ud_endhostent_r_proto -Ud_sethostent_r_proto -Ud_endprotoent_r_proto -Ud_setprotoent_r_proto -Ud_endservent_r_proto -Ud_setservent_r_proto -Dscriptdir=/usr/bin -Dusesitecustomize'
hint=recommended, useposix=true, d_sigaction=define
useithreads=define, usemultiplicity=define
useperlio=define, d_sfio=undef, uselargefiles=define, usesocks=undef
use64bitint=define, use64bitall=define, uselongdouble=undef
usemymalloc=n, bincompat5005=undef
Compiler:
cc='gcc', ccflags ='-D_REENTRANT -D_GNU_SOURCE -fno-strict-aliasing -pipe -fstack-protector -I/usr/local/include -D_LARGEFILE_SOURCE -D_FILE_OFFSET_BITS=64',
optimize='-O2 -g -pipe -Wall -Wp,-D_FORTIFY_SOURCE=2 -fexceptions -fstack-protector --param=ssp-buffer-size=4 -m64 -mtune=generic',
cppflags='-D_REENTRANT -D_GNU_SOURCE -fno-strict-aliasing -pipe -fstack-protector -I/usr/local/include'
ccversion='', gccversion='4.4.6 20120305 (Red Hat 4.4.6-4)', gccosandvers=''
intsize=4, longsize=8, ptrsize=8, doublesize=8, byteorder=12345678
d_longlong=define, longlongsize=8, d_longdbl=define, longdblsize=16
ivtype='long', ivsize=8, nvtype='double', nvsize=8, Off_t='off_t', lseeksize=8
alignbytes=8, prototype=define
Linker and Libraries:
ld='gcc', ldflags =' -fstack-protector'
libpth=/usr/local/lib64 /lib64 /usr/lib64
libs=-lresolv -lnsl -lgdbm -ldb -ldl -lm -lcrypt -lutil -lpthread -lc
perllibs=-lresolv -lnsl -ldl -lm -lcrypt -lutil -lpthread -lc
libc=, so=so, useshrplib=true, libperl=libperl.so
gnulibc_version='2.12'
Dynamic Linking:
dlsrc=dl_dlopen.xs, dlext=so, d_dlsymun=undef, ccdlflags='-Wl,-E -Wl,-rpath,/usr/lib64/perl5/CORE'
cccdlflags='-fPIC', lddlflags='-shared -O2 -g -pipe -Wall -Wp,-D_FORTIFY_SOURCE=2 -fexceptions -fstack-protector --param=ssp-buffer-size=4 -m64 -mtune=generic'
Characteristics of this binary (from libperl):
Compile-time options: MULTIPLICITY PERL_DONT_CREATE_GVSV
PERL_IMPLICIT_CONTEXT PERL_MALLOC_WRAP USE_64_BIT_ALL
USE_64_BIT_INT USE_ITHREADS USE_LARGE_FILES
USE_PERLIO USE_REENTRANT_API USE_SITECUSTOMIZE
Built under linux
Compiled at Jun 22 2012 13:27:28
%ENV:
PERL5LIB="/home/sscaffidi/perl5/lib/perl5/x86_64-linux-thread-multi:/home/sscaffidi/perl5/lib/perl5:/home/sscaffidi/perl5/lib/perl5/x86_64-linux-thread-multi:/home/sscaffidi/perl5/lib/perl5"
PERL5OPT=""
PERL5_CPANPLUS_IS_RUNNING="27625"
PERL5_CPAN_IS_RUNNING="27625"
PERLBREW_BASHRC_VERSION="0.50"
PERLBREW_HOME="/home/sscaffidi/.perlbrew"
PERLBREW_ROOT="/home/sscaffidi/perl5/perlbrew"
PERL_LOCAL_LIB_ROOT="/home/sscaffidi/perl5"
PERL_MB_OPT="--install_base /home/sscaffidi/perl5"
PERL_MM_OPT="INSTALL_BASE=/home/sscaffidi/perl5"
@INC:
/home/sscaffidi/perl5/lib/perl5/x86_64-linux-thread-multi
/home/sscaffidi/perl5/lib/perl5/x86_64-linux-thread-multi
/home/sscaffidi/perl5/lib/perl5
/home/sscaffidi/perl5/lib/perl5/x86_64-linux-thread-multi
/home/sscaffidi/perl5/lib/perl5/x86_64-linux-thread-multi
/home/sscaffidi/perl5/lib/perl5
/usr/local/lib64/perl5
/usr/local/share/perl5
/usr/lib64/perl5/vendor_perl
/usr/share/perl5/vendor_perl
/usr/lib64/perl5
/usr/share/perl5
.