Report for MozRepl-RemoteObject-0.39

Back
From: metabase:user:30ae4450-2aae-11df-837a-5e0a49663a4f
Subject: PASS MozRepl-RemoteObject-0.39 v5.18.1 GNU/Linux
Date: 2014-12-03T12:43:25Z

This distribution has been tested as part of the CPAN Testers
project, supporting the Perl programming language.  See
http://wiki.cpantesters.org/ for more information or email
questions to cpan-testers-discuss@perl.org


--
Dear Max Maischein,

This is a computer-generated report for MozRepl-RemoteObject-0.39
on perl 5.18.1, created by CPAN-Reporter-1.2010.

Thank you for uploading your work to CPAN.  Congratulations!
All tests were successful.

Sections of this report:

    * Tester comments
    * Program output
    * Prerequisites
    * Environment and other context

------------------------------
TESTER COMMENTS
------------------------------

Additional comments from tester:

this report is from an automated smoke testing program
and was not reviewed by a human for accuracy

------------------------------
PROGRAM OUTPUT
------------------------------

Output from '/usr/bin/make test':

PERL_DL_NONLAZY=1 /home/c/perl5/perlbrew/perls/18.1i/bin/perl "-MExtUtils::Command::MM" "-MTest::Harness" "-e" "undef *Test::Harness::Switches; test_harness(0, 'blib/lib', 'blib/arch')" t/*.t
# Testing MozRepl::RemoteObject 0.39, Perl 5.018001
# Carp 1.29
# Config 5.018001
# Encode 2.49
# Encode::Alias 2.16
# Encode::Config 2.05
# Encode::Encoding 2.05
# Exporter 5.68
# Exporter::Heavy 5.68
# JSON 2.90
# JSON::XS 3.01
# List::Util 1.35
# MozRepl::RemoteObject 0.39
# MozRepl::RemoteObject::Methods 0.39
# PerlIO 1.07
# Scalar::Util 1.35
# Test::Builder 1.001002
# Test::Builder::Module 1.001002
# Test::More 1.001002
# Types::Serialiser 1.0
# XSLoader 0.16
# attributes 0.21
# base 2.18
# bytes 1.04
# common::sense 3.72
# constant 1.27
# overload 1.22
# overloading 0.02
# strict 1.07
# vars 1.03
# warnings 1.18
# warnings::register 1.02
t/00-load.t .................... ok
t/01-appversion.t .............. skipped: Couldn't connect to MozRepl: Failed to connect to , problem connecting to "localhost", port 4242: В соединении отказано at /home/c/.cpan/build/MozRepl-0.06-R0fV1X/blib/lib/MozRepl/Client.pm line 144
# --- Loading object functionality into repl
t/01-array.t ................... skipped: Couldn't connect to MozRepl: Failed to connect to , problem connecting to "localhost", port 4242: В соединении отказано at /home/c/.cpan/build/MozRepl-0.06-R0fV1X/blib/lib/MozRepl/Client.pm line 144
Too late to run CHECK block at /home/c/perl5/perlbrew/perls/18.1i/lib/site_perl/5.18.1/i686-linux-thread-multi/EV.pm line 123.
[error] В соединении отказано
t/01-backend-anyevent-timer.t .. skipped: Couldn't connect to Firefox: Failed to connect to , В соединении отказано at /home/c/.cpan/build/MozRepl-RemoteObject-0.39-02z7SN/blib/lib/MozRepl/AnyEvent.pm line 187.
Too late to run CHECK block at /home/c/perl5/perlbrew/perls/18.1i/lib/site_perl/5.18.1/i686-linux-thread-multi/EV.pm line 123.
t/01-backend-anyevent.t ........ skipped: Couldn't connect to Firefox: В соединении отказано at /home/c/.cpan/build/MozRepl-RemoteObject-0.39-02z7SN/blib/lib/MozRepl/AnyEvent.pm line 187.
t/01-callback-overhead.t ....... skipped: Couldn't connect to MozRepl: Failed to connect to , problem connecting to "localhost", port 4242: В соединении отказано at /home/c/.cpan/build/MozRepl-0.06-R0fV1X/blib/lib/MozRepl/Client.pm line 144
t/01-callback.t ................ skipped: Couldn't connect to MozRepl: Failed to connect to , problem connecting to "localhost", port 4242: В соединении отказано at /home/c/.cpan/build/MozRepl-0.06-R0fV1X/blib/lib/MozRepl/Client.pm line 144
t/01-constant.t ................ skipped: Couldn't connect to MozRepl: Failed to connect to , problem connecting to "localhost", port 4242: В соединении отказано at /home/c/.cpan/build/MozRepl-0.06-R0fV1X/blib/lib/MozRepl/Client.pm line 144
t/01-dive.t .................... skipped: Couldn't connect to MozRepl: Failed to connect to , problem connecting to "localhost", port 4242: В соединении отказано at /home/c/.cpan/build/MozRepl-0.06-R0fV1X/blib/lib/MozRepl/Client.pm line 144
Too late to run CHECK block at /home/c/perl5/perlbrew/perls/18.1i/lib/site_perl/5.18.1/i686-linux-thread-multi/EV.pm line 123.
[error] В соединении отказано
t/01-expr-anyevent.t ........... skipped: Couldn't connect to Firefix: Failed to connect to , В соединении отказано at /home/c/.cpan/build/MozRepl-RemoteObject-0.39-02z7SN/blib/lib/MozRepl/AnyEvent.pm line 187.
t/01-expr.t .................... skipped: Couldn't connect to MozRepl: Failed to connect to , problem connecting to "localhost", port 4242: В соединении отказано at /home/c/.cpan/build/MozRepl-0.06-R0fV1X/blib/lib/MozRepl/Client.pm line 144
t/01-hash.t .................... skipped: Couldn't connect to MozRepl: Failed to connect to , problem connecting to "localhost", port 4242: В соединении отказано at /home/c/.cpan/build/MozRepl-0.06-R0fV1X/blib/lib/MozRepl/Client.pm line 144
t/01-invoke.t .................. skipped: Couldn't connect to MozRepl: Failed to connect to , problem connecting to "localhost", port 4242: В соединении отказано at /home/c/.cpan/build/MozRepl-0.06-R0fV1X/blib/lib/MozRepl/Client.pm line 144
# --- Loading object functionality into repl
t/01-multiline-string.t ........ skipped: Couldn't connect to MozRepl: Failed to connect to , problem connecting to "localhost", port 4242: В соединении отказано at /home/c/.cpan/build/MozRepl-0.06-R0fV1X/blib/lib/MozRepl/Client.pm line 144
# --- Loading object functionality into repl
t/01-object.t .................. skipped: Couldn't connect to MozRepl: Failed to connect to , problem connecting to "localhost", port 4242: В соединении отказано at /home/c/.cpan/build/MozRepl-0.06-R0fV1X/blib/lib/MozRepl/Client.pm line 144
# --- Loading object functionality into repl
t/01-queue.t ................... skipped: Couldn't connect to MozRepl: Failed to connect to , problem connecting to "localhost", port 4242: В соединении отказано at /home/c/.cpan/build/MozRepl-0.06-R0fV1X/blib/lib/MozRepl/Client.pm line 144
t/01-release-action.t .......... skipped: Couldn't connect to MozRepl: Failed to connect to , problem connecting to "localhost", port 4242: В соединении отказано at /home/c/.cpan/build/MozRepl-0.06-R0fV1X/blib/lib/MozRepl/Client.pm line 144
t/02-multiple-instances.t ...... skipped: Couldn't connect to MozRepl: Failed to connect to , problem connecting to "localhost", port 4242: В соединении отказано at /home/c/.cpan/build/MozRepl-0.06-R0fV1X/blib/lib/MozRepl/Client.pm line 144
t/02-repl.t .................... skipped: Couldn't connect to MozRepl: Failed to connect to , problem connecting to "localhost", port 4242: В соединении отказано at /home/c/.cpan/build/MozRepl-0.06-R0fV1X/blib/lib/MozRepl/Client.pm line 144
t/02-synopsis.t ................ skipped: Couldn't connect to MozRepl: Failed to connect to , problem connecting to "localhost", port 4242: В соединении отказано at /home/c/.cpan/build/MozRepl-0.06-R0fV1X/blib/lib/MozRepl/Client.pm line 144
t/03-unicode.t ................. skipped: Couldn't connect to MozRepl: Failed to connect to , problem connecting to "localhost", port 4242: В соединении отказано at /home/c/.cpan/build/MozRepl-0.06-R0fV1X/blib/lib/MozRepl/Client.pm line 144
t/04-looong-input.t ............ skipped: Couldn't connect to MozRepl: Failed to connect to , problem connecting to "localhost", port 4242: В соединении отказано at /home/c/.cpan/build/MozRepl-0.06-R0fV1X/blib/lib/MozRepl/Client.pm line 144
t/05-callback-parameter.t ...... skipped: Couldn't connect to MozRepl: Failed to connect to , problem connecting to "localhost", port 4242: В соединении отказано at /home/c/.cpan/build/MozRepl-0.06-R0fV1X/blib/lib/MozRepl/Client.pm line 144
t/10-xul-hud.t ................. skipped: Couldn't connect to MozRepl: Failed to connect to , problem connecting to "localhost", port 4242: В соединении отказано at /home/c/.cpan/build/MozRepl-0.06-R0fV1X/blib/lib/MozRepl/Client.pm line 144
t/11-memleak-callback.t ........ skipped: Couldn't connect to MozRepl: Failed to connect to , problem connecting to "localhost", port 4242: В соединении отказано at /home/c/.cpan/build/MozRepl-0.06-R0fV1X/blib/lib/MozRepl/Client.pm line 144
t/11-memleak-constant.t ........ skipped: Couldn't connect to MozRepl: Failed to connect to , problem connecting to "localhost", port 4242: В соединении отказано at /home/c/.cpan/build/MozRepl-0.06-R0fV1X/blib/lib/MozRepl/Client.pm line 144
t/11-memleak-declare.t ......... skipped: Couldn't connect to MozRepl: Failed to connect to , problem connecting to "localhost", port 4242: В соединении отказано at /home/c/.cpan/build/MozRepl-0.06-R0fV1X/blib/lib/MozRepl/Client.pm line 144
t/11-memleak.t ................. skipped: Couldn't connect to MozRepl: Failed to connect to , problem connecting to "localhost", port 4242: В соединении отказано at /home/c/.cpan/build/MozRepl-0.06-R0fV1X/blib/lib/MozRepl/Client.pm line 144
# Checking for version 0.39
t/99-changes.t ................. ok
t/99-manifest.t ................ ok
t/99-pod.t ..................... ok
t/99-todo.t .................... ok
t/99-unix-text.t ............... ok
# Checking for $VERSION = '0.39';
t/99-versions.t ................ ok
All tests successful.
Files=34, Tests=31,  3 wallclock secs ( 0.02 usr  0.23 sys +  2.23 cusr  0.66 csys =  3.14 CPU)
Result: PASS

------------------------------
PREREQUISITES
------------------------------

Prerequisite modules loaded:

requires:

    Module              Need  Have    
    ------------------- ----- --------
    Encode              0     2.49    
    Exporter            0     5.68    
    File::Basename      0     2.84    
  ! IPC::Run            0     n/a     
    JSON                2     2.90    
    MozRepl             0.06  0.06    
    parent              0     0.225   
    perl                5.006 5.018001
    Scalar::Util        0     1.35    

build_requires:

    Module              Need  Have    
    ------------------- ----- --------
    Task::Weaken        0     1.04    

configure_requires:

    Module              Need  Have    
    ------------------- ----- --------
    ExtUtils::MakeMaker 0     6.86    


------------------------------
ENVIRONMENT AND OTHER CONTEXT
------------------------------

Environment variables:

    AUTOMATED_TESTING = 1
    LANG = ru_RU.utf8
    PATH = /home/c/perl5/perlbrew/bin:/home/c/perl5/perlbrew/perls/18.1i/bin:/usr/local/bin:/usr/bin:/bin:/usr/local/games:/usr/games
    PERL5LIB = /home/c/.cpan/build/MozRepl-0.06-R0fV1X/blib/arch:/home/c/.cpan/build/MozRepl-0.06-R0fV1X/blib/lib:/home/c/.cpan/build/Template-Provider-FromDATA-0.13-GXeCCS/blib/arch:/home/c/.cpan/build/Template-Provider-FromDATA-0.13-GXeCCS/blib/lib:/home/c/.cpan/build/Module-Pluggable-Fast-0.19-ZE8Cxo/blib/arch:/home/c/.cpan/build/Module-Pluggable-Fast-0.19-ZE8Cxo/blib/lib:/home/c/.cpan/build/Data-JavaScript-Anon-1.03-80rb_U/blib/arch:/home/c/.cpan/build/Data-JavaScript-Anon-1.03-80rb_U/blib/lib:/home/c/.cpan/build/Class-Default-1.51-MnuxXw/blib/arch:/home/c/.cpan/build/Class-Default-1.51-MnuxXw/blib/lib:/home/c/.cpan/build/Object-Import-1.004-0R4OEM/blib/arch:/home/c/.cpan/build/Object-Import-1.004-0R4OEM/blib/lib
    PERL5OPT = 
    PERL5_CPANPLUS_IS_RUNNING = 2574
    PERL5_CPAN_IS_RUNNING = 2574
    PERL5_CPAN_IS_RUNNING_IN_RECURSION = 8892,2574
    PERLBREW_MANPATH = /home/c/perl5/perlbrew/perls/18.1i/man
    PERLBREW_PATH = /home/c/perl5/perlbrew/bin:/home/c/perl5/perlbrew/perls/18.1i/bin
    PERLBREW_PERL = 18.1i
    PERLBREW_ROOT = /home/c/perl5/perlbrew
    PERLBREW_SKIP_INIT = 1
    PERLBREW_VERSION = 0.67
    PERL_CR_SMOKER_CURRENT = WWW-Mechanize-Firefox-0.78
    PERL_EXTUTILS_AUTOINSTALL = --defaultdeps
    PERL_MM_USE_DEFAULT = 1
    SHELL = /bin/bash
    TERM = xterm

Perl special variables (and OS-specific diagnostics, for MSWin32):

    $^X = /home/c/perl5/perlbrew/perls/18.1i/bin/perl
    $UID/$EUID = 1000 / 1000
    $GID = 1000 24 25 29 30 44 46 103 105 108 110 1000
    $EGID = 1000 24 25 29 30 44 46 103 105 108 110 1000

Perl module toolchain versions installed:

    Module              Have    
    ------------------- --------
    CPAN                2.00    
    CPAN::Meta          2.133380
    Cwd                 3.40    
    ExtUtils::CBuilder  0.280210
    ExtUtils::Command   1.17    
    ExtUtils::Install   1.59    
    ExtUtils::MakeMaker 6.86    
    ExtUtils::Manifest  1.63    
    ExtUtils::ParseXS   3.22    
    File::Spec          3.40    
    JSON                2.90    
    JSON::PP            2.27203 
    Module::Build       0.4204  
    Module::Signature   n/a     
    Parse::CPAN::Meta   1.4405  
    Test::Harness       3.30    
    Test::More          1.001002
    YAML                0.88    
    YAML::Syck          1.27    
    version             0.9907  


--

Summary of my perl5 (revision 5 version 18 subversion 1) configuration:
   
  Platform:
    osname=linux, osvers=3.2.0-4-486, archname=i686-linux-thread-multi
    uname='linux deb7 3.2.0-4-486 #1 debian 3.2.51-1 i686 gnulinux '
    config_args='-de -Dprefix=/home/c/perl5/perlbrew/perls/18.1i -Dusethreads -Aeval:scriptdir=/home/c/perl5/perlbrew/perls/18.1i/bin'
    hint=recommended, useposix=true, d_sigaction=define
    useithreads=define, usemultiplicity=define
    useperlio=define, d_sfio=undef, uselargefiles=define, usesocks=undef
    use64bitint=undef, use64bitall=undef, uselongdouble=undef
    usemymalloc=n, bincompat5005=undef
  Compiler:
    cc='cc', ccflags ='-D_REENTRANT -D_GNU_SOURCE -fno-strict-aliasing -pipe -fstack-protector -I/usr/local/include -D_LARGEFILE_SOURCE -D_FILE_OFFSET_BITS=64',
    optimize='-O2',
    cppflags='-D_REENTRANT -D_GNU_SOURCE -fno-strict-aliasing -pipe -fstack-protector -I/usr/local/include'
    ccversion='', gccversion='4.7.2', gccosandvers=''
    intsize=4, longsize=4, ptrsize=4, doublesize=8, byteorder=1234
    d_longlong=define, longlongsize=8, d_longdbl=define, longdblsize=12
    ivtype='long', ivsize=4, nvtype='double', nvsize=8, Off_t='off_t', lseeksize=8
    alignbytes=4, prototype=define
  Linker and Libraries:
    ld='cc', ldflags =' -fstack-protector -L/usr/local/lib'
    libpth=/usr/local/lib /lib/i386-linux-gnu /lib/../lib /usr/lib/i386-linux-gnu /usr/lib/../lib /lib /usr/lib
    libs=-lnsl -lgdbm -ldb -ldl -lm -lcrypt -lutil -lpthread -lc -lgdbm_compat
    perllibs=-lnsl -ldl -lm -lcrypt -lutil -lpthread -lc
    libc=, so=so, useshrplib=false, libperl=libperl.a
    gnulibc_version='2.13'
  Dynamic Linking:
    dlsrc=dl_dlopen.xs, dlext=so, d_dlsymun=undef, ccdlflags='-Wl,-E'
    cccdlflags='-fPIC', lddlflags='-shared -O2 -L/usr/local/lib -fstack-protector'


Characteristics of this binary (from libperl): 
  Compile-time options: HAS_TIMES MULTIPLICITY PERLIO_LAYERS
                        PERL_DONT_CREATE_GVSV
                        PERL_HASH_FUNC_ONE_AT_A_TIME_HARD
                        PERL_IMPLICIT_CONTEXT PERL_MALLOC_WRAP
                        PERL_PRESERVE_IVUV PERL_SAWAMPERSAND USE_ITHREADS
                        USE_LARGE_FILES USE_LOCALE USE_LOCALE_COLLATE
                        USE_LOCALE_CTYPE USE_LOCALE_NUMERIC USE_PERLIO
                        USE_PERL_ATOF USE_REENTRANT_API
  Built under linux
  Compiled at Jan 14 2014 14:37:40
  %ENV:
    PERL5LIB="/home/c/.cpan/build/MozRepl-0.06-R0fV1X/blib/arch:/home/c/.cpan/build/MozRepl-0.06-R0fV1X/blib/lib:/home/c/.cpan/build/Template-Provider-FromDATA-0.13-GXeCCS/blib/arch:/home/c/.cpan/build/Template-Provider-FromDATA-0.13-GXeCCS/blib/lib:/home/c/.cpan/build/Module-Pluggable-Fast-0.19-ZE8Cxo/blib/arch:/home/c/.cpan/build/Module-Pluggable-Fast-0.19-ZE8Cxo/blib/lib:/home/c/.cpan/build/Data-JavaScript-Anon-1.03-80rb_U/blib/arch:/home/c/.cpan/build/Data-JavaScript-Anon-1.03-80rb_U/blib/lib:/home/c/.cpan/build/Class-Default-1.51-MnuxXw/blib/arch:/home/c/.cpan/build/Class-Default-1.51-MnuxXw/blib/lib:/home/c/.cpan/build/Object-Import-1.004-0R4OEM/blib/arch:/home/c/.cpan/build/Object-Import-1.004-0R4OEM/blib/lib"
    PERL5OPT=""
    PERL5_CPANPLUS_IS_RUNNING="2574"
    PERL5_CPAN_IS_RUNNING="2574"
    PERL5_CPAN_IS_RUNNING_IN_RECURSION="8892,2574"
    PERLBREW_MANPATH="/home/c/perl5/perlbrew/perls/18.1i/man"
    PERLBREW_PATH="/home/c/perl5/perlbrew/bin:/home/c/perl5/perlbrew/perls/18.1i/bin"
    PERLBREW_PERL="18.1i"
    PERLBREW_ROOT="/home/c/perl5/perlbrew"
    PERLBREW_SKIP_INIT="1"
    PERLBREW_VERSION="0.67"
    PERL_CR_SMOKER_CURRENT="WWW-Mechanize-Firefox-0.78"
    PERL_EXTUTILS_AUTOINSTALL="--defaultdeps"
    PERL_MM_USE_DEFAULT="1"
  @INC:
    /home/c/.cpan/build/MozRepl-0.06-R0fV1X/blib/arch
    /home/c/.cpan/build/MozRepl-0.06-R0fV1X/blib/lib
    /home/c/.cpan/build/Template-Provider-FromDATA-0.13-GXeCCS/blib/arch
    /home/c/.cpan/build/Template-Provider-FromDATA-0.13-GXeCCS/blib/lib
    /home/c/.cpan/build/Module-Pluggable-Fast-0.19-ZE8Cxo/blib/arch
    /home/c/.cpan/build/Module-Pluggable-Fast-0.19-ZE8Cxo/blib/lib
    /home/c/.cpan/build/Data-JavaScript-Anon-1.03-80rb_U/blib/arch
    /home/c/.cpan/build/Data-JavaScript-Anon-1.03-80rb_U/blib/lib
    /home/c/.cpan/build/Class-Default-1.51-MnuxXw/blib/arch
    /home/c/.cpan/build/Class-Default-1.51-MnuxXw/blib/lib
    /home/c/.cpan/build/Object-Import-1.004-0R4OEM/blib/arch
    /home/c/.cpan/build/Object-Import-1.004-0R4OEM/blib/lib
    /home/c/perl5/perlbrew/perls/18.1i/lib/site_perl/5.18.1/i686-linux-thread-multi
    /home/c/perl5/perlbrew/perls/18.1i/lib/site_perl/5.18.1
    /home/c/perl5/perlbrew/perls/18.1i/lib/5.18.1/i686-linux-thread-multi
    /home/c/perl5/perlbrew/perls/18.1i/lib/5.18.1
    .