Report for WWW-Shorten-Yourls-1.001

Back
From: metabase:user:314402c4-2aae-11df-837a-5e0a49663a4f
Subject: PASS WWW-Shorten-Yourls-1.001 v5.24.0 GNU/Linux
Date: 2017-03-14T02:07:28Z

This distribution has been tested as part of the CPAN Testers
project, supporting the Perl programming language.  See
http://wiki.cpantesters.org/ for more information or email
questions to cpan-testers-discuss@perl.org


--
Dear Chase Whitener,

This is a computer-generated report for WWW-Shorten-Yourls-1.001
on perl 5.24.0, created by CPAN-Reporter-1.2018.

Thank you for uploading your work to CPAN.  Congratulations!
All tests were successful.

Sections of this report:

    * Tester comments
    * Program output
    * Prerequisites
    * Environment and other context

------------------------------
TESTER COMMENTS
------------------------------

Additional comments from tester:

none provided

------------------------------
PROGRAM OUTPUT
------------------------------

Output from '/usr/bin/make test':

PERL_DL_NONLAZY=1 "/opt/perl-5.24.0/bin/perl" "-MExtUtils::Command::MM" "-MTest::Harness" "-e" "undef *Test::Harness::Switches; test_harness(0, 'blib/lib', 'blib/arch')" t/*.t
# 
# Versions for all modules listed in MYMETA.json (including optional ones):
# 
# === Configure Requires ===
# 
#     Module              Want Have
#     ------------------- ---- ----
#     ExtUtils::MakeMaker  any 7.24
# 
# === Build Requires ===
# 
#     Module              Want Have
#     ------------------- ---- ----
#     ExtUtils::MakeMaker  any 7.24
# 
# === Test Requires ===
# 
#     Module              Want     Have
#     ------------------- ---- --------
#     ExtUtils::MakeMaker  any     7.24
#     File::HomeDir       1.00     1.00
#     File::Spec           any     3.63
#     Path::Tiny           any    0.104
#     Test::More          0.88 1.302075
#     Try::Tiny           0.24     0.28
#     URI                 1.58     1.71
# 
# === Test Recommends ===
# 
#     Module         Want     Have
#     ---------- -------- --------
#     CPAN::Meta 2.120900 2.150005
# 
# === Runtime Requires ===
# 
#     Module               Want     Have
#     -------------------- ---- --------
#     Carp                  any     1.40
#     Exporter              any     5.72
#     File::HomeDir        1.00     1.00
#     File::Spec            any     3.63
#     JSON::MaybeXS         any 1.003009
#     LWP::Protocol::https  any     6.07
#     Path::Tiny            any    0.104
#     Scalar::Util          any     1.47
#     URI                  1.58     1.71
#     WWW::Shorten         3.09    3.093
#     base                  any     2.23
#     constant              any     1.33
#     strict                any     1.11
#     warnings              any     1.36
# 
t/00-report-prereqs.t .. ok
t/01-use.t ............. ok
t/01-use2.t ............ ok
t/02-attrs.t ........... ok
t/02-attrs2.t .......... ok
All tests successful.
Files=5, Tests=58,  1 wallclock secs ( 0.04 usr  0.01 sys +  0.70 cusr  0.14 csys =  0.89 CPU)
Result: PASS

------------------------------
PREREQUISITES
------------------------------

Prerequisite modules loaded:

requires:

    Module               Need     Have    
    -------------------- -------- --------
    base                 0        2.23    
    Carp                 0        1.40    
    constant             0        1.33    
    Exporter             0        5.72    
    File::HomeDir        1.00     1.00    
    File::Spec           0        3.63    
    JSON::MaybeXS        0        1.003009
    LWP::Protocol::https 0        6.07    
    Path::Tiny           0        0.104   
    perl                 5.008001 5.024000
    Scalar::Util         0        1.47    
    strict               0        1.11    
    URI                  1.58     1.71    
    warnings             0        1.36    
    WWW::Shorten         3.09     3.093   

build_requires:

    Module               Need     Have    
    -------------------- -------- --------
    ExtUtils::MakeMaker  0        7.24    
    File::HomeDir        1.00     1.00    
    File::Spec           0        3.63    
    Path::Tiny           0        0.104   
    Test::More           0.88     1.302075
    Try::Tiny            0.24     0.28    
    URI                  1.58     1.71    

configure_requires:

    Module               Need     Have    
    -------------------- -------- --------
    ExtUtils::MakeMaker  0        7.24    


------------------------------
ENVIRONMENT AND OTHER CONTEXT
------------------------------

Environment variables:

    LANG = en_US.UTF-8
    PATH = /usr/local/bin:/usr/bin:/bin:/usr/local/sbin:/usr/sbin:/sbin:/home/cpansand/bin/linux-gnu:/home/cpansand/bin/sh:/home/cpansand/bin:/usr/games:/home/cpansand/devel:/home/eserte/src/srezic-misc/scripts
    PERL5LIB = /home/cpansand/.cpan/build/2017031403/WWW-Shorten-Naver-0.03-0/blib/arch:/home/cpansand/.cpan/build/2017031403/WWW-Shorten-Naver-0.03-0/blib/lib:/home/cpansand/.cpan/build/2017031403/WWW-Shorten-Googl-1.100-0/blib/arch:/home/cpansand/.cpan/build/2017031403/WWW-Shorten-Googl-1.100-0/blib/lib:/home/cpansand/.cpan/build/2017031403/POE-Component-IRC-Plugin-WWW-Reddit-TIL-0.09-0/blib/arch:/home/cpansand/.cpan/build/2017031403/POE-Component-IRC-Plugin-WWW-Reddit-TIL-0.09-0/blib/lib:/home/cpansand/.cpan/build/2017031403/Cpanel-JSON-XS-3.0230-0/blib/arch:/home/cpansand/.cpan/build/2017031403/Cpanel-JSON-XS-3.0230-0/blib/lib
    PERL5OPT = 
    PERL5_CPANPLUS_IS_RUNNING = 18343
    PERL5_CPAN_IS_RUNNING = 18343
    PERL5_CPAN_IS_RUNNING_IN_RECURSION = 17103,18343
    PERLDOC = -MPod::Perldoc::ToTextOverstrike
    PERL_BATCH = yes
    PERL_CANARY_STABILITY_NOPROMPT = 1
    PERL_CPAN_REPORTER_CONFIG = /var/tmp/cpansmoker-1002/2017031215/cpanreporter_001_config.ini
    PERL_EXTUTILS_AUTOINSTALL = --defaultdeps
    SHELL = /bin/zsh
    TERM = screen
    TMPDIR = /var/tmp/cpansmoker-1002/2017031215

Perl special variables (and OS-specific diagnostics, for MSWin32):

    $^X = /opt/perl-5.24.0/bin/perl
    $UID/$EUID = 1002 / 1002
    $GID = 1002 1002
    $EGID = 1002 1002

Perl module toolchain versions installed:

    Module              Have    
    ------------------- --------
    CPAN                2.16    
    CPAN::Meta          2.150005
    Cwd                 3.63    
    ExtUtils::CBuilder  0.280225
    ExtUtils::Command   7.24    
    ExtUtils::Install   2.04    
    ExtUtils::MakeMaker 7.24    
    ExtUtils::Manifest  1.70    
    ExtUtils::ParseXS   3.31    
    File::Spec          3.63    
    JSON                2.90    
    JSON::PP            2.27400 
    Module::Build       0.4220  
    Module::Signature   0.81    
    Parse::CPAN::Meta   1.4417  
    Test::Harness       3.36    
    Test::More          1.302075
    YAML                1.23    
    YAML::Syck          1.29    
    version             0.9916  


--

Summary of my perl5 (revision 5 version 24 subversion 0) configuration:
   
  Platform:
    osname=linux, osvers=3.10.0-514.6.2.el7.x86_64, archname=x86_64-linux
    uname='linux prod5 3.10.0-514.6.2.el7.x86_64 #1 smp thu feb 23 03:04:39 utc 2017 x86_64 x86_64 x86_64 gnulinux '
    config_args='-ds -e -Dprefix=/opt/perl-5.24.0 -Dcf_email=srezic@cpan.org'
    hint=recommended, useposix=true, d_sigaction=define
    useithreads=undef, usemultiplicity=undef
    use64bitint=define, use64bitall=define, uselongdouble=undef
    usemymalloc=n, bincompat5005=undef
  Compiler:
    cc='cc', ccflags ='-fwrapv -fno-strict-aliasing -pipe -fstack-protector-strong -I/usr/local/include -D_LARGEFILE_SOURCE -D_FILE_OFFSET_BITS=64 -D_FORTIFY_SOURCE=2',
    optimize='-O2',
    cppflags='-fwrapv -fno-strict-aliasing -pipe -fstack-protector-strong -I/usr/local/include'
    ccversion='', gccversion='4.8.5 20150623 (Red Hat 4.8.5-11)', gccosandvers=''
    intsize=4, longsize=8, ptrsize=8, doublesize=8, byteorder=12345678, doublekind=3
    d_longlong=define, longlongsize=8, d_longdbl=define, longdblsize=16, longdblkind=3
    ivtype='long', ivsize=8, nvtype='double', nvsize=8, Off_t='off_t', lseeksize=8
    alignbytes=8, prototype=define
  Linker and Libraries:
    ld='cc', ldflags =' -fstack-protector-strong -L/usr/local/lib'
    libpth=/usr/local/lib /usr/lib /lib/../lib64 /usr/lib/../lib64 /lib /lib64 /usr/lib64 /usr/local/lib64
    libs=-lpthread -lnsl -lgdbm -ldb -ldl -lm -lcrypt -lutil -lc -lgdbm_compat
    perllibs=-lpthread -lnsl -ldl -lm -lcrypt -lutil -lc
    libc=libc-2.17.so, so=so, useshrplib=false, libperl=libperl.a
    gnulibc_version='2.17'
  Dynamic Linking:
    dlsrc=dl_dlopen.xs, dlext=so, d_dlsymun=undef, ccdlflags='-Wl,-E'
    cccdlflags='-fPIC', lddlflags='-shared -O2 -L/usr/local/lib -fstack-protector-strong'


Characteristics of this binary (from libperl): 
  Compile-time options: HAS_TIMES PERLIO_LAYERS PERL_COPY_ON_WRITE
                        PERL_DONT_CREATE_GVSV
                        PERL_HASH_FUNC_ONE_AT_A_TIME_HARD PERL_MALLOC_WRAP
                        PERL_PRESERVE_IVUV USE_64_BIT_ALL USE_64_BIT_INT
                        USE_LARGE_FILES USE_LOCALE USE_LOCALE_COLLATE
                        USE_LOCALE_CTYPE USE_LOCALE_NUMERIC USE_LOCALE_TIME
                        USE_PERLIO USE_PERL_ATOF
  Built under linux
  Compiled at Feb 23 2017 19:17:45
  %ENV:
    PERL5LIB="/home/cpansand/.cpan/build/2017031403/WWW-Shorten-Naver-0.03-0/blib/arch:/home/cpansand/.cpan/build/2017031403/WWW-Shorten-Naver-0.03-0/blib/lib:/home/cpansand/.cpan/build/2017031403/WWW-Shorten-Googl-1.100-0/blib/arch:/home/cpansand/.cpan/build/2017031403/WWW-Shorten-Googl-1.100-0/blib/lib:/home/cpansand/.cpan/build/2017031403/POE-Component-IRC-Plugin-WWW-Reddit-TIL-0.09-0/blib/arch:/home/cpansand/.cpan/build/2017031403/POE-Component-IRC-Plugin-WWW-Reddit-TIL-0.09-0/blib/lib:/home/cpansand/.cpan/build/2017031403/Cpanel-JSON-XS-3.0230-0/blib/arch:/home/cpansand/.cpan/build/2017031403/Cpanel-JSON-XS-3.0230-0/blib/lib"
    PERL5OPT=""
    PERL5_CPANPLUS_IS_RUNNING="18343"
    PERL5_CPAN_IS_RUNNING="18343"
    PERL5_CPAN_IS_RUNNING_IN_RECURSION="17103,18343"
    PERLDOC="-MPod::Perldoc::ToTextOverstrike"
    PERL_BATCH="yes"
    PERL_CANARY_STABILITY_NOPROMPT="1"
    PERL_CPAN_REPORTER_CONFIG="/var/tmp/cpansmoker-1002/2017031215/cpanreporter_001_config.ini"
    PERL_EXTUTILS_AUTOINSTALL="--defaultdeps"
  @INC:
    /home/cpansand/.cpan/build/2017031403/WWW-Shorten-Naver-0.03-0/blib/arch
    /home/cpansand/.cpan/build/2017031403/WWW-Shorten-Naver-0.03-0/blib/lib
    /home/cpansand/.cpan/build/2017031403/WWW-Shorten-Googl-1.100-0/blib/arch
    /home/cpansand/.cpan/build/2017031403/WWW-Shorten-Googl-1.100-0/blib/lib
    /home/cpansand/.cpan/build/2017031403/POE-Component-IRC-Plugin-WWW-Reddit-TIL-0.09-0/blib/arch
    /home/cpansand/.cpan/build/2017031403/POE-Component-IRC-Plugin-WWW-Reddit-TIL-0.09-0/blib/lib
    /home/cpansand/.cpan/build/2017031403/Cpanel-JSON-XS-3.0230-0/blib/arch
    /home/cpansand/.cpan/build/2017031403/Cpanel-JSON-XS-3.0230-0/blib/lib
    /opt/perl-5.24.0/lib/site_perl/5.24.0/x86_64-linux
    /opt/perl-5.24.0/lib/site_perl/5.24.0
    /opt/perl-5.24.0/lib/5.24.0/x86_64-linux
    /opt/perl-5.24.0/lib/5.24.0
    .