Back
From: metabase:user:31d414ea-2aae-11df-837a-5e0a49663a4f
Subject: PASS Dist-Zilla-Plugin-CheckIssues-0.010 v5.22.3 GNU/Linux
Date: 2017-02-06T17:09:09Z
This distribution has been tested as part of the CPAN Testers
project, supporting the Perl programming language. See
http://wiki.cpantesters.org/ for more information or email
questions to cpan-testers-discuss@perl.org
--
Dear Karen Etheridge,
This is a computer-generated report for Dist-Zilla-Plugin-CheckIssues-0.010
on perl 5.22.3, created by CPAN-Reporter-1.2018.
Thank you for uploading your work to CPAN. Congratulations!
All tests were successful.
Sections of this report:
* Tester comments
* Program output
* Prerequisites
* Environment and other context
------------------------------
TESTER COMMENTS
------------------------------
Additional comments from tester:
this report is from an automated smoke testing program
and was not reviewed by a human for accuracy
------------------------------
PROGRAM OUTPUT
------------------------------
Output from '/usr/bin/make test':
PERL_DL_NONLAZY=1 "/home/david/cpantesting/perl-5.22.3/bin/perl" "-MExtUtils::Command::MM" "-MTest::Harness" "-e" "undef *Test::Harness::Switches; test_harness(0, 'blib/lib', 'blib/arch')" t/*.t
#
# Versions for all modules listed in MYMETA.json (including optional ones):
#
# === Configure Requires ===
#
# Module Want Have
# ------------------------ -------- --------
# CPAN::Meta::Requirements 2.120620 2.132
# ExtUtils::MakeMaker any 7.25_01
# Module::Metadata any 1.000026
#
# === Build Requires ===
#
# Module Want Have
# ------------------- ---- -------
# ExtUtils::MakeMaker any 7.25_01
#
# === Test Requires ===
#
# Module Want Have
# ------------------------------- ---- --------
# Dist::Zilla::App::Tester any 6.008
# Dist::Zilla::Role::MetaProvider any 6.008
# File::Spec any 3.56_02
# File::pushd any 1.014
# Module::Metadata any 1.000026
# Moose::Util any 2.2004
# Path::Tiny any 0.100
# Test::DZil any 6.008
# Test::Deep any 1.126
# Test::Fatal any 0.014
# Test::More 0.88 1.302076
# if any 0.0604
# lib any 0.63
#
# === Test Recommends ===
#
# Module Want Have
# ---------- -------- --------
# CPAN::Meta 2.120900 2.150001
#
# === Runtime Requires ===
#
# Module Want Have
# -------------------------------- -------- --------
# Dist::Zilla 4.300039 6.008
# Dist::Zilla::App any 6.008
# Dist::Zilla::Role::BeforeRelease any 6.008
# Encode any 2.72_01
# HTTP::Headers any 6.11
# HTTP::Tiny any 0.070
# JSON::MaybeXS 1.001000 1.003008
# List::Util 1.33 1.47
# Log::Dispatch 2.49 2.58
# Moose any 2.2004
# Term::ANSIColor 3.00 4.03
# namespace::autoclean any 0.28
# strict any 1.09
# warnings any 1.34
#
# === Other Modules ===
#
# Module Have
# ------------- -----
# App::Cmd 0.331
# Log::Dispatch 2.58
# Pod::Coverage 0.23
#
t/00-report-prereqs.t .. ok
t/01-basic.t ........... ok
t/02-no-rt.t ........... ok
t/03-no-repo.t ......... ok
t/04-command.t ......... ok
t/zzz-check-breaks.t ... ok
All tests successful.
Files=6, Tests=19, 11 wallclock secs ( 0.01 usr 0.03 sys + 3.12 cusr 0.33 csys = 3.49 CPU)
Result: PASS
------------------------------
PREREQUISITES
------------------------------
Prerequisite modules loaded:
requires:
Module Need Have
-------------------------------- -------- --------
Dist::Zilla 4.300039 6.008
Dist::Zilla::App 0 6.008
Dist::Zilla::Role::BeforeRelease 0 6.008
Encode 0 2.72_01
HTTP::Headers 0 6.11
HTTP::Tiny 0 0.070
JSON::MaybeXS 1.001000 1.003008
List::Util 1.33 1.47
Log::Dispatch 2.49 2.58
Moose 0 2.2004
namespace::autoclean 0 0.28
perl 5.006 5.022003
strict 0 1.09
Term::ANSIColor 3.00 4.03
warnings 0 1.34
build_requires:
Module Need Have
-------------------------------- -------- --------
Dist::Zilla::App::Tester 0 6.008
Dist::Zilla::Role::MetaProvider 0 6.008
ExtUtils::MakeMaker 0 7.25_01
File::pushd 0 1.014
File::Spec 0 3.56_02
if 0 0.0604
lib 0 0.63
Module::Metadata 0 1.000026
Moose::Util 0 2.2004
Path::Tiny 0 0.100
Test::Deep 0 1.126
Test::DZil 0 6.008
Test::Fatal 0 0.014
Test::More 0.88 1.302076
configure_requires:
Module Need Have
-------------------------------- -------- --------
CPAN::Meta::Requirements 2.120620 2.132
ExtUtils::MakeMaker 0 7.25_01
Module::Metadata 0 1.000026
perl 5.006 5.022003
------------------------------
ENVIRONMENT AND OTHER CONTEXT
------------------------------
Environment variables:
AUTOMATED_TESTING = 1
NONINTERACTIVE_TESTING = 1
PATH = /usr/local/bin:/usr/bin:/bin:/usr/local/games:/usr/games
PERL = 5.22.3
PERL5LIB =
PERL5OPT =
PERL5_CPANPLUS_IS_RUNNING = 18943
PERL5_CPAN_IS_RUNNING = 18943
PERLVER = 5.22.3
PERL_INLINE_DIRECTORY = /home/david/.Inline-5.22.3
PERL_MM_USE_DEFAULT = 1
SHELL = /bin/bash
TERM = screen
Perl special variables (and OS-specific diagnostics, for MSWin32):
$^X = /home/david/cpantesting/perl-5.22.3/bin/perl
$UID/$EUID = 1000 / 1000
$GID = 1000 1000
$EGID = 1000 1000
Perl module toolchain versions installed:
Module Have
------------------- ----------
CPAN 2.11_01
CPAN::Meta 2.150001
Cwd 3.56_02
ExtUtils::CBuilder 0.280221
ExtUtils::Command 7.25_01
ExtUtils::Install 2.04
ExtUtils::MakeMaker 7.25_01
ExtUtils::Manifest 1.70
ExtUtils::ParseXS 3.28
File::Spec 3.56_02
JSON 2.90
JSON::PP 2.27400
Module::Build 0.4220
Module::Signature n/a
Parse::CPAN::Meta 1.4414_001
Test::Harness 3.35_01
Test::More 1.302076
YAML 1.21
YAML::Syck n/a
version 0.9909
--
Summary of my perl5 (revision 5 version 22 subversion 3) configuration:
Platform:
osname=linux, osvers=3.16.0-4-amd64, archname=x86_64-linux-thread-multi
uname='linux pigsty.barnyard.co.uk 3.16.0-4-amd64 #1 smp debian 3.16.36-1+deb8u1 (2016-09-03) x86_64 gnulinux '
config_args='-de -Duse64bitall -Dusethreads -Dprefix=/home/david/cpantesting/perl-5.22.3'
hint=recommended, useposix=true, d_sigaction=define
useithreads=define, usemultiplicity=define
use64bitint=define, use64bitall=define, uselongdouble=undef
usemymalloc=n, bincompat5005=undef
Compiler:
cc='cc', ccflags ='-D_REENTRANT -D_GNU_SOURCE -fwrapv -fno-strict-aliasing -pipe -fstack-protector-strong -I/usr/local/include -D_LARGEFILE_SOURCE -D_FILE_OFFSET_BITS=64 -D_FORTIFY_SOURCE=2',
optimize='-O2',
cppflags='-D_REENTRANT -D_GNU_SOURCE -fwrapv -fno-strict-aliasing -pipe -fstack-protector-strong -I/usr/local/include'
ccversion='', gccversion='4.9.2', gccosandvers=''
intsize=4, longsize=8, ptrsize=8, doublesize=8, byteorder=12345678, doublekind=3
d_longlong=define, longlongsize=8, d_longdbl=define, longdblsize=16, longdblkind=3
ivtype='long', ivsize=8, nvtype='double', nvsize=8, Off_t='off_t', lseeksize=8
alignbytes=8, prototype=define
Linker and Libraries:
ld='cc', ldflags =' -fstack-protector-strong -L/usr/local/lib'
libpth=/usr/local/lib /usr/lib/gcc/x86_64-linux-gnu/4.9/include-fixed /usr/include/x86_64-linux-gnu /usr/lib /lib/x86_64-linux-gnu /lib/../lib /usr/lib/x86_64-linux-gnu /usr/lib/../lib /lib
libs=-lpthread -lnsl -ldb -ldl -lm -lcrypt -lutil -lc
perllibs=-lpthread -lnsl -ldl -lm -lcrypt -lutil -lc
libc=libc-2.19.so, so=so, useshrplib=false, libperl=libperl.a
gnulibc_version='2.19'
Dynamic Linking:
dlsrc=dl_dlopen.xs, dlext=so, d_dlsymun=undef, ccdlflags='-Wl,-E'
cccdlflags='-fPIC', lddlflags='-shared -O2 -L/usr/local/lib -fstack-protector-strong'
Characteristics of this binary (from libperl):
Compile-time options: HAS_TIMES MULTIPLICITY PERLIO_LAYERS
PERL_DONT_CREATE_GVSV
PERL_HASH_FUNC_ONE_AT_A_TIME_HARD
PERL_IMPLICIT_CONTEXT PERL_MALLOC_WRAP
PERL_NEW_COPY_ON_WRITE PERL_PRESERVE_IVUV
USE_64_BIT_ALL USE_64_BIT_INT USE_ITHREADS
USE_LARGE_FILES USE_LOCALE USE_LOCALE_COLLATE
USE_LOCALE_CTYPE USE_LOCALE_NUMERIC USE_LOCALE_TIME
USE_PERLIO USE_PERL_ATOF USE_REENTRANT_API
Built under linux
Compiled at Jan 17 2017 15:59:42
%ENV:
PERL="5.22.3"
PERL5LIB=""
PERL5OPT=""
PERL5_CPANPLUS_IS_RUNNING="18943"
PERL5_CPAN_IS_RUNNING="18943"
PERLVER="5.22.3"
PERL_INLINE_DIRECTORY="/home/david/.Inline-5.22.3"
PERL_MM_USE_DEFAULT="1"
@INC:
/home/david/cpantesting/perl-5.22.3/lib/site_perl/5.22.3/x86_64-linux-thread-multi
/home/david/cpantesting/perl-5.22.3/lib/site_perl/5.22.3
/home/david/cpantesting/perl-5.22.3/lib/5.22.3/x86_64-linux-thread-multi
/home/david/cpantesting/perl-5.22.3/lib/5.22.3
.