Alien-libpid v0.033 Perl 5 v5.35.3 x86_64-linux-ld
- Status
- Pass
- From
- Andreas J. König (ANDK)
- Dist
-
Alien-libpid v0.033
- Platform
- Perl 5 v5.35.3 x86_64-linux-ld
- Date
- 2021-09-02 17:19:48
- ID
- f97ca862-0c11-11ec-b169-76609e0f6722
This distribution has been tested as part of the CPAN Testers
project, supporting the Perl programming language. See
http://wiki.cpantesters.org/ for more information or email
questions to cpan-testers-discuss@perl.org
--
Dear Ahmad Fatoum,
This is a computer-generated report for Alien-libpid-0.033
on perl 5.35.3, created by CPAN-Reporter-1.2018.
Thank you for uploading your work to CPAN. Congratulations!
All tests were successful.
Sections of this report:
* Tester comments
* Program output
* Prerequisites
* Environment and other context
------------------------------
TESTER COMMENTS
------------------------------
Additional comments from tester:
this report is from an automated smoke testing program
and was not reviewed by a human for accuracy
------------------------------
PROGRAM OUTPUT
------------------------------
Output from '/usr/bin/make test':
"/tmp/basesmoker-reloperl-QSQV/bin/perl" -MAlien::Build::MM=cmd -e test
Useless use of string ne in void context at /tmp/loop_over_bdir-5818-IXw0w5/Alien-libpid-0.033-0/alienfile line 29.
Alien::Build::Plugin::PkgConfig::Negotiate> Using PkgConfig plugin: PkgConfig::CommandLine
PERL_DL_NONLAZY=1 "/tmp/basesmoker-reloperl-QSQV/bin/perl" "-MExtUtils::Command::MM" "-MTest::Harness" "-e" "undef *Test::Harness::Switches; test_harness(0, 'blib/lib', 'blib/arch')" t/*.t
t/00-compile.t ......... ok
#
# Versions for all modules listed in MYMETA.json (including optional ones):
#
# === Configure Requires ===
#
# Module Want Have
# ---------------------------------- ---- ----
# Alien::Build 0.32 2.41
# Alien::Build::MM 0.32 2.41
# Alien::Build::Plugin::Build::CMake 0.99 2.41
# ExtUtils::MakeMaker 6.52 7.62
#
# === Build Requires ===
#
# Module Want Have
# -------------------------------------------- ----- --------
# Alien::Build 0.32 2.41
# Alien::Build::MM 0.32 2.41
# Alien::Build::Plugin::Gather::IsolateDynamic 0.48 2.41
# Alien::cmake3 0.02 0.08
# Archive::Tar any 2.40
# Config any 5.035003
# ExtUtils::MakeMaker 6.52 7.62
# HTTP::Tiny 0.044 0.076
# IO::Socket::SSL 1.56 2.072
# IO::Zlib any 1.11
# Net::SSLeay 1.49 1.90
# URI any 5.09
#
# === Test Requires ===
#
# Module Want Have
# ------------------- ---- --------
# ExtUtils::MakeMaker 6.52 7.62
# File::Spec any 3.81
# IO::Handle any 1.47
# IPC::Open3 any 1.22
# Test2::Bundle::More any 0.000141
# Test::Alien 0.05 2.41
# Test::More any 1.302186
#
# === Test Recommends ===
#
# Module Want Have
# ---------- -------- --------
# CPAN::Meta 2.120900 2.150010
#
# === Runtime Requires ===
#
# Module Want Have
# ------------ ----- -----
# Alien::Base 0.038 2.41
# Alien::Build 0.25 2.41
# parent any 0.238
# strict any 1.12
# warnings any 1.53
#
t/00-report-prereqs.t .. ok
t/init.t ............... ok
All tests successful.
Files=3, Tests=5, 1 wallclock secs ( 0.02 usr 0.02 sys + 0.58 cusr 0.24 csys = 0.86 CPU)
Result: PASS
------------------------------
PREREQUISITES
------------------------------
Prerequisite modules loaded:
requires:
Module Need Have
-------------------------------------------- ----- --------
Alien::Base 0.038 2.41
Alien::Build 0.25 2.41
parent 0 0.238
perl 5.008 5.035003
strict 0 1.12
warnings 0 1.53
build_requires:
Module Need Have
-------------------------------------------- ----- --------
Alien::Build 0.32 2.41
Alien::Build::MM 0.32 2.41
Alien::Build::Plugin::Gather::IsolateDynamic 0.48 2.41
Alien::cmake3 0.02 0.08
Archive::Tar 0 2.40
Config 0 5.035003
ExtUtils::MakeMaker 6.52 7.62
File::Spec 0 3.81
HTTP::Tiny 0.044 0.076
IO::Handle 0 1.47
IO::Socket::SSL 1.56 2.072
IO::Zlib 0 1.11
IPC::Open3 0 1.22
Net::SSLeay 1.49 1.90
Test2::Bundle::More 0 0.000141
Test::Alien 0.05 2.41
Test::More 0 1.302186
URI 0 5.09
configure_requires:
Module Need Have
-------------------------------------------- ----- --------
Alien::Build 0.32 2.41
Alien::Build::MM 0.32 2.41
Alien::Build::Plugin::Build::CMake 0.99 2.41
ExtUtils::MakeMaker 6.52 7.62
------------------------------
ENVIRONMENT AND OTHER CONTEXT
------------------------------
Environment variables:
AUTOMATED_TESTING = 1
LANG = en_US.utf8
PATH = /home/sand/bin:/usr/local/bin:/usr/local/sbin:/usr/sbin:/usr/bin:/sbin:/bin:/usr/games:/usr/local/games:/snap/bin:/usr/local/perl/bin:/usr/X11/bin
PERL = /tmp/basesmoker-reloperl-QSQV/bin/perl
PERL5LIB =
PERL5OPT =
PERL5_CPANPLUS_IS_RUNNING = 5826
PERL5_CPAN_IS_RUNNING = 5826
PERL_CANARY_STABILITY_NOPROMPT = 1
PERL_MM_USE_DEFAULT = 1
PERL_USE_UNSAFE_INC = 1
SHELL = /usr/bin/zsh
TERM = screen
Perl special variables (and OS-specific diagnostics, for MSWin32):
$^X = /tmp/basesmoker-reloperl-QSQV/bin/perl
$UID/$EUID = 1005 / 1005
$GID = 1005 1005
$EGID = 1005 1005
Perl module toolchain versions installed:
Module Have
------------------- --------
CPAN 2.28
CPAN::Meta 2.150010
Cwd 3.82
ExtUtils::CBuilder 0.280236
ExtUtils::Command 7.62
ExtUtils::Install 2.20
ExtUtils::MakeMaker 7.62
ExtUtils::Manifest 1.73
ExtUtils::ParseXS 3.43
File::Spec 3.81
JSON 4.03
JSON::PP 4.06
Module::Build 0.4231
Module::Signature 0.87
Parse::CPAN::Meta 2.150010
Test::Harness 3.43
Test::More 1.302186
YAML 1.30
YAML::Syck 1.34
version 0.9929
--
Summary of my perl5 (revision 5 version 35 subversion 3) configuration:
Commit id: 566e79b3713e09f940997a15f239ad9cb45c66b2
Platform:
osname=linux
osvers=4.15.0-154-generic
archname=x86_64-linux-ld
uname='linux k93bionic 4.15.0-154-generic #161-ubuntu smp fri jul 30 13:04:17 utc 2021 x86_64 x86_64 x86_64 gnulinux '
config_args='-Dprefix=/home/sand/src/perl/repoperls/installed-perls/host/k93bionic/v5.35.3/ca05 -Dmyhostname=k93bionic -Dinstallusrbinperl=n -Uversiononly -Dusedevel -des -Ui_db -Dlibswanted=cl pthread socket inet nsl gdbm dbm malloc dl ld sun m crypt sec util c cposix posix ucb BSD gdbm_compat -Uuseithreads -Duselongdouble -DEBUGGING=-g'
hint=recommended
useposix=true
d_sigaction=define
useithreads=undef
usemultiplicity=undef
use64bitint=define
use64bitall=define
uselongdouble=define
usemymalloc=n
default_inc_excludes_dot=define
Compiler:
cc='cc'
ccflags ='-fwrapv -fno-strict-aliasing -pipe -fstack-protector-strong -I/usr/local/include -D_LARGEFILE_SOURCE -D_FILE_OFFSET_BITS=64'
optimize='-O2 -g'
cppflags='-fwrapv -fno-strict-aliasing -pipe -fstack-protector-strong -I/usr/local/include'
ccversion=''
gccversion='7.5.0'
gccosandvers=''
intsize=4
longsize=8
ptrsize=8
doublesize=8
byteorder=12345678
doublekind=3
d_longlong=define
longlongsize=8
d_longdbl=define
longdblsize=16
longdblkind=3
ivtype='long'
ivsize=8
nvtype='long double'
nvsize=16
Off_t='off_t'
lseeksize=8
alignbytes=16
prototype=define
Linker and Libraries:
ld='cc'
ldflags =' -fstack-protector-strong -L/usr/local/lib'
libpth=/usr/local/lib /usr/lib/x86_64-linux-gnu /usr/lib /lib/x86_64-linux-gnu /lib
libs=-lpthread -lnsl -ldl -lm -lcrypt -lutil -lc
perllibs=-lpthread -lnsl -ldl -lm -lcrypt -lutil -lc
libc=libc-2.27.so
so=so
useshrplib=false
libperl=libperl.a
gnulibc_version='2.27'
Dynamic Linking:
dlsrc=dl_dlopen.xs
dlext=so
d_dlsymun=undef
ccdlflags='-Wl,-E'
cccdlflags='-fPIC'
lddlflags='-shared -O2 -g -L/usr/local/lib -fstack-protector-strong'
Characteristics of this binary (from libperl):
Compile-time options:
HAS_TIMES
PERLIO_LAYERS
PERL_COPY_ON_WRITE
PERL_DONT_CREATE_GVSV
PERL_MALLOC_WRAP
PERL_OP_PARENT
PERL_PRESERVE_IVUV
PERL_USE_DEVEL
USE_64_BIT_ALL
USE_64_BIT_INT
USE_LARGE_FILES
USE_LOCALE
USE_LOCALE_COLLATE
USE_LOCALE_CTYPE
USE_LOCALE_NUMERIC
USE_LOCALE_TIME
USE_LONG_DOUBLE
USE_PERLIO
USE_PERL_ATOF
Built under linux
Compiled at Sep 2 2021 03:13:38
%ENV:
PERL="/tmp/basesmoker-reloperl-QSQV/bin/perl"
PERL5LIB=""
PERL5OPT=""
PERL5_CPANPLUS_IS_RUNNING="5826"
PERL5_CPAN_IS_RUNNING="5826"
PERL_CANARY_STABILITY_NOPROMPT="1"
PERL_MM_USE_DEFAULT="1"
PERL_USE_UNSAFE_INC="1"
@INC:
/home/sand/src/perl/repoperls/installed-perls/host/k93bionic/v5.35.3/ca05/lib/site_perl/5.35.3/x86_64-linux-ld
/home/sand/src/perl/repoperls/installed-perls/host/k93bionic/v5.35.3/ca05/lib/site_perl/5.35.3
/home/sand/src/perl/repoperls/installed-perls/host/k93bionic/v5.35.3/ca05/lib/5.35.3/x86_64-linux-ld
/home/sand/src/perl/repoperls/installed-perls/host/k93bionic/v5.35.3/ca05/lib/5.35.3
.