StorageDisplay v2.01 Perl 5 v5.22.2 x86_64-linux

Status
Pass
From
Slaven Rezić
Dist
StorageDisplay v2.01
Platform
Perl 5 v5.22.2 x86_64-linux
Date
2023-03-24 23:59:55
ID
f98f0f68-ca9f-11ed-a135-ce2a6e8775ea
This distribution has been tested as part of the CPAN Testers
project, supporting the Perl programming language.  See
http://wiki.cpantesters.org/ for more information or email
questions to cpan-testers-discuss@perl.org


--
Dear Vincent Danjean,

This is a computer-generated report for StorageDisplay-2.01
on perl 5.22.2, created by CPAN-Reporter-1.2018.

Thank you for uploading your work to CPAN.  Congratulations!
All tests were successful.

Sections of this report:

    * Tester comments
    * Program output
    * Prerequisites
    * Environment and other context

------------------------------
TESTER COMMENTS
------------------------------

Additional comments from tester:

none provided

------------------------------
PROGRAM OUTPUT
------------------------------

Output from '/usr/bin/make test':

PERL_DL_NONLAZY=1 "/opt/perl-5.22.2/bin/perl" "-MExtUtils::Command::MM" "-MTest::Harness" "-e" "undef *Test::Harness::Switches; test_harness(0, 'blib/lib', 'blib/arch')" t/*.t
# Testing with Perl 5.022002, /opt/perl-5.22.2/bin/perl
#     Carp version is 1.38
#     Data::Compare version is 1.25
#     Data::Dumper version is 2.161
#     ExtUtils::MakeMaker version is 7.24
#     Getopt::Long version is 2.49
#     IO::Select version is 1.22
#     JSON::PP version is 2.27300
#     Moose version is 2.1805
#     MooseX::NonMoose version is 0.26
#     MooseX::Role::Parameterized version is 1.09
#     Net::OpenSSH version is 0.70
#     Object::ID version is v0.1.2
#     POSIX version is 1.53_01
#     Path::Class version is 0.37
#     Path::Class::Dir version is 0.37
#     Pod::Usage version is 1.69
#     Scalar::Util version is 1.45
#     Storable version is 2.53_01
#     Term::ReadKey version is 2.33
#     Test2::V0 version is 0.000150
#     Test::File::Contents version is 0.23
#     Test::More version is 1.302194
#     Test::Script version is 1.12
#     Types::Standard version is 1.000005
#     base version is 2.22
#     bignum version is 0.66
#     bigrat version is 0.66
#     namespace::sweep version is 0.006
#     parent version is 0.232
#     strict version is 1.09
#     utf8 version is 1.17
#     warnings version is 1.34
t/000-report-versions.t .. ok
t/05_round.t ............. ok
t/06_int-data-dumper.t ... ok
# JSON::PP: boolean_values support: 0
# JSON::PP: allow_bignum support: 1
# JSON::PP has boolean_values: 0
t/07_json.t .............. ok
t/10_scripts.t ........... ok
t/20_reference.t ......... ok
t/author-critic.t ........ skipped: these tests are for testing by the author
t/author-distmeta.t ...... skipped: these tests are for testing by the author
t/author-pod-syntax.t .... skipped: these tests are for testing by the author
All tests successful.
Files=9, Tests=111, 12 wallclock secs ( 0.02 usr  0.01 sys +  9.89 cusr  1.29 csys = 11.21 CPU)
Result: PASS

------------------------------
PREREQUISITES
------------------------------

Prerequisite modules loaded:

requires:

    Module                      Need     Have    
    --------------------------- -------- --------
    base                        0        2.22    
    bignum                      0.51     0.66    
    bigrat                      0.51     0.66    
    Carp                        0        1.38    
    Data::Compare               0        1.25    
    Data::Dumper                0        2.161   
    Getopt::Long                0        2.49    
    IO::Select                  0        1.22    
    JSON::PP                    0        2.27300 
    Moose                       0        2.1805  
    Moose::Role                 0        2.1805  
    MooseX::NonMoose            0        0.26    
    MooseX::Role::Parameterized 0        1.09    
    namespace::sweep            0        0.006   
    Net::OpenSSH                0        0.70    
    Object::ID                  0        v0.1.2  
    parent                      0        0.232   
    Path::Class::Dir            0        0.37    
    perl                        5.014000 5.022002
    Pod::Usage                  0        1.69    
    POSIX                       0        1.53_01 
    Scalar::Util                0        1.45    
    Storable                    0        2.53_01 
    strict                      0        1.09    
    Term::ReadKey               0        2.33    
    Types::Standard             0        1.000005
    warnings                    0        1.34    

build_requires:

    Module                      Need     Have    
    --------------------------- -------- --------
    ExtUtils::MakeMaker         0        7.24    
    Path::Class                 0        0.37    
    Test2::V0                   0        0.000150
    Test::File::Contents        0        0.23    
    Test::More                  0.94     1.302194
    Test::Script                0        1.12    
    utf8                        0        1.17    

configure_requires:

    Module                      Need     Have    
    --------------------------- -------- --------
    ExtUtils::MakeMaker         0        7.24    


------------------------------
ENVIRONMENT AND OTHER CONTEXT
------------------------------

Environment variables:

    LANG = en_US.UTF-8
    LANGUAGE = en_US:en
    LC_ALL = en_US.UTF-8
    PATH = /usr/local/bin:/usr/bin:/bin:/usr/local/sbin:/usr/sbin:/sbin:/home/cpansand/bin/linux-gnu:/home/cpansand/bin/sh:/home/cpansand/bin:/usr/games:/home/cpansand/devel:/home/eserte/src/srezic-misc/scripts
    PERL5LIB = /home/cpansand/.cpan/build/2023032500/bignum-0.66-1/blib/arch:/home/cpansand/.cpan/build/2023032500/bignum-0.66-1/blib/lib:/home/cpansand/.cpan/build/2023032500/Math-BigRat-0.2624-1/blib/arch:/home/cpansand/.cpan/build/2023032500/Math-BigRat-0.2624-1/blib/lib:/home/cpansand/.cpan/build/2023032500/Math-BigInt-1.999837-1/blib/arch:/home/cpansand/.cpan/build/2023032500/Math-BigInt-1.999837-1/blib/lib:/home/cpansand/.cpan/build/2023032500/Test2-Suite-0.000150-1/blib/arch:/home/cpansand/.cpan/build/2023032500/Test2-Suite-0.000150-1/blib/lib:/home/cpansand/.cpan/build/2023032500/Term-Table-0.016-1/blib/arch:/home/cpansand/.cpan/build/2023032500/Term-Table-0.016-1/blib/lib:/home/cpansand/.cpan/build/2023032500/Sub-Info-0.002-1/blib/arch:/home/cpansand/.cpan/build/2023032500/Sub-Info-0.002-1/blib/lib:/home/cpansand/.cpan/build/2023032500/Test-Simple-1.302194-1/blib/arch:/home/cpansand/.cpan/build/2023032500/Test-Simple-1.302194-1/blib/lib:/home/cpansand/.cpan/build/2023032500/Importer-0.026-1/blib/arch:/home/cpansand/.cpan/build/2023032500/Importer-0.026-1/blib/lib
    PERL5OPT = 
    PERL5_CPANPLUS_IS_RUNNING = 19310
    PERL5_CPAN_IS_RUNNING = 19310
    PERL5_CPAN_IS_RUNNING_IN_RECURSION = 16547,19310
    PERLDOC = -MPod::Perldoc::ToTextOverstrike
    PERL_BATCH = yes
    PERL_CANARY_STABILITY_NOPROMPT = 1
    PERL_CPAN_REPORTER_CONFIG = /var/tmp/cpansmoker-1023/2023032500/cpanreporter_000_config.ini
    PERL_EXTUTILS_AUTOINSTALL = --defaultdeps
    PERL_USE_UNSAFE_INC = 1
    SHELL = /bin/zsh
    TERM = screen
    TMPDIR = /var/tmp/cpansmoker-1023/2023032500

Perl special variables (and OS-specific diagnostics, for MSWin32):

    $^X = /opt/perl-5.22.2/bin/perl
    $UID/$EUID = 1023 / 1023
    $GID = 1023 1023
    $EGID = 1023 1023

Perl module toolchain versions installed:

    Module              Have    
    ------------------- --------
    CPAN                2.16    
    CPAN::Meta          2.150010
    Cwd                 3.62    
    ExtUtils::CBuilder  0.280221
    ExtUtils::Command   7.24    
    ExtUtils::Install   2.04    
    ExtUtils::MakeMaker 7.24    
    ExtUtils::Manifest  1.70    
    ExtUtils::ParseXS   3.28    
    File::Spec          3.62    
    JSON                2.90    
    JSON::PP            2.27300 
    Module::Build       0.4220  
    Module::Signature   0.81    
    Parse::CPAN::Meta   2.150010
    Test::Harness       3.35    
    Test::More          1.302194
    YAML                1.17    
    YAML::Syck          1.29    
    version             0.9917  


--

Summary of my perl5 (revision 5 version 22 subversion 2) configuration:
   
  Platform:
    osname=linux, osvers=3.2.0-4-amd64, archname=x86_64-linux
    uname='linux cvrsnica-wheezy 3.2.0-4-amd64 #1 smp debian 3.2.54-2 x86_64 gnulinux '
    config_args='-ds -e -Dprefix=/opt/perl-5.22.2 -Dcf_email=srezic@cpan.org'
    hint=recommended, useposix=true, d_sigaction=define
    useithreads=undef, usemultiplicity=undef
    use64bitint=define, use64bitall=define, uselongdouble=undef
    usemymalloc=n, bincompat5005=undef
  Compiler:
    cc='cc', ccflags ='-fwrapv -fno-strict-aliasing -pipe -fstack-protector -I/usr/local/include -D_LARGEFILE_SOURCE -D_FILE_OFFSET_BITS=64 -D_FORTIFY_SOURCE=2',
    optimize='-O2',
    cppflags='-fwrapv -fno-strict-aliasing -pipe -fstack-protector -I/usr/local/include'
    ccversion='', gccversion='4.7.2', gccosandvers=''
    intsize=4, longsize=8, ptrsize=8, doublesize=8, byteorder=12345678, doublekind=3
    d_longlong=define, longlongsize=8, d_longdbl=define, longdblsize=16, longdblkind=3
    ivtype='long', ivsize=8, nvtype='double', nvsize=8, Off_t='off_t', lseeksize=8
    alignbytes=8, prototype=define
  Linker and Libraries:
    ld='cc', ldflags =' -fstack-protector -L/usr/local/lib'
    libpth=/usr/local/lib /usr/lib/gcc/x86_64-linux-gnu/4.7/include-fixed /usr/include/x86_64-linux-gnu /usr/lib /lib/x86_64-linux-gnu /lib/../lib /usr/lib/x86_64-linux-gnu /usr/lib/../lib /lib
    libs=-lpthread -lnsl -ldb -ldl -lm -lcrypt -lutil -lc
    perllibs=-lpthread -lnsl -ldl -lm -lcrypt -lutil -lc
    libc=libc-2.13.so, so=so, useshrplib=false, libperl=libperl.a
    gnulibc_version='2.13'
  Dynamic Linking:
    dlsrc=dl_dlopen.xs, dlext=so, d_dlsymun=undef, ccdlflags='-Wl,-E'
    cccdlflags='-fPIC', lddlflags='-shared -O2 -L/usr/local/lib -fstack-protector'


Characteristics of this binary (from libperl): 
  Compile-time options: HAS_TIMES PERLIO_LAYERS PERL_DONT_CREATE_GVSV
                        PERL_HASH_FUNC_ONE_AT_A_TIME_HARD PERL_MALLOC_WRAP
                        PERL_NEW_COPY_ON_WRITE PERL_PRESERVE_IVUV
                        USE_64_BIT_ALL USE_64_BIT_INT USE_LARGE_FILES
                        USE_LOCALE USE_LOCALE_COLLATE USE_LOCALE_CTYPE
                        USE_LOCALE_NUMERIC USE_LOCALE_TIME USE_PERLIO
                        USE_PERL_ATOF
  Built under linux
  Compiled at May 29 2016 23:41:57
  %ENV:
    PERL5LIB="/home/cpansand/.cpan/build/2023032500/bignum-0.66-1/blib/arch:/home/cpansand/.cpan/build/2023032500/bignum-0.66-1/blib/lib:/home/cpansand/.cpan/build/2023032500/Math-BigRat-0.2624-1/blib/arch:/home/cpansand/.cpan/build/2023032500/Math-BigRat-0.2624-1/blib/lib:/home/cpansand/.cpan/build/2023032500/Math-BigInt-1.999837-1/blib/arch:/home/cpansand/.cpan/build/2023032500/Math-BigInt-1.999837-1/blib/lib:/home/cpansand/.cpan/build/2023032500/Test2-Suite-0.000150-1/blib/arch:/home/cpansand/.cpan/build/2023032500/Test2-Suite-0.000150-1/blib/lib:/home/cpansand/.cpan/build/2023032500/Term-Table-0.016-1/blib/arch:/home/cpansand/.cpan/build/2023032500/Term-Table-0.016-1/blib/lib:/home/cpansand/.cpan/build/2023032500/Sub-Info-0.002-1/blib/arch:/home/cpansand/.cpan/build/2023032500/Sub-Info-0.002-1/blib/lib:/home/cpansand/.cpan/build/2023032500/Test-Simple-1.302194-1/blib/arch:/home/cpansand/.cpan/build/2023032500/Test-Simple-1.302194-1/blib/lib:/home/cpansand/.cpan/build/2023032500/Importer-0.026-1/blib/arch:/home/cpansand/.cpan/build/2023032500/Importer-0.026-1/blib/lib"
    PERL5OPT=""
    PERL5_CPANPLUS_IS_RUNNING="19310"
    PERL5_CPAN_IS_RUNNING="19310"
    PERL5_CPAN_IS_RUNNING_IN_RECURSION="16547,19310"
    PERLDOC="-MPod::Perldoc::ToTextOverstrike"
    PERL_BATCH="yes"
    PERL_CANARY_STABILITY_NOPROMPT="1"
    PERL_CPAN_REPORTER_CONFIG="/var/tmp/cpansmoker-1023/2023032500/cpanreporter_000_config.ini"
    PERL_EXTUTILS_AUTOINSTALL="--defaultdeps"
    PERL_USE_UNSAFE_INC="1"
  @INC:
    /home/cpansand/.cpan/build/2023032500/bignum-0.66-1/blib/arch
    /home/cpansand/.cpan/build/2023032500/bignum-0.66-1/blib/lib
    /home/cpansand/.cpan/build/2023032500/Math-BigRat-0.2624-1/blib/arch
    /home/cpansand/.cpan/build/2023032500/Math-BigRat-0.2624-1/blib/lib
    /home/cpansand/.cpan/build/2023032500/Math-BigInt-1.999837-1/blib/arch
    /home/cpansand/.cpan/build/2023032500/Math-BigInt-1.999837-1/blib/lib
    /home/cpansand/.cpan/build/2023032500/Test2-Suite-0.000150-1/blib/arch
    /home/cpansand/.cpan/build/2023032500/Test2-Suite-0.000150-1/blib/lib
    /home/cpansand/.cpan/build/2023032500/Term-Table-0.016-1/blib/arch
    /home/cpansand/.cpan/build/2023032500/Term-Table-0.016-1/blib/lib
    /home/cpansand/.cpan/build/2023032500/Sub-Info-0.002-1/blib/arch
    /home/cpansand/.cpan/build/2023032500/Sub-Info-0.002-1/blib/lib
    /home/cpansand/.cpan/build/2023032500/Test-Simple-1.302194-1/blib/arch
    /home/cpansand/.cpan/build/2023032500/Test-Simple-1.302194-1/blib/lib
    /home/cpansand/.cpan/build/2023032500/Importer-0.026-1/blib/arch
    /home/cpansand/.cpan/build/2023032500/Importer-0.026-1/blib/lib
    /opt/perl-5.22.2/lib/site_perl/5.22.2/x86_64-linux
    /opt/perl-5.22.2/lib/site_perl/5.22.2
    /opt/perl-5.22.2/lib/5.22.2/x86_64-linux
    /opt/perl-5.22.2/lib/5.22.2
    .