Report for CGI-Application-Plugin-Authentication-0.20

Back
From: metabase:user:d1ac2ff8-7f34-11e0-ad7d-d635d302c8a1
Subject: PASS CGI-Application-Plugin-Authentication-0.20 v5.14.0 GNU/Linux
Date: 2011-06-01T14:53:56Z

This distribution has been tested as part of the CPAN Testers
project, supporting the Perl programming language.  See
http://wiki.cpantesters.org/ for more information or email
questions to cpan-testers-discuss@perl.org


--
Dear Nicholas Bamber,

This is a computer-generated report for CGI-Application-Plugin-Authentication-0.20
on perl 5.14.0, created by CPAN-Reporter-1.1902.

Thank you for uploading your work to CPAN.  Congratulations!
All tests were successful.

Sections of this report:

    * Tester comments
    * Program output
    * Prerequisites
    * Environment and other context

------------------------------
TESTER COMMENTS
------------------------------

Additional comments from tester:

this report is from an automated smoke testing program
and was not reviewed by a human for accuracy

------------------------------
PROGRAM OUTPUT
------------------------------

Output from './Build test':

t/01_basic.t ........................ ok
t/02_config.t ....................... ok
t/03_authenticate.t ................. skipped: CGI::Application::Plugin::Session required for this test
authen config warning:  parameter POST_LOGIN_URL ignored since we already have POST_LOGIN_RUNMODE at t/03_destination.t line 43
t/03_destination.t .................. ok
# Color::Calc required for this sub test
# Color::Calc required for this sub test
# Color::Calc required for this sub test
# Color::Calc required for this sub test
t/03_login_box.t .................... ok
t/03_login_box_basic.t .............. ok
# Color::Calc required
t/03_login_box_other.t .............. skipped: Color::Calc required
t/03_missing_color.t ................ ok
t/04_attributes.t ................... ok
t/05_autorunmode.t .................. skipped: CGI::Application::Plugin::AutoRunmode required for this test
# The following tests have some small time delays
t/06_timeout.t ...................... ok
t/07_protected_runmodes.t ........... ok
Use of uninitialized value in lc at /home/lonesome/.cpan/build/CGI-Application-Plugin-Authentication-0.20-scTRU6/blib/lib/CGI/Application/Plugin/Authentication/Driver/Filter/crypt.pm line 18.
Use of uninitialized value in lc at /home/lonesome/.cpan/build/CGI-Application-Plugin-Authentication-0.20-scTRU6/blib/lib/CGI/Application/Plugin/Authentication/Driver/Filter/crypt.pm line 18.
Use of uninitialized value in lc at /home/lonesome/.cpan/build/CGI-Application-Plugin-Authentication-0.20-scTRU6/blib/lib/CGI/Application/Plugin/Authentication/Driver/Filter/crypt.pm line 18.
t/40_encoder_crypt.t ................ ok
t/40_encoder_lc.t ................... ok
Use of uninitialized value in lc at /home/lonesome/.cpan/build/CGI-Application-Plugin-Authentication-0.20-scTRU6/blib/lib/CGI/Application/Plugin/Authentication/Driver/Filter/md5.pm line 28.
Use of uninitialized value in lc at /home/lonesome/.cpan/build/CGI-Application-Plugin-Authentication-0.20-scTRU6/blib/lib/CGI/Application/Plugin/Authentication/Driver/Filter/md5.pm line 28.
Use of uninitialized value in lc at /home/lonesome/.cpan/build/CGI-Application-Plugin-Authentication-0.20-scTRU6/blib/lib/CGI/Application/Plugin/Authentication/Driver/Filter/md5.pm line 28.
t/40_encoder_md5.t .................. ok
Use of uninitialized value in lc at /home/lonesome/.cpan/build/CGI-Application-Plugin-Authentication-0.20-scTRU6/blib/lib/CGI/Application/Plugin/Authentication/Driver/Filter/sha1.pm line 28.
Use of uninitialized value in lc at /home/lonesome/.cpan/build/CGI-Application-Plugin-Authentication-0.20-scTRU6/blib/lib/CGI/Application/Plugin/Authentication/Driver/Filter/sha1.pm line 28.
Use of uninitialized value in lc at /home/lonesome/.cpan/build/CGI-Application-Plugin-Authentication-0.20-scTRU6/blib/lib/CGI/Application/Plugin/Authentication/Driver/Filter/sha1.pm line 28.
t/40_encoder_sha1.t ................. ok
t/40_encoder_strip.t ................ ok
t/40_encoder_uc.t ................... ok
Use of uninitialized value in lc at /home/lonesome/.cpan/build/CGI-Application-Plugin-Authentication-0.20-scTRU6/blib/lib/CGI/Application/Plugin/Authentication/Driver/Filter/md5.pm line 28.
Use of uninitialized value in lc at /home/lonesome/.cpan/build/CGI-Application-Plugin-Authentication-0.20-scTRU6/blib/lib/CGI/Application/Plugin/Authentication/Driver/Filter/sha1.pm line 28.
t/50_driver_missing_modules.t ....... ok
t/50_driver_undefined.t ............. ok
t/51_driver_dummy.t ................. ok
t/52_driver_generic.t ............... ok
Use of uninitialized value in lc at /home/lonesome/.cpan/build/CGI-Application-Plugin-Authentication-0.20-scTRU6/blib/lib/CGI/Application/Plugin/Authentication/Driver/Filter/crypt.pm line 18.
Use of uninitialized value in lc at /home/lonesome/.cpan/build/CGI-Application-Plugin-Authentication-0.20-scTRU6/blib/lib/CGI/Application/Plugin/Authentication/Driver/Filter/crypt.pm line 18.
Use of uninitialized value in lc at /home/lonesome/.cpan/build/CGI-Application-Plugin-Authentication-0.20-scTRU6/blib/lib/CGI/Application/Plugin/Authentication/Driver/Filter/md5.pm line 28.
Use of uninitialized value in lc at /home/lonesome/.cpan/build/CGI-Application-Plugin-Authentication-0.20-scTRU6/blib/lib/CGI/Application/Plugin/Authentication/Driver/Filter/crypt.pm line 18.
Use of uninitialized value in lc at /home/lonesome/.cpan/build/CGI-Application-Plugin-Authentication-0.20-scTRU6/blib/lib/CGI/Application/Plugin/Authentication/Driver/Filter/md5.pm line 28.
Use of uninitialized value in lc at /home/lonesome/.cpan/build/CGI-Application-Plugin-Authentication-0.20-scTRU6/blib/lib/CGI/Application/Plugin/Authentication/Driver/Filter/md5.pm line 28.
Use of uninitialized value in lc at /home/lonesome/.cpan/build/CGI-Application-Plugin-Authentication-0.20-scTRU6/blib/lib/CGI/Application/Plugin/Authentication/Driver/Filter/crypt.pm line 18.
Use of uninitialized value in lc at /home/lonesome/.cpan/build/CGI-Application-Plugin-Authentication-0.20-scTRU6/blib/lib/CGI/Application/Plugin/Authentication/Driver/Filter/crypt.pm line 18.
t/53_driver_dbi.t ................... ok
t/53_driver_dbi_bad.t ............... ok
t/53_driver_dbi_die.t ............... ok
t/53_driver_dbi_syntax.t ............ ok
t/54_driver_htpasswd.t .............. skipped: Apache::Htpasswd >= 1.8 required for this test
t/55_driver_authensimple.t .......... skipped: Authen::Simple required for this test
t/55_driver_authensimple_die.t ...... ok
t/55_driver_missing_authensimple.t .. ok
t/60_parsimony.t .................... skipped: CGI::Application::Plugin::Session etc required for this test
t/60_store.t ........................ ok
t/60_store_cookie.t ................. ok
t/60_store_session.t ................ skipped: CGI::Application::Plugin::Session required for this test
t/61_cookie_badargs.t ............... ok
t/61_store_cookie_noexpiry.t ........ ok
t/61_store_cookie_other.t ........... ok
t/70_action_dispatch.t .............. skipped: CGI::Application::Plugin::ActionDispatch required
t/80_devpopup.t ..................... skipped: CGI::Application::Plugin::DevPopup required
t/98_pod.t .......................... skipped: Author test.  Set $ENV{TEST_AUTHOR} to a true value to run.
t/99_pod_coverage.t ................. skipped: Author test.  Set $ENV{TEST_AUTHOR} to a true value to run.
t/changes.t ......................... skipped: Author test.  Set $ENV{TEST_AUTHOR} to a true value to run.
t/manifest.t ........................ skipped: Author test.  Set $ENV{TEST_AUTHOR} to a true value to run.
t/podspell.t ........................ skipped: Author test.  Set $ENV{TEST_AUTHOR} to a true value to run.
t/prereq.t .......................... skipped: Author test.  Set $ENV{TEST_PREREQ} to a true value to run.
All tests successful.
Files=45, Tests=484, 10 wallclock secs ( 0.22 usr  0.09 sys +  2.15 cusr  0.42 csys =  2.88 CPU)
Result: PASS

------------------------------
PREREQUISITES
------------------------------

Prerequisite modules loaded:

requires:

    Module                Need  Have    
    --------------------- ----- --------
    Attribute::Handlers   0     0.91    
    CGI                   3.16  3.52    
    CGI::Application      4     4.31    
    Class::ISA            0     0.36    
    Digest::SHA           0     5.61    
    MIME::Base64          0     3.13    
    perl                  5.006 5.014000
    Scalar::Util          0     1.23    
    UNIVERSAL::require    0     0.13    

build_requires:

    Module                Need  Have    
    --------------------- ----- --------
    Readonly              0     1.03    
    Test::Exception       0     0.31    
    Test::MockObject      0     1.09    
    Test::More            0.93  0.98    
    Test::NoWarnings      0     1.02    
    Test::Regression      0     0.06    
    Test::Taint           0     1.04    
    Test::Warn            0.11  0.23    
    Test::Without::Module 0     0.17    

configure_requires:

    Module                Need  Have    
    --------------------- ----- --------
    Module::Build         0.38  0.3800  


------------------------------
ENVIRONMENT AND OTHER CONTEXT
------------------------------

Environment variables:

    AUTOMATED_TESTING = 1
    LANG = en_GB.UTF-8
    PATH = /usr/lib/ccache:/usr/local/bin:/bin:/usr/bin:/usr/local/sbin:/usr/sbin:/sbin:/home/lonesome/bin
    PERL5LIB = 
    PERL5OPT = 
    PERL5_CPANPLUS_IS_RUNNING = 18960
    PERL5_CPAN_IS_RUNNING = 18960
    PERL5_CPAN_IS_RUNNING_IN_RECURSION = 9665,18960
    PERL_CR_SMOKER_CURRENT = CGI-Application-Plugin-Authentication-0.20
    PERL_EXTUTILS_AUTOINSTALL = --defaultdeps
    PERL_MM_USE_DEFAULT = 1
    SHELL = /bin/bash
    TERM = screen

Perl special variables (and OS-specific diagnostics, for MSWin32):

    $^X = /home/lonesome/perl-5.14.0/bin/perl
    $UID/$EUID = 500 / 500
    $GID = 500 10 500
    $EGID = 500 10 500

Perl module toolchain versions installed:

    Module              Have    
    ------------------- --------
    CPAN                1.9600  
    Cwd                 3.36    
    ExtUtils::CBuilder  0.280203
    ExtUtils::Command   1.17    
    ExtUtils::Install   1.56    
    ExtUtils::MakeMaker 6.57_11 
    ExtUtils::Manifest  1.58    
    ExtUtils::ParseXS   2.2210  
    File::Spec          3.33    
    Module::Build       0.3800  
    Module::Signature   0.68    
    Test::Harness       3.23    
    Test::More          0.98    
    YAML                0.73    
    YAML::Syck          1.17    
    version             0.89    


--

Summary of my perl5 (revision 5 version 14 subversion 0) configuration:
   
  Platform:
    osname=linux, osvers=2.6.38.6-27.fc15.i686, archname=i686-linux
    uname='linux fedora15 2.6.38.6-27.fc15.i686 #1 smp sun may 15 17:57:13 utc 2011 i686 i686 i386 gnulinux '
    config_args='-des -Dcc=ccache gcc -Dld=gcc -Dprefix=/home/lonesome/perl-5.14.0'
    hint=recommended, useposix=true, d_sigaction=define
    useithreads=undef, usemultiplicity=undef
    useperlio=define, d_sfio=undef, uselargefiles=define, usesocks=undef
    use64bitint=undef, use64bitall=undef, uselongdouble=undef
    usemymalloc=n, bincompat5005=undef
  Compiler:
    cc='ccache gcc', ccflags ='-fno-strict-aliasing -pipe -fstack-protector -I/usr/local/include -D_LARGEFILE_SOURCE -D_FILE_OFFSET_BITS=64',
    optimize='-O2',
    cppflags='-fno-strict-aliasing -pipe -fstack-protector -I/usr/local/include'
    ccversion='', gccversion='4.6.0 20110509 (Red Hat 4.6.0-7)', gccosandvers=''
    intsize=4, longsize=4, ptrsize=4, doublesize=8, byteorder=1234
    d_longlong=define, longlongsize=8, d_longdbl=define, longdblsize=12
    ivtype='long', ivsize=4, nvtype='double', nvsize=8, Off_t='off_t', lseeksize=8
    alignbytes=4, prototype=define
  Linker and Libraries:
    ld='gcc', ldflags =' -fstack-protector -L/usr/local/lib'
    libpth=/usr/local/lib /lib /usr/lib
    libs=-lnsl -ldl -lm -lcrypt -lutil -lc
    perllibs=-lnsl -ldl -lm -lcrypt -lutil -lc
    libc=/lib/libc-2.13.90.so, so=so, useshrplib=false, libperl=libperl.a
    gnulibc_version='2.13.90'
  Dynamic Linking:
    dlsrc=dl_dlopen.xs, dlext=so, d_dlsymun=undef, ccdlflags='-Wl,-E'
    cccdlflags='-fPIC', lddlflags='-shared -O2 -L/usr/local/lib -fstack-protector'


Characteristics of this binary (from libperl): 
  Compile-time options: PERL_DONT_CREATE_GVSV PERL_MALLOC_WRAP
                        PERL_PRESERVE_IVUV USE_LARGE_FILES USE_PERLIO
                        USE_PERL_ATOF
  Built under linux
  Compiled at Jun  1 2011 10:32:53
  %ENV:
    PERL5LIB=""
    PERL5OPT=""
    PERL5_CPANPLUS_IS_RUNNING="18960"
    PERL5_CPAN_IS_RUNNING="18960"
    PERL5_CPAN_IS_RUNNING_IN_RECURSION="9665,18960"
    PERL_CR_SMOKER_CURRENT="CGI-Application-Plugin-Authentication-0.20"
    PERL_EXTUTILS_AUTOINSTALL="--defaultdeps"
    PERL_MM_USE_DEFAULT="1"
  @INC:
    /home/lonesome/perl-5.14.0/lib/site_perl/5.14.0/i686-linux
    /home/lonesome/perl-5.14.0/lib/site_perl/5.14.0
    /home/lonesome/perl-5.14.0/lib/5.14.0/i686-linux
    /home/lonesome/perl-5.14.0/lib/5.14.0
    .