Report for Catalyst-Authentication-Credential-HTTP-1.018

Back
From: metabase:user:b8a9e342-69cf-11e7-adca-3fbd147838bf
Subject: PASS Catalyst-Authentication-Credential-HTTP-1.018 v5.27.3 FreeBSD
Date: 2017-08-05T00:21:07Z

This distribution has been tested as part of the CPAN Testers
project, supporting the Perl programming language.  See
http://wiki.cpantesters.org/ for more information or email
questions to cpan-testers-discuss@perl.org


--
Dear Karen Etheridge,

This is a computer-generated report for Catalyst-Authentication-Credential-HTTP-1.018
on perl 5.27.3, created by CPAN-Reporter-1.2018.

Thank you for uploading your work to CPAN.  Congratulations!
All tests were successful.

Sections of this report:

    * Tester comments
    * Program output
    * Prerequisites
    * Environment and other context

------------------------------
TESTER COMMENTS
------------------------------

Additional comments from tester:

none provided

------------------------------
PROGRAM OUTPUT
------------------------------

Output from './Build test':

# 
# Versions for all modules listed in MYMETA.json (including optional ones):
# 
# === Configure Requires ===
# 
#     Module               Want  Have
#     ------------------- ----- -----
#     Module::Build::Tiny 0.034 0.039
# 
# === Test Requires ===
# 
#     Module                    Want       Have
#     ------------------------- ---- ----------
#     Catalyst::Controller       any      undef
#     File::Spec                 any       3.68
#     FindBin                    any       1.51
#     HTTP::Headers              any       6.13
#     HTTP::Request              any       6.13
#     Module::Metadata           any   1.000033
#     Test::Exception            any       0.43
#     Test::MockObject           any 1.20161202
#     Test::MockObject::Extends  any 1.20161202
#     Test::More                 any   1.302086
#     Test::Needs                any   0.002005
#     lib                        any       0.64
# 
# === Test Recommends ===
# 
#     Module         Want     Have
#     ---------- -------- --------
#     CPAN::Meta 2.120900 2.150010
# 
# === Runtime Requires ===
# 
#     Module                                            Want     Have
#     ---------------------------------------------- ------- --------
#     Catalyst                                           any  5.90115
#     Catalyst::Authentication::Credential::Password     any    undef
#     Catalyst::Plugin::Authentication               0.10005  0.10023
#     Class::Accessor::Fast                              any     0.34
#     Data::UUID                                        0.11    1.221
#     Digest::MD5                                        any     2.55
#     String::Escape                                     any 2010.002
#     URI::Escape                                        any     3.31
#     base                                               any     2.26
#     strict                                             any     1.11
#     warnings                                           any     1.37
# 
# === Other Modules ===
# 
#     Module        Have
#     ------------- ----
#     JSON::PP      2.94
#     Pod::Coverage 0.23
#     Sub::Name     0.21
#     YAML          1.23
#     autodie       2.29
# 
t/00-report-prereqs.t ....... ok
# Catalyst 5.90115
# Catalyst::Plugin::Authentication 0.10023
# Catalyst::Authentication::Credential::HTTP 1.018
t/00use.t ................... ok
t/basic.t ................... ok
t/live_app.t ................ skipped: Need Test::WWW::Mechanize::Catalyst 0.51
t/live_app_digest.t ......... skipped: Need Cache::FileCache, Catalyst::Plugin::Cache, Test::WWW::Mechanize::Catalyst 0.51
t/live_app_digest_dotnet.t .. skipped: Need Cache::FileCache, Catalyst::Plugin::Cache, Test::WWW::Mechanize::Catalyst 0.51
All tests successful.
Files=6, Tests=39,  2 wallclock secs ( 0.02 usr  0.05 sys +  1.00 cusr  1.34 csys =  2.41 CPU)
Result: PASS

------------------------------
PREREQUISITES
------------------------------

Prerequisite modules loaded:

requires:

    Module                                         Need     Have      
    ---------------------------------------------- -------- ----------
    base                                           0        2.26      
    Catalyst                                       0        5.90115   
    Catalyst::Authentication::Credential::Password 0        0         
    Catalyst::Plugin::Authentication               0.10005  0.10023   
    Class::Accessor::Fast                          0        0.34      
    Data::UUID                                     0.11     1.221     
    Digest::MD5                                    0        2.55      
    perl                                           5.006    5.027003  
    strict                                         0        1.11      
    String::Escape                                 0        2010.002  
    URI::Escape                                    0        3.31      
    warnings                                       0        1.37      

build_requires:

    Module                                         Need     Have      
    ---------------------------------------------- -------- ----------
    Catalyst::Controller                           0        0         
    File::Spec                                     0        3.68      
    FindBin                                        0        1.51      
    HTTP::Headers                                  0        6.13      
    HTTP::Request                                  0        6.13      
    lib                                            0        0.64      
    Module::Metadata                               0        1.000033  
    perl                                           5.006    5.027003  
    Test::Exception                                0        0.43      
    Test::MockObject                               0        1.20161202
    Test::MockObject::Extends                      0        1.20161202
    Test::More                                     0        1.302086  
    Test::Needs                                    0        0.002005  

configure_requires:

    Module                                         Need     Have      
    ---------------------------------------------- -------- ----------
    Module::Build::Tiny                            0.034    0.039     
    perl                                           5.006    5.027003  

opt_build_requires:

    Module                                         Need     Have      
    ---------------------------------------------- -------- ----------
    CPAN::Meta                                     2.120900 2.150010  


------------------------------
ENVIRONMENT AND OTHER CONTEXT
------------------------------

Environment variables:

    LC_ALL = C
    NONINTERACTIVE_TESTING = 1
    PATH = /home/cpan/bin/perl-blead/bin:/sbin:/bin:/usr/sbin:/usr/bin:/usr/local/sbin:/usr/local/bin:/home/cpan/bin
    PERL5LIB = 
    PERL5OPT = 
    PERL5_CPANPLUS_IS_RUNNING = 83476
    PERL5_CPAN_IS_RUNNING = 83476
    PERL_MM_USE_DEFAULT = 1
    PERL_USE_UNSAFE_INC = 1
    SHELL = /usr/local/bin/bash
    TERM = xterm
    TMPDIR = /home/cpan/tmp

Perl special variables (and OS-specific diagnostics, for MSWin32):

    $^X = /usr/home/cpan/bin/perl-blead/bin/perl5.27.3
    $UID/$EUID = 1003 / 1003
    $GID = 1003 1003
    $EGID = 1003 1003

Perl module toolchain versions installed:

    Module              Have    
    ------------------- --------
    CPAN                2.18    
    CPAN::Meta          2.150010
    Cwd                 3.68    
    ExtUtils::CBuilder  0.280228
    ExtUtils::Command   7.30    
    ExtUtils::Install   2.14    
    ExtUtils::MakeMaker 7.30    
    ExtUtils::Manifest  1.70    
    ExtUtils::ParseXS   3.35    
    File::Spec          3.68    
    JSON                2.94    
    JSON::PP            2.94    
    Module::Build       0.4224  
    Module::Signature   n/a     
    Parse::CPAN::Meta   2.150010
    Test::Harness       3.39    
    Test::More          1.302086
    YAML                1.23    
    YAML::Syck          n/a     
    version             0.9918  


--

Summary of my perl5 (revision 5 version 27 subversion 3) configuration:
  Commit id: 02960b52b40b494fa4f6e1be81db5f3459ab91a9
  Platform:
    osname=freebsd
    osvers=11.1-release
    archname=amd64-freebsd
    uname='freebsd cjg-freebsd11 11.1-release freebsd 11.1-release #0 r321309: fri jul 21 02:08:28 utc 2017 root@releng2.nyi.freebsd.org:usrobjusrsrcsysgeneric amd64 '
    config_args='-des -Dprefix=~/bin/perl-blead -Dscriptdir=~/bin/perl-blead/bin -Duse64bitall -Dusedevel'
    hint=recommended
    useposix=true
    d_sigaction=define
    useithreads=undef
    usemultiplicity=undef
    use64bitint=define
    use64bitall=define
    uselongdouble=undef
    usemymalloc=n
    default_inc_excludes_dot=define
    bincompat5005=undef
  Compiler:
    cc='cc'
    ccflags ='-DHAS_FPSETMASK -DHAS_FLOATINGPOINT_H -fno-strict-aliasing -pipe -fstack-protector-strong -I/usr/local/include -D_FORTIFY_SOURCE=2'
    optimize='-O'
    cppflags='-DHAS_FPSETMASK -DHAS_FLOATINGPOINT_H -fno-strict-aliasing -pipe -fstack-protector-strong -I/usr/local/include'
    ccversion=''
    gccversion='4.2.1 Compatible FreeBSD Clang 4.0.0 (tags/RELEASE_400/final 297347)'
    gccosandvers=''
    intsize=4
    longsize=8
    ptrsize=8
    doublesize=8
    byteorder=12345678
    doublekind=3
    d_longlong=define
    longlongsize=8
    d_longdbl=define
    longdblsize=16
    longdblkind=3
    ivtype='long'
    ivsize=8
    nvtype='double'
    nvsize=8
    Off_t='off_t'
    lseeksize=8
    alignbytes=8
    prototype=define
  Linker and Libraries:
    ld='cc'
    ldflags ='-Wl,-E  -fstack-protector-strong -L/usr/local/lib'
    libpth=/usr/lib /usr/local/lib /usr/bin/../lib/clang/4.0.0/lib /usr/lib
    libs=-lpthread -lgdbm -lm -lcrypt -lutil -lc
    perllibs=-lpthread -lm -lcrypt -lutil -lc
    libc=
    so=so
    useshrplib=false
    libperl=libperl.a
    gnulibc_version=''
  Dynamic Linking:
    dlsrc=dl_dlopen.xs
    dlext=so
    d_dlsymun=undef
    ccdlflags=' '
    cccdlflags='-DPIC -fPIC'
    lddlflags='-shared  -L/usr/local/lib -fstack-protector-strong'


Characteristics of this binary (from libperl): 
  Compile-time options:
    HAS_TIMES
    PERLIO_LAYERS
    PERL_COPY_ON_WRITE
    PERL_DONT_CREATE_GVSV
    PERL_MALLOC_WRAP
    PERL_OP_PARENT
    PERL_PRESERVE_IVUV
    PERL_USE_DEVEL
    USE_64_BIT_ALL
    USE_64_BIT_INT
    USE_LARGE_FILES
    USE_LOCALE
    USE_LOCALE_COLLATE
    USE_LOCALE_CTYPE
    USE_LOCALE_NUMERIC
    USE_LOCALE_TIME
    USE_PERLIO
    USE_PERL_ATOF
  Built under freebsd
  Compiled at Aug  4 2017 17:26:54
  %ENV:
    PERL5LIB=""
    PERL5OPT=""
    PERL5_CPANPLUS_IS_RUNNING="83476"
    PERL5_CPAN_IS_RUNNING="83476"
    PERL_MM_USE_DEFAULT="1"
    PERL_USE_UNSAFE_INC="1"
  @INC:
    /home/cpan/bin/perl-blead/lib/site_perl/5.27.3/amd64-freebsd
    /home/cpan/bin/perl-blead/lib/site_perl/5.27.3
    /home/cpan/bin/perl-blead/lib/5.27.3/amd64-freebsd
    /home/cpan/bin/perl-blead/lib/5.27.3
    .