DateTime-Format-Strptime v1.79 Perl 5 v5.8.5 darwin-2level
- Status
- Pass
- From
- Karen Etheridge
- Dist
-
DateTime-Format-Strptime v1.79
- Platform
- Perl 5 v5.8.5 darwin-2level
- Date
- 2021-06-05 21:28:31
- ID
- f99f5e38-c644-11eb-86bf-81e8f9a6e6ea
This distribution has been tested as part of the CPAN Testers
project, supporting the Perl programming language. See
http://wiki.cpantesters.org/ for more information or email
questions to cpan-testers-discuss@perl.org
--
Dear DROLSKY,
This is a computer-generated report for DateTime-Format-Strptime-1.79
on perl 5.8.5, created by App::cpanminus::reporter 0.17 (1.9018).
Thank you for uploading your work to CPAN. Congratulations!
All tests were successful.
Sections of this report:
* Tester comments
* Program output
* Prerequisites
* Environment and other context
------------------------------
TESTER COMMENTS
------------------------------
Additional comments from tester:
none provided
------------------------------
PROGRAM OUTPUT
------------------------------
Output from '':
Building and testing DateTime-Format-Strptime-1.79
PERL_DL_NONLAZY=1 "/Volumes/amaretto/Users/ether/perl5/perlbrew/perls/8.5/bin/perl" "-MExtUtils::Command::MM" "-MTest::Harness" "-e" "undef *Test::Harness::Switches; test_harness(0, 'blib/lib', 'blib/arch')" t/*.t
#
# Versions for all modules listed in static metadata (including optional ones):
#
# === Configure Requires ===
#
# Module Want Have
# ------------------- ---- ----
# ExtUtils::MakeMaker any 7.44
#
# === Configure Suggests ===
#
# Module Want Have
# -------- ------- -------
# JSON::PP 2.27300 2.27203
#
# === Test Requires ===
#
# Module Want Have
# ------------------- ---- --------
# ExtUtils::MakeMaker any 7.44
# File::Spec any 3.47
# FindBin any 1.44
# Test::Builder any 1.302183
# Test::Fatal any 0.016
# Test::More 0.96 1.302183
# Test::Warnings any 0.027
# lib any 0.63
# utf8 any 1.04
#
# === Test Recommends ===
#
# Module Want Have
# ---------- -------- --------
# CPAN::Meta 2.120900 2.150005
#
# === Runtime Requires ===
#
# Module Want Have
# -------------------------- ---- -----
# Carp any 1.36
# DateTime 1.00 1.21
# DateTime::Locale 1.30 1.32
# DateTime::Locale::Base any 1.32
# DateTime::Locale::FromData any 1.32
# DateTime::TimeZone 2.09 2.47
# Exporter any 5.72
# Params::ValidationCompiler any 0.27
# Specio 0.33 0.42
# Specio::Declare any 0.42
# Specio::Exporter any 0.42
# Specio::Library::Builtins any 0.42
# Specio::Library::String any 0.42
# Try::Tiny any 0.22
# constant any 1.04
# parent any 0.234
# strict any 1.03
# warnings any 1.03
#
#
# *** WARNING WARNING WARNING WARNING WARNING WARNING WARNING WARNING ***
#
# CPAN::Meta->load_file('MYMETA.json') failed with: , or } expected while parsing object/hash, at character offset 194 (before ""generated_by" : "Di...") at /Volumes/amaretto/Users/ether/.perlbrew/libs/8.5@std/lib/perl5/Parse/CPAN/Meta.pm line 53.
# at /Volumes/amaretto/Users/ether/.perlbrew/libs/8.5@std/lib/perl5/CPAN/Meta.pm line 301.
# at t/00-report-prereqs.t line 83.
#
t/00-report-prereqs.t .... ok
t/format-with-locale.t ... ok
t/format-datetime.t ...... ok
t/edge.t ................. ok
t/errors.t ............... ok
t/basic.t ................ ok
t/generated-locale-de.t .. ok
t/generated-locale-en.t .. ok
t/generated-locale-ga.t .. ok
t/generated-locale-pt.t .. ok
t/import.t ............... ok
t/generated-locale-zh.t .. ok
t/zones.t ................ ok
All tests successful.
Files=13, Tests=143, 1 wallclock secs ( 0.19 usr 0.06 sys + 4.20 cusr 0.67 csys = 5.12 CPU)
Result: PASS
------------------------------
PREREQUISITES
------------------------------
Prerequisite modules loaded:
No requirements found
------------------------------
ENVIRONMENT AND OTHER CONTEXT
------------------------------
Environment variables:
HARNESS_OPTIONS = j6:c
LANG = en_CA.UTF-8
NO_NETWORK_TESTING = 1
PATH = /Volumes/amaretto/Users/ether/.perlbrew/libs/8.5@std/bin:/Volumes/amaretto/Users/ether/perl5/perlbrew/bin:/Volumes/amaretto/Users/ether/perl5/perlbrew/perls/8.5/bin:/Volumes/amaretto/Users/ether/bin:/Volumes/amaretto/Users/ether/git/misc/install/jaeger/bin:/Volumes/amaretto/Users/ether/git/misc/install/generic/bin:/opt/local/bin:/opt/local/sbin:/Volumes/amaretto/Users/ether/git/git-hub/lib:/usr/local/bin:/usr/bin:/bin:/usr/sbin:/sbin:/Library/Apple/usr/bin:/opt/local/share/git-core/contrib/workdir
PERL5LIB = /Volumes/amaretto/Users/ether/.perlbrew/libs/8.5@std/lib/perl5
PERLBREW_HOME = /Volumes/amaretto/Users/ether/.perlbrew
PERLBREW_LIB = std
PERLBREW_MANPATH = /Volumes/amaretto/Users/ether/.perlbrew/libs/8.5@std/man:/Volumes/amaretto/Users/ether/perl5/perlbrew/perls/8.5/man
PERLBREW_PATH = /Volumes/amaretto/Users/ether/.perlbrew/libs/8.5@std/bin:/Volumes/amaretto/Users/ether/perl5/perlbrew/bin:/Volumes/amaretto/Users/ether/perl5/perlbrew/perls/8.5/bin
PERLBREW_PERL = 8.5
PERLBREW_ROOT = /Volumes/amaretto/Users/ether/perl5/perlbrew
PERLBREW_SHELLRC_VERSION = 0.92
PERLBREW_VERSION = 0.92
PERLDOC = -oman
PERLDOC_PAGER = less -sicMr
PERL_AUTOINSTALL_PREFER_CPAN = 1
PERL_INSTALL_QUIET = 1
PERL_LOCAL_LIB_ROOT = /Volumes/amaretto/Users/ether/.perlbrew/libs/8.5@std
PERL_MB_OPT = --install_base /Volumes/amaretto/Users/ether/.perlbrew/libs/8.5@std
PERL_MM_OPT = INSTALL_BASE=/Volumes/amaretto/Users/ether/.perlbrew/libs/8.5@std
PERL_TEST_HARNESS_ASAP = 1
PERL_USE_UNSAFE_INC = 0
SHELL = /bin/bash
TERM = xterm-color
Perl special variables (and OS-specific diagnostics, for MSWin32):
EGID = 20 400 399 398 395 250 204 100 33 701 98 81 80 79 61 12 20
EUID = 502
EXECUTABLE_NAME = /Volumes/amaretto/Users/ether/perl5/perlbrew/perls/8.5/bin/perl
GID = 20 400 399 398 395 250 204 100 33 701 98 81 80 79 61 12 20
UID = 502
Perl module toolchain versions installed:
Module Have
------------------- --------
CPAN 2.14
CPAN::Meta 2.150005
Cwd 3.47
ExtUtils::CBuilder 0.280223
ExtUtils::Command 7.44
ExtUtils::Install 2.16
ExtUtils::MakeMaker 7.44
ExtUtils::Manifest 1.70
ExtUtils::ParseXS 3.30
File::Spec 3.47
JSON 4.02
JSON::PP 2.27203
Module::Build 0.4214
Module::Signature 0.83
Parse::CPAN::Meta 1.4417
Test::Harness 3.35
Test::More 1.302183
YAML n/a
YAML::Syck n/a
version 0.9929
--
Summary of my perl5 (revision 5 version 8 subversion 5) configuration:
Platform:
osname=darwin, osvers=14.3.0, archname=darwin-2level
uname='darwin jaeger 14.3.0 darwin kernel version 14.3.0: mon mar 23 11:59:05 pdt 2015; root:xnu-2782.20.48~5release_x86_64 x86_64 '
config_args='-de -Dprefix=/Volumes/amaretto/Users/ether/perl5/perlbrew/perls/8.5 -Dman1dir=none -Dman3dir=none -Aeval:scriptdir=/Volumes/amaretto/Users/ether/perl5/perlbrew/perls/8.5/bin'
hint=recommended, useposix=true, d_sigaction=define
usethreads=undef use5005threads=undef useithreads=undef usemultiplicity=undef
useperlio=define d_sfio=undef uselargefiles=define usesocks=undef
use64bitint=define use64bitall=define uselongdouble=undef
usemymalloc=n, bincompat5005=undef
Compiler:
cc='cc', ccflags ='-fno-common -DPERL_DARWIN -fno-strict-aliasing -pipe -I/opt/local/include',
optimize='-O3',
cppflags='-fno-common -DPERL_DARWIN -fno-strict-aliasing -pipe -I/opt/local/include'
ccversion='', gccversion='4.2.1 Compatible Apple LLVM 6.1.0 (clang-602.0.49)', gccosandvers=''
intsize=4, longsize=8, ptrsize=8, doublesize=8, byteorder=12345678
d_longlong=define, longlongsize=8, d_longdbl=define, longdblsize=16
ivtype='long', ivsize=8, nvtype='double', nvsize=8, Off_t='off_t', lseeksize=8
alignbytes=8, prototype=define
Linker and Libraries:
ld='env MACOSX_DEPLOYMENT_TARGET=10.3 cc', ldflags =' -L/opt/local/lib'
libpth=/opt/local/lib /usr/lib
libs=-lgdbm -ldbm -ldl -lm -lutil -lc
perllibs=-ldl -lm -lutil -lc
libc=, so=dylib, useshrplib=false, libperl=libperl.a
gnulibc_version=''
Dynamic Linking:
dlsrc=dl_dlopen.xs, dlext=bundle, d_dlsymun=undef, ccdlflags=' '
cccdlflags=' ', lddlflags=' -bundle -undefined dynamic_lookup -L/opt/local/lib'
Characteristics of this binary (from libperl):
Compile-time options: USE_64_BIT_INT USE_64_BIT_ALL USE_LARGE_FILES
Locally applied patches:
Devel::PatchPerl 1.34
Built under darwin
Compiled at Jun 17 2015 13:05:09
%ENV:
PERL5LIB="/Volumes/amaretto/Users/ether/.perlbrew/libs/8.5@std/lib/perl5"
PERLBREW_HOME="/Volumes/amaretto/Users/ether/.perlbrew"
PERLBREW_LIB="std"
PERLBREW_MANPATH="/Volumes/amaretto/Users/ether/.perlbrew/libs/8.5@std/man:/Volumes/amaretto/Users/ether/perl5/perlbrew/perls/8.5/man"
PERLBREW_PATH="/Volumes/amaretto/Users/ether/.perlbrew/libs/8.5@std/bin:/Volumes/amaretto/Users/ether/perl5/perlbrew/bin:/Volumes/amaretto/Users/ether/perl5/perlbrew/perls/8.5/bin"
PERLBREW_PERL="8.5"
PERLBREW_ROOT="/Volumes/amaretto/Users/ether/perl5/perlbrew"
PERLBREW_SHELLRC_VERSION="0.92"
PERLBREW_VERSION="0.92"
PERLDOC="-oman"
PERLDOC_PAGER="less -sicMr"
PERL_AUTOINSTALL_PREFER_CPAN="1"
PERL_INSTALL_QUIET="1"
PERL_LOCAL_LIB_ROOT="/Volumes/amaretto/Users/ether/.perlbrew/libs/8.5@std"
PERL_MB_OPT="--install_base /Volumes/amaretto/Users/ether/.perlbrew/libs/8.5@std"
PERL_MM_OPT="INSTALL_BASE=/Volumes/amaretto/Users/ether/.perlbrew/libs/8.5@std"
PERL_TEST_HARNESS_ASAP="1"
PERL_USE_UNSAFE_INC="0"
@INC:
/Volumes/amaretto/Users/ether/.perlbrew/libs/8.5@std/lib/perl5/darwin-2level
/Volumes/amaretto/Users/ether/.perlbrew/libs/8.5@std/lib/perl5
/Volumes/amaretto/Users/ether/perl5/perlbrew/perls/8.5/lib/5.8.5/darwin-2level
/Volumes/amaretto/Users/ether/perl5/perlbrew/perls/8.5/lib/5.8.5
/Volumes/amaretto/Users/ether/perl5/perlbrew/perls/8.5/lib/site_perl/5.8.5/darwin-2level
/Volumes/amaretto/Users/ether/perl5/perlbrew/perls/8.5/lib/site_perl/5.8.5
/Volumes/amaretto/Users/ether/perl5/perlbrew/perls/8.5/lib/site_perl
.