Back
From: metabase:user:314402c4-2aae-11df-837a-5e0a49663a4f
Subject: PASS DBIx-Table-TestDataGenerator-0.005 v5.14.0 FreeBSD
Date: 2013-02-21T14:28:35Z
This distribution has been tested as part of the CPAN Testers
project, supporting the Perl programming language. See
http://wiki.cpantesters.org/ for more information or email
questions to cpan-testers-discuss@perl.org
--
Dear Jose Diaz Seng,
This is a computer-generated report for DBIx-Table-TestDataGenerator-0.005
on perl 5.14.0, created by CPAN-Reporter-1.2007.
Thank you for uploading your work to CPAN. Congratulations!
All tests were successful.
Sections of this report:
* Tester comments
* Program output
* Prerequisites
* Environment and other context
------------------------------
TESTER COMMENTS
------------------------------
Additional comments from tester:
none provided
------------------------------
PROGRAM OUTPUT
------------------------------
Output from '/usr/bin/make test':
PERL_DL_NONLAZY=1 /home2/cpansand/var/ctps/5140_1/install/perl-5.14.0/bin/perl5.14.0 "-MExtUtils::Command::MM" "-e" "test_harness(0, 'blib/lib', 'blib/arch')" t/*.t
# Testing DBIx::Table::TestDataGenerator 0.005, Perl 5.014000, /home2/cpansand/var/ctps/5140_1/install/perl-5.14.0/bin/perl5.14.0
t/00-load.t ............................. ok
t/01DBIC.t .............................. ok
t/02DataGeneration.t .................... ok
t/03DataGeneration_null_root_parents.t .. ok
t/04DataGeneration_csv.t ................ ok
t/boilerplate.t ......................... ok
All tests successful.
Test Summary Report
-------------------
t/boilerplate.t (Wstat: 0 Tests: 5 Failed: 0)
TODO passed: 1-5
Files=6, Tests=28, 20 wallclock secs ( 0.07 usr 0.02 sys + 6.51 cusr 1.03 csys = 7.63 CPU)
Result: PASS
------------------------------
PREREQUISITES
------------------------------
Prerequisite modules loaded:
requires:
Module Need Have
-------------------------------------- -------- --------
aliased 0 0.30
Carp 0 1.26
Cwd 0 3.40
Data::GUID 0 0.046
DBD::CSV 0 0.34
DBD::SQLite 0 1.37
DBI 0 1.623
DBI::Const::GetInfoType 0 2.008696
DBIx::Class::Helper::ResultSet::Random 2.016004 2.016005
DBIx::Class::Optional::Dependencies 0 0
DBIx::Class::Relationship 0 0
DBIx::Class::Schema::Loader 0 0.07031
DBIx::RunSQL 0 0.07
File::Basename 0 2.82
File::Spec 0 3.40
List::Util 0 1.26
Moo 0 1.000008
Pod::Coverage 0 0.22
Pod::Coverage::Moose 0 0.02
Readonly 0 1.03
SQL::Abstract 0 1.73
SQL::Translator 0.11006 0.11012
Test::CheckManifest 0 1.26
Test::Exception 0 0.31
Test::More 0 0.98
Test::Pod 0 1.45
Test::Pod::Coverage 0 1.08
build_requires:
Module Need Have
-------------------------------------- -------- --------
ExtUtils::MakeMaker 0 6.62
configure_requires:
Module Need Have
-------------------------------------- -------- --------
DBIx::Class 0.08203 0.08208
Module::Build 0.4 0.4003
------------------------------
ENVIRONMENT AND OTHER CONTEXT
------------------------------
Environment variables:
DBIC_NO_WARN_BAD_PERL = 1
PATH = /usr/local/bin:/usr/X11R6/bin:/usr/X11/bin:/usr/perl5.8.0/bin:/usr/bin:/bin:/usr/local/sbin:/usr/sbin:/sbin:/usr/local/pilot/bin:/home/cpansand/bin/freebsd8.0:/home/cpansand/bin/sh:/home/cpansand/bin:/usr/X386/bin:/usr/games:/home/cpansand/devel:/usr/home/e/eserte/work/srezic-misc/scripts
PERL = /home2/cpansand/var/ctps/5140_1/install/perl-5.14.0/bin/perl5.14.0
PERL5LIB = /usr/local/src/CPAN/build/DBIx-Class-Helpers-2.016005-VXt1xN/blib/arch:/usr/local/src/CPAN/build/DBIx-Class-Helpers-2.016005-VXt1xN/blib/lib:/usr/local/src/CPAN/build/DBIx-Class-0.08208-VUyZkG/blib/arch:/usr/local/src/CPAN/build/DBIx-Class-0.08208-VUyZkG/blib/lib:/usr/local/src/CPAN/build/namespace-clean-0.24-49IJiE/blib/arch:/usr/local/src/CPAN/build/namespace-clean-0.24-49IJiE/blib/lib:/usr/local/src/CPAN/build/MRO-Compat-0.12-f5r2Ll/blib/arch:/usr/local/src/CPAN/build/MRO-Compat-0.12-f5r2Ll/blib/lib:/usr/local/src/CPAN/build/Class-Accessor-Grouped-0.10009-lfgBfw/blib/arch:/usr/local/src/CPAN/build/Class-Accessor-Grouped-0.10009-lfgBfw/blib/lib:/usr/local/src/CPAN/build/Class-XSAccessor-1.16-IvhYv_/blib/arch:/usr/local/src/CPAN/build/Class-XSAccessor-1.16-IvhYv_/blib/lib:/usr/local/src/CPAN/build/Acme-require-case-0.002-_VOO_z/blib/arch:/usr/local/src/CPAN/build/Acme-require-case-0.002-_VOO_z/blib/lib
PERL5OPT =
PERL5_CPANPLUS_IS_RUNNING = 71771
PERL5_CPAN_IS_RUNNING = 71771
PERL5_CPAN_IS_RUNNING_IN_RECURSION = 71751,71771
PERL_BATCH = yes
PERL_CPAN_REPORTER_CONFIG = /var/tmp/cpansmoker-1023/CmAyCCjLln_config.ini
PERL_CPAN_REPORTER_DIR = /home/cpansand/var/ctps/5140_1/config/perl-5.14.0/cpanreporter
PERL_EXTUTILS_AUTOINSTALL = --defaultdeps
PERL_HTML_DISPLAY_CLASS = HTML::Display::Mozilla
SHELL = /usr/local/bin/zsh
TERM = screen
TMPDIR = /var/tmp/cpansmoker-1023
Perl special variables (and OS-specific diagnostics, for MSWin32):
$^X = /home2/cpansand/var/ctps/5140_1/install/perl-5.14.0/bin/perl5.14.0
$UID/$EUID = 1023 / 1023
$GID = 1023 1023
$EGID = 1023 1023
Perl module toolchain versions installed:
Module Have
------------------- --------
CPAN 1.9800
CPAN::Meta 2.120921
Cwd 3.40
ExtUtils::CBuilder 0.280205
ExtUtils::Command 1.17
ExtUtils::Install 1.56
ExtUtils::MakeMaker 6.62
ExtUtils::Manifest 1.60
ExtUtils::ParseXS 3.15
File::Spec 3.40
JSON 2.53
JSON::PP 2.27200
Module::Build 0.4003
Module::Signature 0.68
Parse::CPAN::Meta 1.4403
Test::Harness 3.23
Test::More 0.98
YAML 0.84
YAML::Syck 1.20
version 0.9901
--
Summary of my perl5 (revision 5 version 14 subversion 0) configuration:
Platform:
osname=freebsd, osvers=8.0-release, archname=i386-freebsd
uname='freebsd biokovo.herceg.de 8.0-release freebsd 8.0-release #0: sat nov 21 15:48:17 utc 2009 root@almeida.cse.buffalo.edu:usrobjusrsrcsysgeneric i386 '
config_args='-ds -e -Uversiononly -Dinstallusrbinperl=n -Dusedevel -Dprefix=/home/cpansand/var/ctps/5140_1/install/perl-5.14.0'
hint=recommended, useposix=true, d_sigaction=define
useithreads=undef, usemultiplicity=undef
useperlio=define, d_sfio=undef, uselargefiles=define, usesocks=undef
use64bitint=undef, use64bitall=undef, uselongdouble=undef
usemymalloc=n, bincompat5005=undef
Compiler:
cc='cc', ccflags ='-DHAS_FPSETMASK -DHAS_FLOATINGPOINT_H -fno-strict-aliasing -pipe -fstack-protector -I/usr/local/include',
optimize='-O',
cppflags='-DHAS_FPSETMASK -DHAS_FLOATINGPOINT_H -fno-strict-aliasing -pipe -fstack-protector -I/usr/local/include'
ccversion='', gccversion='4.2.1 20070719 [FreeBSD]', gccosandvers=''
intsize=4, longsize=4, ptrsize=4, doublesize=8, byteorder=1234
d_longlong=define, longlongsize=8, d_longdbl=define, longdblsize=12
ivtype='long', ivsize=4, nvtype='double', nvsize=8, Off_t='off_t', lseeksize=8
alignbytes=4, prototype=define
Linker and Libraries:
ld='cc', ldflags ='-Wl,-E -fstack-protector -L/usr/local/lib'
libpth=/usr/lib /usr/local/lib
libs=-lgdbm -lm -lcrypt -lutil -lc
perllibs=-lm -lcrypt -lutil -lc
libc=, so=so, useshrplib=false, libperl=libperl.a
gnulibc_version=''
Dynamic Linking:
dlsrc=dl_dlopen.xs, dlext=so, d_dlsymun=undef, ccdlflags=' '
cccdlflags='-DPIC -fPIC', lddlflags='-shared -L/usr/local/lib -fstack-protector'
Characteristics of this binary (from libperl):
Compile-time options: PERL_DONT_CREATE_GVSV PERL_MALLOC_WRAP
PERL_PRESERVE_IVUV PERL_USE_DEVEL USE_LARGE_FILES
USE_PERLIO USE_PERL_ATOF
Built under freebsd
Compiled at May 16 2011 22:19:43
%ENV:
PERL="/home2/cpansand/var/ctps/5140_1/install/perl-5.14.0/bin/perl5.14.0"
PERL5LIB="/usr/local/src/CPAN/build/DBIx-Class-Helpers-2.016005-VXt1xN/blib/arch:/usr/local/src/CPAN/build/DBIx-Class-Helpers-2.016005-VXt1xN/blib/lib:/usr/local/src/CPAN/build/DBIx-Class-0.08208-VUyZkG/blib/arch:/usr/local/src/CPAN/build/DBIx-Class-0.08208-VUyZkG/blib/lib:/usr/local/src/CPAN/build/namespace-clean-0.24-49IJiE/blib/arch:/usr/local/src/CPAN/build/namespace-clean-0.24-49IJiE/blib/lib:/usr/local/src/CPAN/build/MRO-Compat-0.12-f5r2Ll/blib/arch:/usr/local/src/CPAN/build/MRO-Compat-0.12-f5r2Ll/blib/lib:/usr/local/src/CPAN/build/Class-Accessor-Grouped-0.10009-lfgBfw/blib/arch:/usr/local/src/CPAN/build/Class-Accessor-Grouped-0.10009-lfgBfw/blib/lib:/usr/local/src/CPAN/build/Class-XSAccessor-1.16-IvhYv_/blib/arch:/usr/local/src/CPAN/build/Class-XSAccessor-1.16-IvhYv_/blib/lib:/usr/local/src/CPAN/build/Acme-require-case-0.002-_VOO_z/blib/arch:/usr/local/src/CPAN/build/Acme-require-case-0.002-_VOO_z/blib/lib"
PERL5OPT=""
PERL5_CPANPLUS_IS_RUNNING="71771"
PERL5_CPAN_IS_RUNNING="71771"
PERL5_CPAN_IS_RUNNING_IN_RECURSION="71751,71771"
PERL_BATCH="yes"
PERL_CPAN_REPORTER_CONFIG="/var/tmp/cpansmoker-1023/CmAyCCjLln_config.ini"
PERL_CPAN_REPORTER_DIR="/home/cpansand/var/ctps/5140_1/config/perl-5.14.0/cpanreporter"
PERL_EXTUTILS_AUTOINSTALL="--defaultdeps"
PERL_HTML_DISPLAY_CLASS="HTML::Display::Mozilla"
@INC:
/usr/local/src/CPAN/build/DBIx-Class-Helpers-2.016005-VXt1xN/blib/arch
/usr/local/src/CPAN/build/DBIx-Class-Helpers-2.016005-VXt1xN/blib/lib
/usr/local/src/CPAN/build/DBIx-Class-0.08208-VUyZkG/blib/arch
/usr/local/src/CPAN/build/DBIx-Class-0.08208-VUyZkG/blib/lib
/usr/local/src/CPAN/build/namespace-clean-0.24-49IJiE/blib/arch
/usr/local/src/CPAN/build/namespace-clean-0.24-49IJiE/blib/lib
/usr/local/src/CPAN/build/MRO-Compat-0.12-f5r2Ll/blib/arch
/usr/local/src/CPAN/build/MRO-Compat-0.12-f5r2Ll/blib/lib
/usr/local/src/CPAN/build/Class-Accessor-Grouped-0.10009-lfgBfw/blib/arch
/usr/local/src/CPAN/build/Class-Accessor-Grouped-0.10009-lfgBfw/blib/lib
/usr/local/src/CPAN/build/Class-XSAccessor-1.16-IvhYv_/blib/arch
/usr/local/src/CPAN/build/Class-XSAccessor-1.16-IvhYv_/blib/lib
/usr/local/src/CPAN/build/Acme-require-case-0.002-_VOO_z/blib/arch
/usr/local/src/CPAN/build/Acme-require-case-0.002-_VOO_z/blib/lib
/home/cpansand/var/ctps/5140_1/install/perl-5.14.0/lib/site_perl/5.14.0/i386-freebsd
/home/cpansand/var/ctps/5140_1/install/perl-5.14.0/lib/site_perl/5.14.0
/home/cpansand/var/ctps/5140_1/install/perl-5.14.0/lib/5.14.0/i386-freebsd
/home/cpansand/var/ctps/5140_1/install/perl-5.14.0/lib/5.14.0
.