Dist-Zilla-Plugin-ChangeStats-Git v0.6.0 Perl 5 v5.42.0 x86_64-linux

Status
Pass
From
Slaven Rezić
Dist
Dist-Zilla-Plugin-ChangeStats-Git v0.6.0
Platform
Perl 5 v5.42.0 x86_64-linux
Date
2025-08-31 16:10:13
ID
f9b54c70-8684-11f0-851c-c9326e8775ea
This distribution has been tested as part of the CPAN Testers
project, supporting the Perl programming language.  See
http://wiki.cpantesters.org/ for more information or email
questions to cpan-testers-discuss@perl.org


--
Dear Yanick Champoux,

This is a computer-generated report for Dist-Zilla-Plugin-ChangeStats-Git-0.6.0
on perl 5.42.0, created by CPAN-Reporter-1.2020.

Thank you for uploading your work to CPAN.  Congratulations!
All tests were successful.

Sections of this report:

    * Tester comments
    * Program output
    * Prerequisites
    * Environment and other context

------------------------------
TESTER COMMENTS
------------------------------

Additional comments from tester:

none provided

------------------------------
PROGRAM OUTPUT
------------------------------

Output from '/usr/bin/make test':

PERL_DL_NONLAZY=1 "/opt/perl-5.42.0/bin/perl" "-MExtUtils::Command::MM" "-MTest::Harness" "-e" "undef *Test::Harness::Switches; test_harness(0, 'blib/lib', 'blib/arch')" t/*.t
t/00-compile.t ......... ok
# 
# Versions for all modules listed in MYMETA.json (including optional ones):
# 
# === Configure Requires ===
# 
#     Module              Want Have
#     ------------------- ---- ----
#     ExtUtils::MakeMaker  any 7.76
# 
# === Build Requires ===
# 
#     Module              Want Have
#     ------------------- ---- ----
#     ExtUtils::MakeMaker  any 7.76
# 
# === Test Requires ===
# 
#     Module              Want     Have
#     ------------------- ---- --------
#     ExtUtils::MakeMaker  any     7.76
#     File::Spec           any     3.94
#     IO::Handle           any     1.55
#     IPC::Open3           any     1.24
#     Test::DZil           any    6.033
#     Test::More           any 1.302210
# 
# === Test Recommends ===
# 
#     Module         Want     Have
#     ---------- -------- --------
#     CPAN::Meta 2.120900 2.150010
# 
# === Runtime Requires ===
# 
#     Module                          Want     Have
#     ------------------------------- ---- --------
#     CPAN::Changes                   0.17 0.500005
#     Dist::Zilla::Role::AfterRelease  any    6.033
#     Dist::Zilla::Role::FileMunger    any    6.033
#     Dist::Zilla::Role::Plugin        any    6.033
#     Git::Repository                  any    1.325
#     List::Util                       any     1.70
#     Module::Load                     any     0.36
#     Moose                            any   2.4000
#     Moose::Role                      any   2.4000
#     Moose::Util                      any   2.4000
#     MooseX::Role::Parameterized      any     1.11
#     Path::Tiny                       any    0.148
#     Perl::Version                    any    1.018
#     Try::Tiny                        any     0.32
#     strict                           any     1.14
#     warnings                         any     1.74
# 
t/00-report-prereqs.t .. ok
t/basic.t .............. skipped: need to create sub-git repo for tests
All tests successful.
Files=3, Tests=4,  1 wallclock secs ( 0.02 usr  0.00 sys +  0.75 cusr  0.12 csys =  0.89 CPU)
Result: PASS

------------------------------
PREREQUISITES
------------------------------

Prerequisite modules loaded:

requires:

    Module                          Need  Have    
    ------------------------------- ----- --------
    CPAN::Changes                   0.17  0.500005
    Dist::Zilla::Role::AfterRelease 0     6.033   
    Dist::Zilla::Role::FileMunger   0     6.033   
    Dist::Zilla::Role::Plugin       0     6.033   
    Git::Repository                 0     1.325   
    List::Util                      0     1.70    
    Module::Load                    0     0.36    
    Moose                           0     2.4000  
    Moose::Role                     0     2.4000  
    Moose::Util                     0     2.4000  
    MooseX::Role::Parameterized     0     1.11    
    Path::Tiny                      0     0.148   
    perl                            5.006 5.042000
    Perl::Version                   0     1.018   
    strict                          0     1.14    
    Try::Tiny                       0     0.32    
    warnings                        0     1.74    

build_requires:

    Module                          Need  Have    
    ------------------------------- ----- --------
    ExtUtils::MakeMaker             0     7.76    
    File::Spec                      0     3.94    
    IO::Handle                      0     1.55    
    IPC::Open3                      0     1.24    
    Test::DZil                      0     6.033   
    Test::More                      0     1.302210

configure_requires:

    Module                          Need  Have    
    ------------------------------- ----- --------
    ExtUtils::MakeMaker             0     7.76    


------------------------------
ENVIRONMENT AND OTHER CONTEXT
------------------------------

Environment variables:

    LANG = en_US.UTF-8
    PATH = /usr/local/bin:/usr/bin:/bin:/usr/local/sbin:/usr/sbin:/sbin:/home/cpansand/bin/linux-gnu:/home/cpansand/bin/sh:/home/cpansand/bin:/usr/games:/home/cpansand/devel:/home/eserte/src/srezic-misc/scripts
    PERL5LIB = 
    PERL5OPT = 
    PERL5_CPANPLUS_IS_RUNNING = 340030
    PERL5_CPAN_IS_RUNNING = 340030
    PERL5_CPAN_IS_RUNNING_IN_RECURSION = 266030,340030
    PERLDOC = -MPod::Perldoc::ToTextOverstrike
    PERL_BATCH = yes
    PERL_CANARY_STABILITY_NOPROMPT = 1
    PERL_CPAN_REPORTER_CONFIG = /var/tmp/cpansmoker-1023/2025083108/cpanreporter_000_config.ini
    PERL_EXTUTILS_AUTOINSTALL = --defaultdeps
    PERL_USE_UNSAFE_INC = 1
    SHELL = /usr/bin/zsh
    TERM = screen
    TMPDIR = /var/tmp/cpansmoker-1023/2025083108

Perl special variables (and OS-specific diagnostics, for MSWin32):

    $^X = /opt/perl-5.42.0/bin/perl
    $UID/$EUID = 1023 / 1023
    $GID = 1023 1023
    $EGID = 1023 1023

Perl module toolchain versions installed:

    Module              Have    
    ------------------- --------
    CPAN                2.38    
    CPAN::Meta          2.150010
    Cwd                 3.94    
    ExtUtils::CBuilder  0.280242
    ExtUtils::Command   7.76    
    ExtUtils::Install   2.22    
    ExtUtils::MakeMaker 7.76    
    ExtUtils::Manifest  1.75    
    ExtUtils::ParseXS   3.58    
    File::Spec          3.94    
    JSON                4.10    
    JSON::PP            4.16    
    Module::Build       0.4234  
    Module::Signature   n/a     
    Parse::CPAN::Meta   2.150010
    Test2               1.302210
    Test::Harness       3.50    
    Test::More          1.302210
    YAML                1.31    
    YAML::Syck          1.34    
    version             0.9933  


--

Summary of my perl5 (revision 5 version 42 subversion 0) configuration:
   
  Platform:
    osname=linux
    osvers=6.15.3-200.fc42.x86_64
    archname=x86_64-linux
    uname='linux cloud4.bbbike.org 6.15.3-200.fc42.x86_64 #1 smp preempt_dynamic thu jun 19 15:00:25 utc 2025 x86_64 gnulinux '
    config_args='-ds -e -Dprefix=/opt/perl-5.42.0 -Uinstallusrbinperl -Dcf_email=srezic@cpan.org'
    hint=recommended
    useposix=true
    d_sigaction=define
    useithreads=undef
    usemultiplicity=undef
    use64bitint=define
    use64bitall=define
    uselongdouble=undef
    usemymalloc=n
    default_inc_excludes_dot=define
  Compiler:
    cc='cc'
    ccflags ='-fwrapv -fno-strict-aliasing -pipe -fstack-protector-strong -I/usr/local/include -D_LARGEFILE_SOURCE -D_FILE_OFFSET_BITS=64 -D_FORTIFY_SOURCE=2'
    optimize='-O2'
    cppflags='-fwrapv -fno-strict-aliasing -pipe -fstack-protector-strong -I/usr/local/include'
    ccversion=''
    gccversion='15.1.1 20250521 (Red Hat 15.1.1-2)'
    gccosandvers=''
    intsize=4
    longsize=8
    ptrsize=8
    doublesize=8
    byteorder=12345678
    doublekind=3
    d_longlong=define
    longlongsize=8
    d_longdbl=define
    longdblsize=16
    longdblkind=3
    ivtype='long'
    ivsize=8
    nvtype='double'
    nvsize=8
    Off_t='off_t'
    lseeksize=8
    alignbytes=8
    prototype=define
  Linker and Libraries:
    ld='cc'
    ldflags =' -fstack-protector-strong -L/usr/local/lib'
    libpth=/usr/local/lib /usr/lib /usr/lib64 /usr/local/lib64
    libs=-lpthread -ldb -ldl -lm -lcrypt -lutil -lc
    perllibs=-lpthread -ldl -lm -lcrypt -lutil -lc
    libc=/lib/../lib64/libc.so.6
    so=so
    useshrplib=false
    libperl=libperl.a
    gnulibc_version='2.41'
  Dynamic Linking:
    dlsrc=dl_dlopen.xs
    dlext=so
    d_dlsymun=undef
    ccdlflags='-Wl,-E'
    cccdlflags='-fPIC'
    lddlflags='-shared -O2 -L/usr/local/lib -fstack-protector-strong'


Characteristics of this binary (from libperl): 
  Compile-time options:
    HAS_LONG_DOUBLE
    HAS_STRTOLD
    HAS_TIMES
    PERLIO_LAYERS
    PERL_COPY_ON_WRITE
    PERL_DONT_CREATE_GVSV
    PERL_HASH_FUNC_SIPHASH13
    PERL_HASH_USE_SBOX32
    PERL_MALLOC_WRAP
    PERL_OP_PARENT
    PERL_PRESERVE_IVUV
    PERL_USE_SAFE_PUTENV
    USE_64_BIT_ALL
    USE_64_BIT_INT
    USE_LARGE_FILES
    USE_LOCALE
    USE_LOCALE_COLLATE
    USE_LOCALE_CTYPE
    USE_LOCALE_NUMERIC
    USE_LOCALE_TIME
    USE_PERLIO
    USE_PERL_ATOF
  Built under linux
  Compiled at Jul  3 2025 20:29:11
  %ENV:
    PERL5LIB=""
    PERL5OPT=""
    PERL5_CPANPLUS_IS_RUNNING="340030"
    PERL5_CPAN_IS_RUNNING="340030"
    PERL5_CPAN_IS_RUNNING_IN_RECURSION="266030,340030"
    PERLDOC="-MPod::Perldoc::ToTextOverstrike"
    PERL_BATCH="yes"
    PERL_CANARY_STABILITY_NOPROMPT="1"
    PERL_CPAN_REPORTER_CONFIG="/var/tmp/cpansmoker-1023/2025083108/cpanreporter_000_config.ini"
    PERL_EXTUTILS_AUTOINSTALL="--defaultdeps"
    PERL_USE_UNSAFE_INC="1"
  @INC:
    /opt/perl-5.42.0/lib/site_perl/5.42.0/x86_64-linux
    /opt/perl-5.42.0/lib/site_perl/5.42.0
    /opt/perl-5.42.0/lib/5.42.0/x86_64-linux
    /opt/perl-5.42.0/lib/5.42.0
    .