HTTP-Daemon-Patch-IPv6 v0.06 Perl 5 v5.34.1 x86_64-linux-thread-multi
- Status
- Pass
- From
- Chris Hills
- Dist
-
HTTP-Daemon-Patch-IPv6 v0.06
- Platform
- Perl 5 v5.34.1 x86_64-linux-thread-multi
- Date
- 2022-03-21 16:07:15
- ID
- f9c62d2c-a930-11ec-b7bd-1da0ffb87a57
This distribution has been tested as part of the CPAN Testers
project, supporting the Perl programming language. See
http://wiki.cpantesters.org/ for more information or email
questions to cpan-testers-discuss@perl.org
--
Dear SHARYANTO,
This is a computer-generated report for HTTP-Daemon-Patch-IPv6-0.06
on perl 5.34.1, created by App::cpanminus::reporter 0.17 (1.7044).
Thank you for uploading your work to CPAN. Congratulations!
All tests were successful.
Sections of this report:
* Tester comments
* Program output
* Prerequisites
* Environment and other context
------------------------------
TESTER COMMENTS
------------------------------
Additional comments from tester:
none provided
------------------------------
PROGRAM OUTPUT
------------------------------
Output from '':
Building and testing HTTP-Daemon-Patch-IPv6-0.06
Building HTTP-Daemon-Patch-IPv6
t/00-compile.t ............ ok
t/release-pod-coverage.t .. skipped: these tests are for release candidate testing
t/release-pod-syntax.t .... skipped: these tests are for release candidate testing
All tests successful.
Files=3, Tests=1, 0 wallclock secs ( 0.02 usr 0.00 sys + 0.17 cusr 0.03 csys = 0.22 CPU)
Result: PASS
------------------------------
PREREQUISITES
------------------------------
Prerequisite modules loaded:
No requirements found
------------------------------
ENVIRONMENT AND OTHER CONTEXT
------------------------------
Environment variables:
LANG = en_GB.UTF-8
PATH = /home/chaz/perl5/bin:/home/chaz/.local/local/apache-maven/bin:/home/chaz/.dotnet/tools:/home/chaz/go/bin:/home/chaz/.cargo/bin:/home/chaz/bin:/home/chaz/.local/bin:/home/chaz/perl5/bin:/usr/share/Modules/bin:/usr/local/bin:/usr/bin:/usr/local/sbin:/usr/sbin:/home/chaz/.dotnet/tools
PERL5LIB = /home/chaz/perl5/lib/perl5:/home/chaz/perl5/lib/perl5
PERL_CPANM_OPT = --from https://www.cpan.org
PERL_LOCAL_LIB_ROOT = /home/chaz/perl5:/home/chaz/perl5
PERL_MB_OPT = --install_base "/home/chaz/perl5"
PERL_MM_OPT = INSTALL_BASE=/home/chaz/perl5
SHELL = /bin/bash
TERM = screen-256color
Perl special variables (and OS-specific diagnostics, for MSWin32):
EGID = 1000 10 63 986 1000
EUID = 1000
EXECUTABLE_NAME = /home/chaz/.local/local/perl-5.34.1/bin/perl
GID = 1000 10 63 986 1000
UID = 1000
Perl module toolchain versions installed:
Module Have
------------------- --------
CPAN 2.28
CPAN::Meta 2.150010
Cwd 3.80
ExtUtils::CBuilder 0.280236
ExtUtils::Command 7.62
ExtUtils::Install 2.20
ExtUtils::MakeMaker 7.62
ExtUtils::Manifest 1.73
ExtUtils::ParseXS 3.43
File::Spec 3.80
JSON 4.03
JSON::PP 4.06
Module::Build 0.4231
Module::Signature n/a
Parse::CPAN::Meta 2.150010
Test::Harness 3.43
Test::More 1.302183
YAML 1.30
YAML::Syck n/a
version 0.9928
--
Summary of my perl5 (revision 5 version 34 subversion 1) configuration:
Platform:
osname=linux
osvers=4.18.0-348.20.1.el8_5.x86_64
archname=x86_64-linux-thread-multi
uname='linux gbhnksv001.foxhole.furry.be 4.18.0-348.20.1.el8_5.x86_64 #1 smp thu mar 10 11:31:47 est 2022 x86_64 gnulinux '
config_args='-des -Dprefix=/home/chaz/.local/local/perl-5.34.1 -Duseshrplib -Dusethreads -Dcc=clang -Accflags=-march=x86-64-v3'
hint=recommended
useposix=true
d_sigaction=define
useithreads=define
usemultiplicity=define
use64bitint=define
use64bitall=define
uselongdouble=undef
usemymalloc=n
default_inc_excludes_dot=define
Compiler:
cc='clang'
ccflags ='-D_REENTRANT -D_GNU_SOURCE -march=x86-64-v3 -fno-strict-aliasing -pipe -fstack-protector-strong -I/usr/local/include -D_LARGEFILE_SOURCE -D_FILE_OFFSET_BITS=64'
optimize='-O2'
cppflags='-D_REENTRANT -D_GNU_SOURCE -march=x86-64-v3 -fno-strict-aliasing -pipe -fstack-protector-strong -I/usr/local/include'
ccversion=''
gccversion='Clang 12.0.1 (Red Hat 12.0.1-4.module_el8.4.0+2600+cefb5d4c)'
gccosandvers=''
intsize=4
longsize=8
ptrsize=8
doublesize=8
byteorder=12345678
doublekind=3
d_longlong=define
longlongsize=8
d_longdbl=define
longdblsize=16
longdblkind=3
ivtype='long'
ivsize=8
nvtype='double'
nvsize=8
Off_t='off_t'
lseeksize=8
alignbytes=8
prototype=define
Linker and Libraries:
ld='clang'
ldflags =' -fstack-protector-strong -L/usr/local/lib'
libpth=/usr/local/lib /usr/lib64/clang/12.0.1/lib /usr/lib /usr/lib64 /usr/local/lib64
libs=-lpthread -lnsl -lgdbm -ldb -ldl -lm -lcrypt -lutil -lc -lgdbm_compat
perllibs=-lpthread -lnsl -ldl -lm -lcrypt -lutil -lc
libc=libc-2.28.so
so=so
useshrplib=true
libperl=libperl.so
gnulibc_version='2.28'
Dynamic Linking:
dlsrc=dl_dlopen.xs
dlext=so
d_dlsymun=undef
ccdlflags='-Wl,-E -Wl,-rpath,/home/chaz/.local/local/perl-5.34.1/lib/5.34.1/x86_64-linux-thread-multi/CORE'
cccdlflags='-fPIC'
lddlflags='-shared -O2 -L/usr/local/lib -fstack-protector-strong'
Characteristics of this binary (from libperl):
Compile-time options:
HAS_TIMES
MULTIPLICITY
PERLIO_LAYERS
PERL_COPY_ON_WRITE
PERL_DONT_CREATE_GVSV
PERL_IMPLICIT_CONTEXT
PERL_MALLOC_WRAP
PERL_OP_PARENT
PERL_PRESERVE_IVUV
USE_64_BIT_ALL
USE_64_BIT_INT
USE_ITHREADS
USE_LARGE_FILES
USE_LOCALE
USE_LOCALE_COLLATE
USE_LOCALE_CTYPE
USE_LOCALE_NUMERIC
USE_LOCALE_TIME
USE_PERLIO
USE_PERL_ATOF
USE_REENTRANT_API
USE_THREAD_SAFE_LOCALE
Built under linux
Compiled at Mar 13 2022 22:10:52
%ENV:
PERL5LIB="/home/chaz/perl5/lib/perl5:/home/chaz/perl5/lib/perl5"
PERL_CPANM_OPT="--from https://www.cpan.org"
PERL_LOCAL_LIB_ROOT="/home/chaz/perl5:/home/chaz/perl5"
PERL_MB_OPT="--install_base "/home/chaz/perl5""
PERL_MM_OPT="INSTALL_BASE=/home/chaz/perl5"
@INC:
/home/chaz/perl5/lib/perl5/x86_64-linux-thread-multi
/home/chaz/perl5/lib/perl5
/home/chaz/perl5/lib/perl5/x86_64-linux-thread-multi
/home/chaz/perl5/lib/perl5
/home/chaz/.local/local/perl-5.34.1/lib/site_perl/5.34.1/x86_64-linux-thread-multi
/home/chaz/.local/local/perl-5.34.1/lib/site_perl/5.34.1
/home/chaz/.local/local/perl-5.34.1/lib/5.34.1/x86_64-linux-thread-multi
/home/chaz/.local/local/perl-5.34.1/lib/5.34.1